{"text_format":"3","workbook":"xlsx","n_sheets":17,"sheets":["西北地区 青海18","西北地区 陕西91","华东地区 广东6","华东地区 福建67家 ","华中地区 河南省58","华中地区 湖南144","华南地区 海南14","华北地区 河北260","华北地区 天津12","东北地区 吉林58","华东地区 江苏省5","华东地区 江西142","西北地区 甘肃54","西北地区 宁夏23","西南地区 云南155","西南地区 四川166","东北地区 辽宁省33"],"not_rendered":{"external_links":1,"defined_names":1},"read":"whole","date_system":"1900"}

{"sheet":"西北地区 青海18","index":0,"n_rows":35,"n_cols":3,"rows_kept":35,"merged":[[0,0,0,2],[22,0,22,2],[23,0,23,2],[24,0,24,2],[31,0,31,2],[32,0,32,2],[33,0,33,2],[34,0,34,2],[35,0,35,2]]}
["青海省水泥企业（含粉磨站）2016年度电耗核定结果"]
["序号","企业名称","可比水泥综合电耗"]
[0,"无","93 kWh/t以下"]
[0,"无","90 kWh/t—93 kWh/t"]
[1,"青海水泥股份有限公司","90 kWh/t以下"]
[2,"青海盐湖海纳化工有限公司","90 kWh/t以下"]
[3,"青海祁连山水泥有限公司","90 kWh/t以下"]
[4,"民和祁连山水泥有限公司","90 kWh/t以下"]
[5,"青海互助金圆水泥有限公司","90 kWh/t以下"]
[6,"青海宏扬水泥有限责任公司","90 kWh/t以下"]
[7,"青海金鼎水泥有限公司","90 kWh/t以下"]
[8,"青海海西化工建材股份有限公司","90 kWh/t以下"]
[9,"青海省新型建材工贸有限责任公司","90 kWh/t以下"]
[10,"青海乐都华夏水泥有限公司","90 kWh/t以下"]
[11,"青海江河源水泥有限公司","90 kWh/t以下"]
[12,"共和县祁连山金河水泥有限责任公司","90 kWh/t以下"]
[13,"青海湖水泥有限责任公司","90 kWh/t以下"]
[14,"格尔木合源商砼有限公司","90 kWh/t以下"]
[15,"民和永固水泥有限公司","90 kWh/t以下"]
[16,"青海民和金圆水泥有限公司","90 kWh/t以下"]
[17,"化隆华夏水泥有限公司","90 kWh/t以下"]
[18,"青海盐湖新域资产管理有限公司格尔木分公司","90 kWh/t以下"]
["说明："]
["格尔木市启亮工贸有限责任公司处于非正常生产状态，无法核算电耗数据；"]
["青海强通水泥有限公司生产经营相关证明文件不完整，未完整提供生产能耗报表、原始记录、财务凭证等，无法核算电耗数据。"]
{"$rows_empty":8}
["陕西"]
["水泥行业企业2016年度单位产品综合电耗情况表"]

{"sheet":"西北地区 陕西91","index":1,"n_rows":100,"n_cols":8,"rows_kept":100,"merged":[[0,0,6,0],[0,1,6,1],[0,3,1,6],[0,7,6,7],[2,3,2,4],[2,5,2,6],[3,3,3,4],[3,5,3,6],[4,3,4,4],[4,5,4,6],[5,2,6,2],[5,3,6,3],[5,5,6,5],[7,0,7,7],[52,0,52,7]]}
["序号","企业名称","2016年企业电力消","2016年度单位产品电耗及达标情况",{"$nulls":3},"备注"]
[null,null,"耗量"]
[null,null,"(万kW·h )","可比熟料",null,"可比水泥"]
[{"$nulls":3},"综合电耗",null,"综合电耗"]
[{"$nulls":3},"（kW·h /t）",null,"（kW·h/t）"]
[null,null,"数值","数值","是否","数值","是否"]
[{"$nulls":4},"达标",null,"达标"]
["一、水泥生产企业"]
[1,"西安蓝田尧柏水泥有限公司",9710.19,59.48,"是",76.14,"是"]
[2,"千阳海螺水泥有限责任公司",11716.33,56.72,"是",79.02,"是"]
[3,"陕西社会水泥有限责任公司",2584.55,63.52,"是",76.42,"是"]
[4,"凤县声威建材有限公司",4419.36,57.93,"是",80.3,"是"]
[5,"冀东水泥凤翔有限责任公司",10487.28,56.84,"是",75.93,"是"]
[6,"宝鸡众喜金陵河水泥有限公司",9494.61,61.42,"是",82.34,"是"]
[7,"宝鸡众喜凤凰山水泥有限公司",11929.87,60.77,"是",79.74,"是"]
[8,"陕西石头河水泥有限公司",262.98,"/","/",39.14,"是"]
[9,"冀东海德堡（扶风）水泥有限公司",21603.25,56.88,"是",87.75,"是"]
[10,"宝鸡市秦星白水泥有限责任公司","/","/","/","/","/","特种水泥不在监察考核范围内"]
[11,"乾县海螺水泥有限责任公司",11585,58.35,"是",75.84,"是"]
[12,"礼泉海螺水泥有限责任公司",20209.44,55.73,"是",75.37,"是"]
[13,"陕西声威水泥有限公司",11134.49,59.9,"是",76.68,"是"]
[14,"泾阳冀东水泥有限公司",20127.68,52.86,"是",74.2,"是"]
[15,"铜川声威建材有限责任公司",25047.78,62.46,"是",82.43,"是"]
[16,"铜川声威特种水泥有限公司",65222.432,63.32,"是",88.91,"是"]
[17,"陕西省满意水泥有限责任公司",11151.0838,62.74,"是",87.93,"是"]
[18,"陕西铜川凤凰建材有限公司",10723.812,"/","/",85.11,"是"]
[19,"冀东水泥铜川有限公司",13800,63.16,"是",86.14,"是"]
[20,"陕西省药王山生态水泥有限责任公司",8053.6,58.93,"是",81.02,"是"]
[21,"陕西实丰水泥股份有限公司",8225.16,59.2,"是",77.95,"是"]
[22,"陕西富平生态水泥有限公司",19556.46,58.73,"是",83.15,"是"]
[23,"陕西富平水泥有限公司",8636.99,59.31,"是",78.83,"是"]
[24,"尧柏特种水泥集团蒲城分公司",9169.67,61.69,"是",77.69,"是"]
[25,"陕西北元集团水泥有限公司",16777.64,60.95,"是",85.05,"是"]
[26,"吴堡冀东特种水泥有限责任公司",3574.36,"/","/",89.34,"是"]
[27,"神木县锦龙水泥有限责任公司",244.968,"/","/",39.7,"是"]
[28,"陕西省府谷县天桥水泥厂","/","/","/","/","/","企业停产"]
[29,"府谷县长城矿业有限公司","/","/","/","/","/","企业停产"]
[30,"神东天隆集团府谷天桥水泥有限责任公司",18.13,"/","/",36.62,"是"]
[31,"中材汉江水泥股份有限公司",17820.14,"/","/",85.62,"是"]
[32,"汉中尧柏水泥有限公司",8583.5,56.51,"是",74.22,"是"]
[33,"汉中西乡尧柏水泥有限公司",8096.43,58.76,"是",79.05,"是"]
[34,"汉中勉县尧柏水泥有限公司",10096.224,58.5,"是",69.52,"是"]
[35,"略阳县象山水泥有限公司",1677.35,63.96,"是",89.74,"是"]
[36,"安康市尧柏水泥有限责任公司",8780.25,54.83,"是",68.62,"是"]
[37,"安康尧柏江华水泥有限公司",3730.02,"/","/",31.7,"是"]
[38,"陕西金龙水泥有限公司",9191.67,62.59,"是",77.32,"是"]
[39,"商洛尧柏龙桥水泥有限公司（丹凤二线）",12134.79,56.53,"是",70.26,"是"]
[40,"商洛尧柏龙桥水泥有限公司（留仙坪厂）",12134.79,56.53,"是",70.26,"是"]
[41,"商洛尧柏龙桥水泥有限公司洛南分公司","/","/","/","/","/","企业停产"]
[42,"商洛尧柏秀山水泥有限公司",5707.68,62.57,"是",87.55,"是"]
[43,"韩城韩禹建材矿业有限责任公司",4318.9,63.76,"是",86.8,"是"]
[44,"韩城尧柏阳山庄水泥有限公司",9139.2,52.97,"是",60.23,"是"]
["二、水泥粉磨站"]
[45,"陕西鸿洲水泥有限责任公司",827.61,"/","/",36.07,"是"]
[46,"西安千王高晖水泥有限公司",578.62,"/","/",37.36,"是"]
[47,"西安雁塔大王水泥有限公司",427.59,"/","/",38.37,"是"]
[48,"西安顺宇水泥有限公司","/","/","/","/","/","企业停产"]
[49,"西安新祁连实业有限公司",203.22,"/","/",35,"是"]
[50,"西安楼台水泥制造有限公司",244.74,"/","/",37.37,"是"]
[51,"陕西省天柱水泥制造有限责任公司",238.64,"/","/",35.37,"是"]
[52,"三原恒安建材有限责任公司",471.53,"/","/",28.18,"是"]
[53,"陕西三原凯迪生态水泥有限公司",309.35,"/","/",23.48,"是"]
[54,"咸阳天喜建材有限责任公司",538.23,"/","/",35.15,"是"]
[55,"铜川市耀州区碧岩水泥有限公司","/","/","/","/","/","属落后产能，已列入淘汰计划"]
[56,"铜川市耀州区轩辕水泥厂",3928.68,"/","/",39.84,"是"]
[57,"铜川市耀州区东立水泥厂",285.18,"/","/",39.67,"是"]
[58,"铜川市耀州区鑫辕建材有限公司",2814.36,"/","/",30.61,"是"]
[59,"陕西东方建材有限公司","/","/","/","/","/","企业自2016年1月停产至今"]
[60,"铜川鼎新水泥有限责任公司",955.5,"/","/",38.8,"是"]
[61,"铜川药王山特种水泥有限责任公司","/","/","/","/","/","属落后产能，已列入淘汰计划"]
[62,"铜川市耀州建秦水泥有限公司",155.1829,"/","/",46.42,"否"]
[63,"铜川矿山水泥有限公司",643.1755,"/","/",37.89,"是"]
[64,"铜川市孙塬水泥有限公司",740.411,"/","/",39.65,"是"]
[65,"铜川骊山建材有限责任公司",561.4717,"/","/",32.79,"是"]
[66,"陕西崤山水泥有限公司",662.75,"/","/",36.44,"是"]
[67,"蒲城永锋水泥有限责任公司","/","/","/","/","/","企业停产"]
[68,"铜川声威建材有限责任公司安塞分公司",5133.75,"/","/",32.68,"是"]
[69,"神木县煤建水泥有限公司",1023.5128,"/","/",36.23,"是"]
[70,"榆林山水水泥有限公司",901.922,"/","/",36.86,"是"]
[71,"榆林恒源利尔新型建材科技有限公司",1398.65,"/","/",35.53,"是"]
[72,"靖边县山水水泥有限公司",538.58,"/","/",28.16,"是"]
[73,"铜川声威建材有限责任公司榆林分公司",1308.3,"/","/",35.81,"是"]
[74,"榆林山水环保建材有限公司",586.4013,"/","/",28.77,"是"]
[75,"陕西省府谷县大庄水泥有限责任公司",87.8794,"/","/",37.53,"是"]
[76,"汉中市汉江水泥厂",554.8,"/","/",35.37,"是"]
[77,"南郑县中梁建材有限公司",409.71,"/","/",38.95,"是"]
[78,"汉中胶东水泥有限公司",95.5,"/","/",38.45,"是"]
[79,"勉县温泉水泥有限责任公司",479.63,"/","/",36.08,"是"]
[80,"勉县定军山水泥有限公司",592.82,"/","/",35.04,"是"]
[81,"城固县福盛水泥有限公司",346.61,"/","/",37.75,"是"]
[82,"陕西省白河县金龙建材有限公司",912.07,"/","/",39.78,"是"]
[83,"汉阴金圣建材有限公司",499.15,"/","/",39.56,"是"]
[84,"陕西省石泉县秦峰水泥有限公司",543.41,"/","/",39.48,"是"]
[85,"陕西安康健平水泥有限责任公司",411.35,"/","/",36.38,"是"]
[86,"安康市康宝建材有限责任公司","/","/","/","/","/","企业正在搬迁"]
[87,"山阳县秦阳建材有限责任公司",740.31,"/","/",37.84,"是"]
[88,"陕西省商南县秦东东岗水泥厂",2102.17,"/","/",39.18,"是"]
[89,"商南县水泥建材有限公司",486.1,"/","/",39.68,"是"]
[90,"商洛君隆实业有限责任公司/",425.42,"/","/",38.89,"是"]
[91,"韩城迪源建材有限责任公司",52,"/","/",38.03,"是"]

{"sheet":"华东地区 广东6","index":2,"n_rows":7,"n_cols":5,"rows_kept":7}
["序号","企业名称","类型","投产时间","2016年单位产品\n可比综合电耗"]
[1,"中材亨达水泥有限公司郁南分公司","水泥生产线","2013年10月1日前",">93kW·h/t"]
[2,"梅县凯盛旋窑水泥有限公司","水泥生产线","2013年10月1日前","能耗数据无法溯源"]
[3,"蕉岭县双福建材有限公司","粉磨站","2013年10月1日前",">40kW·h/t；<40kW·h/t"]
[4,"英德市龙鑫旋窑水泥有限责任公司","粉磨站","2013年10月1日前","能耗数据无法溯源"]
[5,"英德市翔发旋窑水泥有限责任公司","粉磨站","2013年10月1日前","能耗数据无法溯源"]
[6,"英德市德力旋窑水泥有限责任公司","粉磨站","2013年10月1日前","能耗数据无法溯源"]

{"sheet":"华东地区 福建67家 ","index":3,"n_rows":16,"n_cols":4,"rows_kept":16,"merged":[[0,1,0,2],[1,0,3,0],[1,1,3,1],[4,0,7,0],[4,1,7,1],[8,0,11,0],[8,1,11,1],[12,0,15,0],[12,1,15,1]]}
["序号","内容",null,"数据"]
[1,"总体情况","企业总数量",67]
[null,null,"2016年企业熟料产量总计（万t）",4340.37]
[null,null,"2016年企业水泥产量总计（万t）",6260.58]
[2,"完整水泥生产线企业总体达标情况","企业家数",29]
[null,null,"达标企业家数",29]
[null,null,"达标率（%）",100]
[null,null,"加价企业家数",0]
[3,"熟料生产线企业总体达标情况","企业家数",1]
[null,null,"达标企业家数",1]
[null,null,"达标率（%）",100]
[null,null,"加价企业家数",0]
[4,"水泥粉磨站企业总体达标情况","企业家数",37]
[null,null,"达标企业家数",37]
[null,null,"达标率（%）",100]
[null,null,"加价企业家数",0]

{"sheet":"华中地区 河南省58","index":4,"n_rows":65,"n_cols":17,"rows_kept":65,"merged":[[0,0,0,16],[1,0,1,16],[2,0,4,0],[2,1,4,1],[2,2,4,2],[2,3,4,3],[2,4,4,4],[2,5,4,5],[2,6,2,15],[2,16,4,16],[3,6,3,7],[3,8,3,9],[3,10,3,11],[3,12,3,13],[3,14,3,15],[32,0,33,0],[32,1,33,1],[32,2,33,2],[32,3,33,3],[32,4,33,4],[32,5,33,5],[64,0,64,1]]}
["河南省水泥行业企业能耗限额标准达标情况汇总表"]
["河南省工业和信息化委员会（盖章）                                                                                                                 监察年度：2016"]
["序号","企业名称","熟料产量（万t）","水泥产量（万t）","电力消耗量(万kW·h)","燃料消耗量（万tce）","达标情况",{"$nulls":9},"备注"]
[{"$nulls":6},"可比熟料综合煤耗（kgce/t）",null,"可比熟料综合电耗（kW·h/t）",null,"可比水泥综合电耗（万kW·h/t）",null,"可比熟料综合能耗（kgce/t）",null,"可比水泥综合能耗（kgce/t）"]
[{"$nulls":6},"数值","是否达标","数值","是否达标","数值","是否达标","数值","是否达标","数值","是否达标"]
[1,"中国联合水泥集团有限公司南阳分公司",142.69,146.36,13049.19,15.52,103.1,"是",53.42,"是",70.91,"是",109.67,"是",84.14,"是"]
[2,"南阳中联卧龙水泥有限公司",89.22,77.59,8277.95,12.04,101.61,"是",58.69,"是",78.48,"是",108.82,"是",86.05,"是"]
[3,"邓州中联水泥有限公司",70.68,102.78,7966.69,7.75,103.97,"是",56.7,"是",79.13,"是",110.94,"是",86.94,"是"]
[4,"淅川中联水泥有限公司",80.82,null,4778.05,9.52,109.97,"是",57.45,"是",null,null,117.03,"是"]
[5,"天瑞集团南召水泥有限公司",122.2,173.79,9885.87,14.1,104.5,"是",56.56,"是",78.33,"是",111.45,"是",85.93,"是"]
[6,"方城县宛北水泥有限责任公司",87.16,97.69,7480.56,10.78,106.21,"是",60.39,"是",85.44,"是",113.63,"是",84.04,"是"]
[7,"内乡县泰隆建材有限公司",33.62,59.43,4452.85,3.68,102.65,"是",56.16,"是",73.97,"是",109.55,"是",69.72,"是"]
[8,"唐河泰隆水泥有限公司",73.05,31.56,7220.22,8.06,103.24,"是",59.29,"是",85.56,"是",110.53,"是",74.28,"是"]
[9,"南阳市天泰水泥有限公司",46.8,117.21,7759.13,5.38,108.18,"是",62.5,"是",81.48,"是",115.86,"是",81.72,"是"]
[10,"内乡宝天曼水泥有限公司",63.04,null,4981.98,6.7,100.19,"是",60.35,"是",null,null,107.61,"是"]
[11,"华新水泥（河南信阳）有限公司",156.71,161.21,10620.88,14.89,92.03,"是",54.3,"是",83.91,"是",98.7,"是",85.51,"是"]
[12,"天瑞集团光山水泥有限公司",135.55,156.64,9990.41,14.76,102.4,"是",59.96,"是",83.65,"是",109.76,"是",86.18,"是"]
[13,"登封中联登电水泥有限公司",117.13,146.67,12621.79,12.56,99.89,"是",60.77,"是",79.29,"是",107.36,"是",81.47,"是"]
[14,"天瑞集团郑州水泥有限公司",271.13,308.2,25537.6,27.48,96.39,"是",54.05,"是",75.82,"是",103.03,"是",86.84,"是"]
[15,"河南永安水泥有限责任公司",59.15,97.85,7433.47,6.07,98.25,"是",62.64,"是",82.76,"是",105.95,"是",81.93,"是"]
[16,"中国长城铝业公司水泥厂",41.3,67.27,5126.29,4.29,99.44,"是",63.49,"是",77.43,"是",107.24,"是",75.59,"是"]
[17,"郑煤集团龙力水泥有限公司",{"$nulls":14},"停产"]
[18,"登封市宏昌水泥有限公司",135.17,142.14,12302.21,14.26,101.58,"是",53.41,"是",71.34,"是",108.14,"是",82.21,"是"]
[19,"天瑞新登郑州水泥有限公司",134.47,186.04,14559.18,14.66,103.46,"是",60.03,"是",75.91,"是",110.83,"是",85.66,"是"]
[20,"登封市嵩基水泥有限公司",140.95,193.03,15662.13,14.82,100.33,"是",58.07,"是",80.09,"是",107.47,"是",86.16,"是"]
[21,"郑州长城水泥股份有限公司",11.53,22.58,1711.78,1.16,96.82,"是",66.57,"否",87.75,"是",105,"是",77.1,"是","可比熟料综合电耗超标"]
[22,"河南隆鑫水泥有限责任公司",null,5.42,210.17,{"$nulls":5},78.5,"是"]
[23,"郏县中联天广水泥有限公司",111.53,95.09,9465.75,12,101.44,"是",63.76,"是",83.58,"是",109.28,"是",82.04,"是"]
[24,"河南省大地水泥有限公司",294.13,450.28,32608.47,32.77,104.52,"是",62.75,"是",74.92,"是",112.24,"是",77.07,"是"]
[25,"天瑞集团汝州水泥有限公司",178.139,224.94,18539.6,18.08,95.71,"是",60.44,"是",72.3,"是",103.14,"是",71.61,"是"]
[26,"天瑞集团裕泰水泥有限公司",61.71,90.38,5637,6.61,103.17,"是",63.72,"是",74.58,"是",111,"是",72.1,"是"]
[27,"平顶山瑞平石龙水泥有限公司",136.419,null,8584.33,14.85,103.23,"是",60.26,"是",null,null,110.63,"是"]
[28,"禹州市灵威水泥熟料有限公司",331.69,192.83,25390.17,36.29,103.54,"是",60.41,"是",74.15,"是",110.96,"是",87.06,"是","一线"]
[{"$nulls":6},103.14,"是",57.78,"是",73.21,"是",110.24,"是",84.45,"是","二线"]
[29,"天瑞集团禹州水泥有限公司",122.19,735.81,10117.29,13.25,103.45,"是",61.28,"是",74.42,"是",111,"是",77.26,"是"]
[30,"天瑞集团禹州水泥有限公司浅井分公司",131.76,158.39,13731.6,14.37,106.82,"是",61.52,"是",80.62,"是",114.38,"是",83.39,"是"]
[31,"禹州市锦信水泥有限公司",151.8,92.32,11797.47,15.92,100.81,"是",57.62,"是",73.81,"是",107.89,"是",89.49,"是"]
[32,"驻马店市豫龙同力水泥有限公司",311.9719,186.8891,16996.4,34.91,98.91,"是",55.22,"是",78.05,"是",105.69,"是",84.24,"是"]
[33,"新安中联水泥有限公司联",137.01,177.85,14591.99,14.6,102.28,"是",62.81,"是",77.54,"是",110,"是",84.91,"是"]
[34,"洛阳中联水泥有限公司",90.93,81.96,7503,9.86,101.59,"是",52.62,"是",69.1,"是",108.06,"是",80.52,"是"]
[35,"洛阳黄河同力水泥有限责任公司",283.96,279.06,27670.33,32.08,108.65,"是",59.17,"是",81.68,"是",115.92,"是",91.53,"是"]
[36,"济源中联水泥有限公司",73.83,90.65,7645.36,7.86,100.88,"是",59.85,"是",79.17,"是",108.24,"是",86.97,"是"]
[37,"河南锦荣水泥有限公司",200.35,157.3,17087.12,22.23,105.41,"是",57.41,"是",71.99,"是",112.47,"是",79.79,"是"]
[38,"三门峡腾跃同力水泥有限公司",105.33,110.89,10933,12.24,111.41,"是",61.84,"是",79.28,"是",119.01,"是",84.05,"是"]
[39,"焦作坚固水泥有限公司",63.75,37.69,5421.18,7.01,108.71,"是",61.17,"是",79.53,"是",116.23,"是",84.12,"是"]
[40,"博爱金隅水泥有限公司",68.05,113.73,8006.74,7.23,101.81,"是",62.83,"是",81.22,"是",109.53,"是",88.88,"是"]
[41,"沁阳市金隅水泥有限公司",57.64,90.88,7781.23,7.49,75.11,"是",49.15,"是",65.35,"是",81.15,"是",64.89,"是"]
[42,"焦作市千业水泥有限责任公司",186.27,225.68,21412.51,20.5,103.42,"是",63.02,"是",85.59,"是",111.16,"是",92.86,"是"]
[43,"焦作市中晶水泥有限责任公司",65.75,89.51,8330.06,7.84,108.14,"是",62.71,"是",88.21,"是",115.85,"是",86.04,"是"]
[44,"安阳中联水泥有限公司",116.4565,68.025,10321.72,12.28,99.12,"是",56.47,"是",72.88,"是",106.06,"是",80.03,"是"]
[45,"安阳中联海皇水泥有限公司",86.854,39.2902,6999.25,9.35,100.57,"是",59.54,"是",77.57,"是",107.89,"是",70.06,"是"]
[46,"安阳市新天河水泥有限责任公司",74.85,69.8999,7719.37,7.8,96.87,"是",59.91,"是",73.81,"是",104.23,"是",79.9,"是"]
[47,"安阳市湖波熟料有限公司",111.2002,51.9083,11606.46,12.14,100.91,"是",47.6,"是",68.02,"是",106.76,"是",80.06,"是"]
[48,"河南省安阳湖波水泥有限责任公司",{"$nulls":14},"2016年全年停产"]
[49,"河南省同力水泥有限公司",105.8263,90.1835,11067.53,12.31,109.62,"是",61.35,"是",88.65,"是",117.16,"是",101.78,"是"]
[50,"河南省豫鹤同力水泥有限公司",124.96,null,83939745,13.72,104.09,"是",61.14,"是",null,null,111.61,"是"]
[51,"河南孟电水泥有限公司",245.57,456.88,30182.15,26.25,101.19,"是",59.14,"是",73.28,"是",108.45,"是",81.64,"是"]
[52,"卫辉市天瑞水泥有限公司",228.7,245.87,23125.5,24.42,99.06,"是",55.13,"是",73.21,"是",105.84,"是",76.92,"是"]
[53,"卫辉市春江水泥有限公司",210.34,354.73,25001.64,14.51,100.14,"是",56.5,"是",72.61,"是",107.09,"是",76.37,"是"]
[54,"河南世纪新峰水泥有限公司",35.27,47.98,4269.68,3.67,98.62,"是",60.55,"是",81.17,"是",106.06,"是",74.36,"是"]
[55,"新乡平原同力水泥有限责任公司",132.25,72.3,11196.07,14.15,101.88,"是",61.39,"是",78.02,"是",109.43,"是",82.24,"是"]
[56,"辉县市山水水泥有限公司",128.18,null,7552.6,13.36,97.78,"是",57.28,"是",null,null,104.82,"是"]
[57,"新乡市振新水泥有限公司",80.28,133.03,8643.95,8.8,102.84,"是",57.26,"是",64.4,"是",109.88,"是",73.13,"是"]
[58,"河南省太阳石集团水泥有限公司",71.3,119.4,10972.72,8.86,102.63,"是",57.54,"是",73.25,"是",109.7,"是",80.15,"是"]
["合计",null,6928.6169,7725.086,84589282.64,748.09,{"v":101.815714285714,"d":"101.82"},null,{"v":58.9810714285714,"d":"58.98"},null,{"v":77.4023076923077,"d":"77.40"},null,{"v":109.064642857143,"d":"109.06"},null,{"v":81.7917647058823,"d":"81.79"}]

{"sheet":"华中地区 湖南144","index":5,"n_rows":147,"n_cols":8,"rows_kept":147,"merged":[[0,0,2,0],[0,1,2,1],[0,2,2,2],[0,4,1,6],[0,7,2,7],[3,1,13,1],[14,1,17,1],[18,1,27,1],[28,1,44,1],[45,1,58,1],[59,1,64,1],[65,1,81,1],[82,1,83,1],[84,1,91,1],[92,1,103,1],[104,1,114,1],[115,1,129,1],[130,1,138,1],[139,1,146,1]]}
["序号","所属市州","企业名称","可比水泥","阶梯电价加价标准（kWh/t）",null,null,"结论"]
[{"$nulls":3},"综合电耗"]
[{"$nulls":3},"（kWh/t）","第一档","第二档","第三档"]
["1     ","长沙市","长沙碧螺建材有限公司",39.09,"≤40",">40，≤42",">42","执行第一档"]
["2     ",null,"长沙河田白石建材有限公司",77.27,"≤90",">90，≤93",">93","执行第一档"]
["3     ",null,"长沙五江建材实业有限公司",35.74,"≤40",">40，≤42",">42","执行第一档"]
["4     ",null,"长沙跳马涧建材有限公司",38.54,"≤40",">40，≤42",">42","执行第一档"]
["5     ",null,"湖南浏阳南方水泥有限公司",78.2,"≤90",">90，≤93",">93","执行第一档"]
["6     ",null,"湖南坪塘南方水泥有限公司",38.33,"≤40",">40，≤42",">42","执行第一档"]
["7     ",null,"湖南省恒基韶峰建材有限公司",34.82,"≤36",">36，≤40",">40","2013.10.1后投产执行第一档"]
["8     ",null,"湖南印山实业集团印山台水泥有限公司",38.78,"≤40",">40，≤42",">42","执行第一档"]
["9     ",null,"浏阳古城粉磨水泥厂",37.14,"≤40",">40，≤42",">42","执行第一档"]
["10     ",null,"湖南宁乡南方水泥有限公司",79.77,"≤90",">90，≤93",">93","执行第一档"]
["11     ",null,"宁乡县新城建筑材料厂",34.75,"≤36",">36，≤40",">40","2013.10.1后投产执行第一档"]
["12     ","株洲市","华新水泥（株洲）有限公司",82.92,"≤90",">90，≤93",">93","执行第一档"]
["13     ",null,"中材株洲水泥有限责任公司",69.35,"≤90",">90，≤93",">93","执行第一档"]
["14     ",null,"湖南远大水泥有限责任公司",86.09,"≤90",">90，≤93",">93","执行第一档"]
["15     ",null,"炎陵县长兴水泥厂",81.3,"≤90",">90，≤93",">93","执行第一档"]
["16     ","湘潭市","湖南韶峰南方水泥有限公司",80.91,"≤90",">90，≤93",">93","执行第一档"]
["17     ",null,"中材湘潭水泥有限责任公司",73.52,"≤90",">90，≤93",">93","执行第一档"]
["18     ",null,"湖南湘乡成美水泥有限公司",31.29,"≤40",">40，≤42",">42","执行第一档"]
["19     ",null,"湖南湘乡建成水泥有限公司",36.27,"≤40",">40，≤42",">42","执行第一档"]
["20     ",null,"湘潭长青建材有限公司",39.17,"≤40",">40，≤42",">42","执行第一档"]
["21     ",null,"湘潭市潭州水泥有限公司",33.52,"≤40",">40，≤42",">42","执行第一档"]
["22     ",null,"湖南恒宇建材有限公司",32.3,"≤40",">40，≤42",">42","执行第一档"]
["23     ",null,"湖南华新湘钢水泥有限公司",{"$nulls":4},"转产"]
["24     ",null,"湘乡市棋梓桥水泥有限公司",{"$nulls":4},"停产"]
["25     ",null,"湖南湘乡南方水泥有限公司",{"$nulls":4},"被韶峰南方收购"]
["26     ","衡阳市","湖南碧瑞建材有限责任公司",37.5,"≤40",">40，≤42",">42","执行第一档"]
["27     ",null,"常宁市金猫水泥有限责任公司",34.97,"≤36",">36，≤40",">40","2013.10.1后投产 执行第一档"]
["28     ",null,"湖南车江南方水泥有限公司",36.35,"≤40",">40，≤42",">42","执行第一档"]
["29     ",null,"衡阳东江金磊水泥有限公司",39.12,"≤40",">40，≤42",">42","执行第一档"]
["30     ",null,"湖南衡南南方水泥有限公司",35.12,"≤40",">40，≤42",">42","执行第一档"]
["31     ",null,"衡山县金大水泥建材水泥责任有限公司",37.74,"≤40",">40，≤42",">42","执行第一档"]
["32     ",null,"衡阳红狮水泥有限公司",69.65,"≤90",">90，≤93",">93","执行第一档"]
["33     ",null,"衡阳乔阳水泥有限公司",35.1,"≤36",">36，≤40",">40","2013.10.1后投产执行第一档"]
["34     ",null,"衡阳市金雷水泥建材有限公司",35.48,"≤40",">40，≤42",">42","执行第一档"]
["35     ",null,"衡阳县华星水泥有限公司",39.38,"≤40",">40，≤42",">42","执行第一档"]
["36     ",null,"湖南金山水泥有限公司",75.48,"≤90",">90，≤93",">93","执行第一档"]
["37     ",null,"湖南金山环保建材有限公司",70.26,"≤90",">90，≤93",">93","执行第一档"]
["38     ",null,"耒阳金雷建材水泥有限责任公司",38.86,"≤40",">40，≤42",">42","执行第一档"]
["39     ",null,"湖南耒阳南方水泥有限公司",81.91,"≤90",">90，≤93",">93","执行第一档"]
["40     ",null,"湖南祁东南方水泥有限公司",37.95,"≤40",">40，≤42",">42","执行第一档"]
["41     ",null,"祁东县旭东水泥有限公司",33.35,"≤40",">40，≤42",">42","执行第一档"]
["42     ",null,"湖南雁城韶峰水泥有限责任公司",39.71,"≤40",">40，≤42",">42","执行第一档"]
["43     ","邵阳市","湖南隆回南方水泥有限公司",78.73,"≤90",">90，≤93",">93","执行第一档"]
["44     ",null,"湖南省云峰水泥有限公司",79.21,"≤88",">88，≤90",">90","2013.10.1后投产 执行第一档"]
["45     ",null,"邵阳南方水泥有限公司",66.93,"≤90",">90，≤93",">93","执行第一档"]
["46     ",null,"邵阳市云峰新能源科技有限公司",76.77,"≤90",">90，≤93",">93","执行第一档"]
["47     ",null,"湖南新邵云岩水泥有限公司",29.57,"≤40",">40，≤42",">42","执行第一档"]
["48     ",null,"洞口县水泥有限责任公司",34.91,"≤36",">36，≤40",">40","2013.10.1后投产 执行第一档"]
["49     ",null,"城步苗族自治县吉龙建材有限公司",35.57,"≤40",">40，≤42",">42","执行第一档"]
["50     ",null,"邵东县龙成水泥有限公司",35.66,"≤40",">40，≤42",">42","执行第一档"]
["51     ",null,"邵东县峦峰建材科技有限公司",32.71,"≤36",">36，≤40",">40","2013.10.1后投产 执行第一档"]
["52     ",null,"邵阳市鸿基建材有限公司",34.35,"≤40",">40，≤42",">42","执行第一档"]
["53     ",null,"武冈市王城水泥厂",35.73,"≤36",">36，≤40",">40","2013.10.1后投产 执行第一档"]
["54     ",null,"洞口县为百水泥厂",70.08,"≤88",">88，≤90",">90","2013.10.1后投产 执行第一档"]
["55     ",null,"新宁县金旺水泥粉磨有限责任公司",33.09,"≤36",">36，≤40",">40","2013.10.1后投产 执行第一档"]
["56     ",null,"绥宁云峰新能源有限公司",34.77,"≤36",">36，≤40",">40","2013.10.1后投产 执行第一档"]
["57     ","岳阳市","临湘海螺水泥有限责任公司",72.37,"≤90",">90，≤93",">93","执行第一档"]
["58     ",null,"岳阳市兰峰水泥有限责任公司",33.63,"≤40",">40，≤42",">42","执行第一档"]
["59     ",null,"湘阴顺泰建材有限公司",36.23,"≤40",">40，≤42",">42","执行第一档"]
["60     ",null,"华新水泥（岳阳）有限公司",33.3,"≤40",">40，≤42",">42","执行第一档"]
["61     ",null,"平江县泽兴建材有限责任公司",39.45,"≤40",">40，≤42",">42","执行第一档"]
["62     ",null,"湖南岳阳南方水泥有限公司",30.51,"≤40",">40，≤42",">42","执行第一档"]
["63     ","常德市","湖南安乡南方水泥有限公司",39.99,"≤40",">40，≤42",">42","执行第一档"]
["64     ",null,"津市坝道水泥有限公司",31.87,"≤40",">40，≤42",">42","执行第一档"]
["65     ",null,"湖南常德南方水泥有限公司",70.88,"≤90",">90，≤93",">93","执行第一档"]
["66     ",null,"中材常德水泥有限责任公司",79.31,"≤90",">90，≤93",">93","执行第一档"]
["67     ",null,"澧县甘溪水泥有限责任公司",32.69,"≤36",">36，≤40",">40","2013.10.1后投产 执行第一档"]
["68     ",null,"常德金江水泥有限公司",39.59,"≤40",">40，≤42",">42","执行第一档"]
["69     ",null,"临澧冀东水泥有限公司",71.66,"≤90",">90，≤93",">93","执行第一档"]
["70     ",null,"石门海螺水泥有限责任公司",77.57,"≤90",">90，≤93",">93","执行第一档"]
["71     ",null,"葛洲坝石门特种水泥有限公司",78.78,"≤90",">90，≤93",">93","执行第一档"]
["72     ",null,"湖南石门新关水泥建材有限公司",34.74,"≤40",">40，≤42",">42","执行第一档"]
["73     ",null,"常德市鼎城武陵水泥有限公司",75.21,"≤90",">90，≤93",">93","执行第一档"]
["74     ",null,"湖南嘉丰建材有限公司",34.33,"≤40",">40，≤42",">42","执行第一档"]
["75     ",null,"临澧县泰安建材有限公司",34.48,"≤36",">36，≤40",">40","2013.10.1后投产 执行第一档"]
["76     ",null,"湖南湘北水泥有限公司",31.76,"≤40",">40，≤42",">42","执行第一档"]
["77     ",null,"澧县银丰水泥有限公司",86.41,"≤90",">90，≤93",">93","执行第一档"]
["78     ",null,"常德市玉圣关建材有限公司",35.85,"≤36",">36，≤40",">40","2013.10.1后投产执行第一档"]
["79     ",null,"湖南合磷化工有限公司",{"$nulls":4},"已注销"]
["80     ","张家界市","华新水泥（桑植）有限公司",74.9,"≤88",">88，≤90",">90","2013.10.1后投产 执行第一档"]
["81     ",null,"湖南张家界南方水泥有限公司",79.6,"≤90",">90，≤93",">93","执行第一档"]
["82     ","益阳市","湖南桃江南方水泥有限公司",75.66,"≤90",">90，≤93",">93","执行第一档"]
["83     ",null,"湖南益阳海螺水泥有限责任公司",72.79,"≤88",">88，≤90",">90","2013.10.1后投产 执行第一档"]
["84     ",null,"益阳市东方水泥有限公司",66.67,"≤90",">90，≤93",">93","执行第一档"]
["85     ",null,"益阳市万鑫建材有限公司",34.98,"≤36",">36，≤40",">40","2013.10.1后投产 执行第一档"]
["86     ",null,"湖南益阳南方水泥有限公司",38.09,"≤40",">40，≤42",">42","执行第一档"]
["87     ",null,"湖南沅江南方水泥有限公司",39.88,"≤40",">40，≤42",">42","执行第一档"]
["88     ",null,"益阳东南建材有限责任公司",36,"≤40",">40，≤42",">42","执行第一档"]
["89     ",null,"益阳韶峰水泥有限责任公司",34.57,"≤40",">40，≤42",">42","执行第一档"]
["90     ","郴州市","湖南桂阳南方水泥有限责任公司",31.38,"≤40",">40，≤42",">42","执行第一档"]
["91     ",null,"湖南省桂阳燕山建材有限公司",38.23,"≤40",">40，≤42",">42","执行第一档"]
["92     ",null,"华新水泥（郴州）有限公司",78.33,"≤90",">90，≤93",">93","执行第一档"]
["93     ",null,"湖南苏仙南方水泥有限公司",74.59,"≤90",">90，≤93",">93","执行第一档"]
["94     ",null,"湖南良田水泥有限公司",81.89,"≤90",">90，≤93",">93","执行第一档"]
["95     ",null,"临武县祥丰建材实业有限责任公司",33.04,"≤36",">36，≤40",">40","2013.10.1后投产执行第一档"]
["96     ",null,"郴州良正水泥有限公司",36.7,"≤40",">40，≤42",">42","执行第一档"]
["97     ",null,"广东南岭铁路群力水泥厂",39.6,"≤40",">40，≤42",">42","执行第一档"]
["98     ",null,"康达（湖南）水泥有限公司",75.12,"≤90",">90，≤93",">93","执行第一档"]
["99     ",null,"湖南金磊南方水泥有限公司",76.3,"≤90",">90，≤93",">93","执行第一档"]
["100     ",null,"湖南安仁南方水泥有限公司",69.85,"≤90",">90，≤93",">93","执行第一档"]
["101     ",null,"湖南省安仁县龙海水泥有限责任公司",35.29,"≤36",">36，≤40",">40","2013.10.1后投产 执行第一档"]
["102     ","永州市","湖南东安县信达水泥有限公司",34.66,"≤40",">40，≤42",">42","执行第一档"]
["103     ",null,"华新水泥（道县）有限公司",79.49,"≤90",">90，≤93",">93","执行第一档"]
["104     ",null,"江华海螺水泥有限责任公司",78.15,"≤90",">90，≤93",">93","执行第一档"]
["105     ",null,"江永高泽源水泥有限公司",37.02,"≤40",">40，≤42",">42","执行第一档"]
["106     ",null,"永州市九嶷骄阳水泥有限责任公司",84.79,"≤90",">90，≤93",">93","执行第一档"]
["107     ",null,"宁远县舜源峰水泥有限公司",39.22,"≤40",">40，≤42",">42","执行第一档"]
["108     ",null,"祁阳海螺水泥有限责任公司",75.92,"≤90",">90，≤93",">93","执行第一档"]
["109     ",null,"祁阳县祁峰水泥有限责任公司",30.94,"≤36",">36，≤40",">40","2013.10.1后投产 执行第一档"]
["110     ",null,"新田南峰水泥有限公司",75.21,"≤90",">90，≤93",">93","执行第一档"]
["111     ",null,"永州莲花水泥有限责任公司",72.43,"≤90",">90，≤93",">93","执行第一档"]
["112     ",null,"湖南万安达集团普华实业有限责任公司",{"$nulls":4},"特种水泥"]
["113     ","怀化市","台泥（怀化）水泥有限公司",85.83,"≤90",">90，≤93",">93","执行第一档"]
["114     ",null,"辰溪县丹山建材有限责任公司",36.56,"≤40",">40，≤42",">42","执行第一档"]
["115     ",null,"沅陵县华益水泥有限责任公司",78.27,"≤90",">90，≤93",">93","执行第一档"]
["116     ",null,"洪江市黔桥水泥粉磨有限公司",38.77,"≤40",">40，≤42",">42","执行第一档"]
["117     ",null,"芷江宏宇水泥有限责任公司",38.88,"≤40",">40，≤42",">42","执行第一档"]
["118     ",null,"靖州台泥水泥有限公司",82.67,"≤90",">90，≤93",">93","执行第一档"]
["119     ",null,"通道侗族自治县隆城水泥有限责任公司",35.58,"≤36",">36，≤40",">40","2013.10.1后投产执行第一档"]
["120     ",null,"新晃浙浦水泥有限责任公司",34.04,"≤36",">36，≤40",">40","2013.10.1后投产执行第一档"]
["121     ",null,"溆浦县泰鑫水泥有限公司",38.32,"≤40",">40，≤42",">42","执行第一档"]
["122     ",null,"溆浦大盛建材有限责任公司",78.68,"≤90",">90，≤93",">93","执行第一档"]
["123     ",null,"会同东星建材有限公司",39.13,"≤40",">40，≤42",">42","执行第一档"]
["124     ",null,"会同金特水泥有限责任公司",38.42,"≤40",">40，≤42",">42","执行第一档"]
["125     ",null,"通道县通郦水有限责任公司",{"$nulls":4},"转产"]
["126     ",null,"湖南辰溪华中水泥有限公司",{"$nulls":4},"停产"]
["127     ",null,"溆浦县金晟水泥有限公司",{"$nulls":4},"破产"]
["128     ","娄底市","双峰海螺水泥有限公司",78.71,"≤90",">90，≤93",">93","执行第一档"]
["129     ",null,"华新水泥（冷水江）有限公司",69.1,"≤90",">90，≤93",">93","执行第一档"]
["130     ",null,"湖南海螺水泥有限公司",75.87,"≤90",">90，≤93",">93","执行第一档"]
["131     ",null,"国产实业（湖南）水泥有限公司",81.14,"≤90",">90，≤93",">93","执行第一档"]
["132     ",null,"湖南双友特材有限责任公司",35.94,"≤40",">40，≤42",">42","执行第一档"]
["133     ",null,"新化县金马水泥有限公司",33.55,"≤40",">40，≤42",">42","执行第一档"]
["134     ",null,"涟源市湘中华源水泥有限公司",34.06,"≤40",">40，≤42",">42","执行第一档"]
["135     ",null,"冷水江晨峰水泥有限责任公司",36.79,"≤40",">40，≤42",">42","执行第一档"]
["136     ",null,"冷水江大盛环保建材有限公司",{"$nulls":4},"水泥配制，非粉磨"]
["137     ","自治州","永顺县猛洞河万源水泥有限责任公司",31.65,"≤40",">40，≤42",">42","执行第一档"]
["138     ",null,"湘西自治州天源建材有限公司",80.29,"≤90",">90，≤93",">93","执行第一档"]
["139     ",null,"湘西自治州成美建材有限公司",85.57,"≤90",">90，≤93",">93","执行第一档"]
["140     ",null,"湖南古丈南方水泥有限公司",68.34,"≤90",">90，≤93",">93","执行第一档"]
["141     ",null,"保靖县恒康水泥厂",35.22,"≤40",">40，≤42",">42","执行第一档"]
["142     ",null,"吉首市吉兰建材有限公司 （吉首市大力建材有限责任公司）",36.88,"≤40",">40，≤42",">42","执行第一档"]
["143     ",null,"泸溪县麻溪口水泥厂",{"$nulls":4},"停产"]
["144     ",null,"花垣县鑫磊水泥有限公司",{"$nulls":4},"停产"]

{"sheet":"华南地区 海南14","index":6,"n_rows":15,"n_cols":5,"rows_kept":15,"merged":[[14,2,14,3]]}
["序号","企业名称","可比熟料综合电耗（kW·h/t）","可比水泥综合电耗（kW·h/t）","投产日期"]
[1,"华润水泥（昌江）有限公司",59.51,79.9,1997.12]
[2,"昌江华盛天涯水泥有限公司",57.7,74.86,2005.6]
[3,"海南昌江鸿启实业有限公司叉河水泥分公司",60.72,81.02,2009.1]
[4,"儋州华盛天涯水泥有限公司",55.9,77.49,2012.5]
[5,"华润水泥（昌江）有限公司金江粉磨站","/",32.45,2005.1]
[6,"澄迈华盛天涯水泥有限公司","/",32.24,2005.9]
[7,"海南蓝岛环保产业股份有限公司","/",34.56,2008.1]
[8,"三亚华盛水泥粉磨有限公司","/",33.48,2009.12]
[9,"华润水泥（五指山）有限公司","/",39.43,2012.1]
[10,"东方东泰建材有限公司","/",36.95,2012.8]
[11,"屯昌中能水泥发展有限公司","/",35.37,2012.9]
[12,"海南屯昌鸿启水泥有限公司","/",36.03,2013.1]
[13,"儋州明成水泥有限公司","/",33.05,2014.11]
[14,"文昌华盛天涯水泥有限公司","2016年停产",null,2014.1]

{"sheet":"华北地区 河北260","index":7,"n_rows":263,"n_cols":17,"rows_kept":263,"merged":[[0,0,1,0],[0,1,1,1],[0,2,1,2],[0,3,1,3],[0,4,1,4],[0,5,1,5],[0,6,0,8],[0,9,0,11],[0,12,1,12],[0,13,0,15],[0,16,1,16],[262,0,262,16]]}
["序号","企业名称","所在县区","熟料产量  （万吨）","水泥产量（万吨）","电力消耗（万kW.h）","熟料库存",null,null,"熟料购销及生产水泥消耗",null,null,"投产时段","产品可比综合电耗（kW.h/t）",null,null,"达标情况"]
[{"$nulls":13},"水泥生产线","熟料生产线","水泥粉磨站"]
[1,"河北晨光水泥有限责任公司","行唐县",{"$f":"[1]原表!D3","v":{"v":0,"d":"0.00"}},{"$f":"[1]原表!E3","v":{"v":0,"d":"0.00"}},{"$f":"[1]原表!F3","v":{"v":0,"d":"0.00"}},{"$f":"[1]原表!G3","v":"库存   （万吨）"},{"$f":"[1]原表!H3","v":"期末库存（万吨）"},{"$f":"[1]原表!I3","v":"期初库存（万吨）"},{"$f":"[1]原表!J3","v":"销售熟料（万吨）"},{"$f":"[1]原表!K3","v":"外购熟料（万吨）"},{"$f":"[1]原表!L3","v":"水泥消耗（万吨）"},"2013年10月1日前",null,{"$f":"[1]原表!M3","v":{"v":0,"d":"0.00"}},{"$f":"[1]原表!N3","v":{"v":0,"d":"0.00"}},"达标"]
[2,"井陉县陉虹水泥有限公司","井陉县",{"$f":"[1]原表!D4","v":{"v":0,"d":"0.00"}},{"$f":"[1]原表!E4","v":42.49},{"$f":"[1]原表!F4","v":1551.51},{"$nulls":4},3.96,3.09,"2013年10月1日前",null,{"$f":"[1]原表!M4","v":{"v":0,"d":"0.00"}},{"$f":"[1]原表!N4","v":{"v":36,"d":"36.00"}},"达标"]
[3,"河北岭东水泥有限公司","新乐市",{"$f":"[1]原表!D5","v":{"v":0,"d":"0.00"}},{"$f":"[1]原表!E5","v":{"v":9.8,"d":"9.80"}},{"$f":"[1]原表!F5","v":344.08},{"$nulls":4},{"v":8.4,"d":"8.40"},8.39,"2013年10月1日前",null,{"$f":"[1]原表!M5","v":{"v":0,"d":"0.00"}},{"$f":"[1]原表!N5","v":36.48},"达标"]
[4,"石家庄市远东建材厂","新乐市",{"$f":"[1]原表!D6","v":{"v":0,"d":"0.00"}},{"$f":"[1]原表!E6","v":16.87},{"$f":"[1]原表!F6","v":{"v":622.512,"d":"622.51"}},{"$nulls":4},13.39,"13.38","2013年10月1日前",null,{"$f":"[1]原表!M6","v":{"v":0,"d":"0.00"}},{"$f":"[1]原表!N6","v":37.62},"达标"]
[5,"石家庄市真强水泥有限公司","新乐市",{"$f":"[1]原表!D7","v":{"v":0,"d":"0.00"}},{"$f":"[1]原表!E7","v":"20.59"},{"$f":"[1]原表!F7","v":{"v":806.184,"d":"806.18"}},{"$nulls":4},10.58,10.58,"2013年10月1日前",null,{"$f":"[1]原表!M7","v":{"v":0,"d":"0.00"}},{"$f":"[1]原表!N7","v":39.12},"达标"]
[6,"河北长城建材有限公司","行唐县",{"$f":"[1]原表!D8","v":{"v":0,"d":"0.00"}},{"$f":"[1]原表!E8","v":{"v":21.2,"d":"21.20"}},{"$f":"[1]原表!F8","v":{"v":779.346,"d":"779.35"}},{"$nulls":4},8.02,8.02,"2013年10月1日前",null,{"$f":"[1]原表!M8","v":{"v":0,"d":"0.00"}},{"$f":"[1]原表!N8","v":37.88},"达标"]
[7,"晋州市冀中建材有限公司","晋州市",{"$f":"[1]原表!D9","v":{"v":0,"d":"0.00"}},{"$f":"[1]原表!E9","v":27.65},{"$f":"[1]原表!F9","v":{"v":1047.165,"d":"1047.17"}},{"$nulls":4},7.97,7.97,"2013年10月1日前",null,{"$f":"[1]原表!M9","v":{"v":0,"d":"0.00"}},{"$f":"[1]原表!N9","v":38.57},"达标"]
[8,"晋州市水泥有限责任公司","晋州市",{"$f":"[1]原表!D10","v":{"v":0,"d":"0.00"}},{"$f":"[1]原表!E10","v":15.25},{"$f":"[1]原表!F10","v":515.64},{"$nulls":4},{"v":7.6,"d":"7.60"},{"v":7.6,"d":"7.60"},"2013年10月1日前",null,{"$f":"[1]原表!M10","v":{"v":0,"d":"0.00"}},{"$f":"[1]原表!N10","v":34.66},"达标"]
[9,"河北泰发建材股份有限公司","正定县",{"$f":"[1]原表!D11","v":{"v":0,"d":"0.00"}},{"$f":"[1]原表!E11","v":14.23},{"$f":"[1]原表!F11","v":{"v":478.4642,"d":"478.46"}},{"$nulls":4},6.69,6.69,"2013年10月1日前",null,{"$f":"[1]原表!M11","v":{"v":0,"d":"0.00"}},{"$f":"[1]原表!N11","v":33.32},"达标"]
[10,"赵县益民水泥有限公司","赵县",{"$f":"[1]原表!D12","v":{"v":0,"d":"0.00"}},{"$f":"[1]原表!E12","v":12.25},{"$f":"[1]原表!F12","v":453.19},{"$nulls":4},{"v":2.8155,"d":"2.82"},{"v":2.8155,"d":"2.82"},"2013年10月1日前",null,{"$f":"[1]原表!M12","v":{"v":0,"d":"0.00"}},{"$f":"[1]原表!N12","v":38.22},"达标"]
[11,"灵寿冀东水泥有限责任公司","灵寿",{"$f":"[1]原表!D13","v":{"v":0,"d":"0.00"}},{"$f":"[1]原表!E13","v":5.21},{"$f":"[1]原表!F13","v":192.32},null,1.08,0.35,{"v":21.5,"d":"21.50"},3.57,40.17,"2013年10月1日前",{"$f":"[1]调整!N13","v":38.22},{"$f":"[1]原表!M13","v":{"v":0,"d":"0.00"}},null,"达标"]
[12,"石家庄市隆达建材厂","灵寿",{"$f":"[1]原表!D14","v":58.83},{"$f":"[1]原表!E14","v":{"v":61.5,"d":"61.50"}},{"$f":"[1]原表!F14","v":{"v":6776.5138,"d":"6776.51"}},{"$nulls":4},9.43,9.43,"2013年10月1日前",null,{"$f":"[1]原表!M14","v":63.81},{"$f":"[1]原表!N14","v":74.47},"达标"]
[13,"石家庄市云山水泥有限公司","灵寿",{"$f":"[1]原表!D15","v":{"v":0,"d":"0.00"}},{"$f":"[1]原表!E15","v":21.98},{"$f":"[1]原表!F15","v":{"v":757.5,"d":"757.50"}},{"$nulls":4},13.14,13.14,"2013年10月1日前",null,{"$f":"[1]原表!M15","v":{"v":0,"d":"0.00"}},{"$f":"[1]原表!N15","v":37.61},"达标"]
[14,"石家庄燕峰建材有限公司","灵寿",{"$f":"[1]原表!D16","v":{"v":0,"d":"0.00"}},{"$f":"[1]原表!E16","v":{"v":26.2822,"d":"26.28"}},{"$f":"[1]原表!F16","v":{"v":906.739,"d":"906.74"}},{"$nulls":6},"2013年10月1日前",null,{"$f":"[1]原表!M16","v":{"v":0,"d":"0.00"}},{"$f":"[1]原表!N16","v":36.89},"达标"]
[15,"石家庄强力水泥厂","灵寿县",{"$f":"[1]原表!D17","v":{"v":0,"d":"0.00"}},{"$f":"[1]原表!E17","v":32.59},{"$f":"[1]原表!F17","v":{"v":1022.511,"d":"1022.51"}},{"$nulls":4},{"v":16.924,"d":"16.92"},null,"2013年10月1日前",null,{"$f":"[1]原表!M17","v":{"v":0,"d":"0.00"}},{"$f":"[1]原表!N17","v":34.72},"达标"]
[16,"灵寿中山水泥集团高峦有限公司","灵寿",{"$f":"[1]原表!D18","v":{"v":0,"d":"0.00"}},{"$f":"[1]原表!E18","v":{"v":28.3,"d":"28.30"}},{"$f":"[1]原表!F18","v":{"v":901.7427,"d":"901.74"}},{"$nulls":4},23.69,23.69,"2013年10月1日前",null,{"$f":"[1]原表!M18","v":{"v":0,"d":"0.00"}},{"$f":"[1]原表!N18","v":33.72},"达标"]
[17,"石家庄市大坝水泥有限责任公司","灵寿",{"$f":"[1]原表!D19","v":{"v":0,"d":"0.00"}},{"$f":"[1]原表!E19","v":{"v":56.865181,"d":"56.87"}},{"$f":"[1]原表!F19","v":{"v":2046.288,"d":"2046.29"}},{"$nulls":4},10.73,10.73,"2013年10月1日前",null,{"$f":"[1]原表!M19","v":{"v":0,"d":"0.00"}},{"$f":"[1]原表!N19","v":38.48},"达标"]
[18,"灵寿中山水泥集团三凤水泥有限公司","灵寿",{"$f":"[1]原表!D20","v":{"v":0,"d":"0.00"}},{"$f":"[1]原表!E20","v":20.64},{"$f":"[1]原表!F20","v":727.76},{"$nulls":4},{"v":12.5,"d":"12.50"},{"v":12.5,"d":"12.50"},"2013年10月1日前",null,{"$f":"[1]原表!M20","v":{"v":0,"d":"0.00"}},{"$f":"[1]原表!N20","v":{"v":37.7,"d":"37.70"}},"达标"]
[19,"灵寿县水泥四厂","灵寿",{"$f":"[1]原表!D21","v":{"v":0,"d":"0.00"}},{"$f":"[1]原表!E21","v":33.22},{"$f":"[1]原表!F21","v":937.67},{"$nulls":4},{"v":7.549,"d":"7.55"},7.55,"2013年10月1日前",null,{"$f":"[1]原表!M21","v":{"v":0,"d":"0.00"}},{"$f":"[1]原表!N21","v":30.17},"达标"]
[20,"灵寿县松阳建材有限公司","灵寿县",{"$f":"[1]原表!D22","v":{"v":0,"d":"0.00"}},{"$f":"[1]原表!E22","v":{"v":16.6098,"d":"16.61"}},{"$f":"[1]原表!F22","v":549.23},{"$nulls":4},{"v":16.859352,"d":"16.86"},null,"2013年10月1日前",null,{"$f":"[1]原表!M22","v":{"v":0,"d":"0.00"}},{"$f":"[1]原表!N22","v":35.36},"达标"]
[21,"赞皇金隅水泥有限公司","赞皇县",{"$f":"[1]原表!D23","v":{"v":0,"d":"0.00"}},{"$f":"[1]原表!E23","v":{"v":42.124,"d":"42.12"}},{"$f":"[1]原表!F23","v":{"v":1572.348,"d":"1572.35"}},{"v":12.558,"d":"12.56"},{"v":12.558,"d":"12.56"},0.74,55.35,{"v":0,"d":"0.00"},{"v":219.443,"d":"219.44"},"2013年10月1日前",{"$f":"[1]调整!N23","v":39.92},{"$f":"[1]原表!M23","v":{"v":0,"d":"0.00"}},null,"达标"]
[22,"石家庄市济河特种水泥有限公司","赞皇县",{"$f":"[1]原表!D24","v":{"v":286.6088,"d":"286.61"}},{"$f":"[1]原表!E24","v":{"v":273.5433,"d":"273.54"}},{"$f":"[1]原表!F24","v":{"v":28736.487,"d":"28736.49"}},{"$nulls":4},6.81,6.81,"2013年10月1日前",null,{"$f":"[1]原表!M24","v":59.38},{"$f":"[1]原表!N24","v":82.29},"达标"]
[23,"河北金隅鼎鑫水泥有限公司","鹿泉区",{"$f":"[1]原表!D25","v":{"v":0,"d":"0.00"}},{"$f":"[1]原表!E25","v":10.69},{"$f":"[1]原表!F25","v":383.59},12.55,12.55,13.76,251.96,{"v":0,"d":"0.00"},{"v":263,"d":"263.00"},"2013年10月1日前",{"$f":"[1]调整!N25","v":35.38},{"$f":"[1]原表!M25","v":{"v":0,"d":"0.00"}},null,"达标"]
[24,"石家庄市曲寨水泥有限公司","鹿泉区",{"$f":"[1]原表!D26","v":{"v":765,"d":"765.00"}},{"$f":"[1]原表!E26","v":{"v":520,"d":"520.00"}},{"$f":"[1]原表!F26","v":{"v":26312,"d":"26312.00"}},{"v":20,"d":"20.00"},{"v":20,"d":"20.00"},{"v":20,"d":"20.00"},{"v":0,"d":"0.00"},{"v":0,"d":"0.00"},188.74,"2013年10月1日前",{"$f":"[1]调整!N26","v":72.58},null,null,"达标"]
[25,"河北铁狮建材有限责任公司","鹿泉区",{"$f":"[1]原表!D27","v":188.74},{"$f":"[1]原表!E27","v":235.92},{"$f":"[1]原表!F27","v":21204.53},{"$nulls":4},{"v":14.9069,"d":"14.91"},{"v":14.9069,"d":"14.91"},"2013年10月1日前",null,{"$f":"[1]原表!M27","v":54.62},{"$f":"[1]原表!N27","v":85.67},"达标"]
[26,"河北曲寨矿峰水泥股份有限公司","矿区",{"$f":"[1]原表!D28","v":{"v":0,"d":"0.00"}},{"$f":"[1]原表!E28","v":{"v":29.1559,"d":"29.16"}},{"$f":"[1]原表!F28","v":798.41},{"v":10,"d":"10.00"},{"v":5.2123,"d":"5.21"},{"v":2.1134,"d":"2.11"},{"v":90.9098,"d":"90.91"},null,null,"2013年10月1日前",{"$f":"[1]调整!N28","v":28.85},{"$f":"[1]原表!M28","v":{"v":0,"d":"0.00"}},null,"达标"]
[27,"河北皇家白水泥有限公司","井陉县",{"$f":"[1]原表!D29","v":{"v":94.0087,"d":"94.01"}},{"$f":"[1]原表!E29","v":{"v":0,"d":"0.00"}},{"$f":"[1]原表!F29","v":{"v":5716.4856,"d":"5716.49"}},{"$nulls":5},0.15,"2013年10月1日前",{"$nulls":3},{"$f":"[1]原表!O29","v":0}]
[28,"石家庄嘉华特种工程材料有限公司","平山县",{"$f":"[1]原表!D30","v":0.15},{"$f":"[1]原表!E30","v":0.14},{"$f":"[1]原表!F30","v":{"v":81.5,"d":"81.50"}},null,{"v":4.356955,"d":"4.36"},{"v":3.218,"d":"3.22"},{"v":0.398552,"d":"0.40"},null,{"v":2.803811,"d":"2.80"},"2013年10月1日前",{"$nulls":3},{"$f":"[1]原表!O30","v":"特种水泥"}]
[29,"河北兴华特种水泥有限公司","鹿泉区",{"$f":"[1]原表!D31","v":{"v":4.021278,"d":"4.02"}},{"$f":"[1]原表!E31","v":{"v":3.4678,"d":"3.47"}},{"$f":"[1]原表!F31","v":{"v":542.818,"d":"542.82"}},{"$nulls":4},{"v":0.4577,"d":"0.46"},null,"2013年10月1日前",{"$nulls":3},{"$f":"[1]原表!O31","v":"特种水泥（油井水泥）"}]
[30,"石家庄迅塔特种水泥有限公司","鹿泉区",{"$f":"[1]原表!D32","v":{"v":0,"d":"0.00"}},{"$f":"[1]原表!E32","v":{"v":0.4284,"d":"0.43"}},{"$f":"[1]原表!F32","v":48.85},null,{"v":0.3299,"d":"0.33"},{"v":0.2121,"d":"0.21"},{"v":0,"d":"0.00"},{"v":0.6298,"d":"0.63"},{"v":4.6959,"d":"4.70"},"2013年10月1日前",{"$nulls":3},{"$f":"[1]原表!O32","v":"特种水泥"}]
[31,"石家庄市藁城区太行建材厂","藁城区",{"$f":"[1]原表!D33","v":{"v":4.8137,"d":"4.81"}},{"$f":"[1]原表!E33","v":{"v":6.5348,"d":"6.53"}},{"$f":"[1]原表!F33","v":816.84},{"$nulls":6},"2013年10月1日前",null,null,{"$f":"[1]原表!N33","v":130.04},{"$f":"[1]原表!O33","v":"特种水泥"}]
[32,"石家庄光大建材有限公司","井陉县",{"$f":"[1]原表!D34","v":{"v":0,"d":"0.00"}},{"$f":"[1]原表!E34","v":{"v":0,"d":"0.00"}},{"$f":"[1]原表!F34","v":{"v":0,"d":"0.00"}},{"$nulls":6},"2013年10月1日前",{"$f":"[1]调整!N34","v":{"v":0,"d":"0.00"}},{"$f":"[1]原表!M34","v":{"v":0,"d":"0.00"}},{"$f":"[1]原表!N34","v":{"v":0,"d":"0.00"}},"拆除"]
[33,"河北鼎星水泥有限公司","平山县",{"$f":"[1]原表!D35","v":{"v":0,"d":"0.00"}},{"$f":"[1]原表!E35","v":{"v":0,"d":"0.00"}},{"$f":"[1]原表!F35","v":{"v":0,"d":"0.00"}},{"$nulls":6},"2013年10月1日前",{"$f":"[1]调整!N35","v":{"v":0,"d":"0.00"}},{"$f":"[1]原表!M35","v":{"v":0,"d":"0.00"}},{"$f":"[1]原表!N35","v":{"v":0,"d":"0.00"}},{"$f":"[1]原表!O35","v":"停产拆除"}]
[34,"灵寿县水泥二厂","灵寿县",{"$f":"[1]原表!D36","v":{"v":0,"d":"0.00"}},{"$f":"[1]原表!E36","v":{"v":0,"d":"0.00"}},{"$f":"[1]原表!F36","v":{"v":0,"d":"0.00"}},{"$nulls":6},"2013年10月1日前",{"$f":"[1]调整!N36","v":{"v":0,"d":"0.00"}},{"$f":"[1]原表!M36","v":{"v":0,"d":"0.00"}},{"$f":"[1]原表!N36","v":{"v":0,"d":"0.00"}},"停产"]
[35,"石家庄天键水泥有限公司","鹿泉区",{"$f":"[1]原表!D37","v":{"v":0,"d":"0.00"}},{"$f":"[1]原表!E37","v":{"v":0,"d":"0.00"}},{"$f":"[1]原表!F37","v":{"v":0,"d":"0.00"}},{"$nulls":6},"2013年10月1日前",{"$f":"[1]调整!N37","v":{"v":0,"d":"0.00"}},{"$f":"[1]原表!M37","v":{"v":0,"d":"0.00"}},{"$f":"[1]原表!N37","v":{"v":0,"d":"0.00"}},{"$f":"[1]原表!O37","v":"停产改搅拌站"}]
[36,"河北泰鸿建材有限公司","藁城区",{"$f":"[1]原表!D38","v":{"v":0,"d":"0.00"}},{"$f":"[1]原表!E38","v":{"v":0,"d":"0.00"}},{"$f":"[1]原表!F38","v":{"v":0,"d":"0.00"}},{"$nulls":6},"2013年10月1日前",{"$f":"[1]调整!N38","v":{"v":0,"d":"0.00"}},{"$f":"[1]原表!M38","v":{"v":0,"d":"0.00"}},{"$f":"[1]原表!N38","v":{"v":0,"d":"0.00"}},{"$f":"[1]原表!O38","v":"停产"}]
[37,"河北宏昌建材有限公司","藁城区",{"$f":"[1]原表!D39","v":{"v":0,"d":"0.00"}},{"$f":"[1]原表!E39","v":{"v":0,"d":"0.00"}},{"$f":"[1]原表!F39","v":{"v":0,"d":"0.00"}},{"$nulls":6},"2013年10月1日前",{"$f":"[1]调整!N39","v":{"v":0,"d":"0.00"}},{"$f":"[1]原表!M39","v":{"v":0,"d":"0.00"}},{"$f":"[1]原表!N39","v":{"v":0,"d":"0.00"}},{"$f":"[1]原表!O39","v":"停产"}]
[38,"藁城市双龙建材发展有限公司","藁城区",{"$f":"[1]原表!D40","v":{"v":0,"d":"0.00"}},{"$f":"[1]原表!E40","v":{"v":0,"d":"0.00"}},{"$f":"[1]原表!F40","v":{"v":0,"d":"0.00"}},{"$nulls":6},"2013年10月1日前",{"$f":"[1]调整!N40","v":{"v":0,"d":"0.00"}},{"$f":"[1]原表!M40","v":{"v":0,"d":"0.00"}},{"$f":"[1]原表!N40","v":{"v":0,"d":"0.00"}},{"$f":"[1]原表!O40","v":"停产"}]
[39,"石家庄旭昊建材有限公司","藁城区",{"$f":"[1]原表!D41","v":{"v":0,"d":"0.00"}},{"$f":"[1]原表!E41","v":{"v":0,"d":"0.00"}},{"$f":"[1]原表!F41","v":{"v":0,"d":"0.00"}},{"$nulls":6},"2013年10月1日前",{"$f":"[1]调整!N41","v":{"v":0,"d":"0.00"}},{"$f":"[1]原表!M41","v":{"v":0,"d":"0.00"}},{"$f":"[1]原表!N41","v":{"v":0,"d":"0.00"}},{"$f":"[1]原表!O41","v":"停产"}]
[40,"承德冀东水泥有限责任公司","承德县",{"$f":"[1]原表!D42","v":{"v":0,"d":"0.00"}},{"$f":"[1]原表!E42","v":{"v":0,"d":"0.00"}},{"$f":"[1]原表!F42","v":{"v":0,"d":"0.00"}},{"v":0,"d":"0.00"},4.99,8.84,19.23,{"v":0,"d":"0.00"},48.08,"2013年10月1日前",{"$f":"[1]调整!N42","v":{"v":0,"d":"0.00"}},{"$f":"[1]原表!M42","v":{"v":0,"d":"0.00"}},null,"达标"]
[41,"河北承大建材有限公司","兴隆县",{"$f":"[1]原表!D43","v":63.46},{"$f":"[1]原表!E43","v":65.82},{"$f":"[1]原表!F43","v":5067.81},2.67,2.67,{"v":1.1,"d":"1.10"},34.08,{"v":0,"d":"0.00"},68.95,"2013年10月1日后",{"$f":"[1]调整!N43","v":76.11},{"$f":"[1]原表!M43","v":62.64},null,"达标"]
[42,"承德金隅水泥有限责任公司","营子区",{"$f":"[1]原表!D44","v":{"v":104.6,"d":"104.60"}},{"$f":"[1]原表!E44","v":{"v":91.8159,"d":"91.82"}},{"$f":"[1]原表!F44","v":{"v":9539,"d":"9539.00"}},0.29,13.12,12.81,138.26,{"v":0,"d":"0.00"},79.46,"2013年10月1日后",{"$f":"[1]调整!N44","v":77.36},{"$f":"[1]原表!M44","v":59.49},null,"达标"]
[43,"承德喜上喜水泥有限责任公司","隆化县",{"$f":"[1]原表!D45","v":218.01},{"$f":"[1]原表!E45","v":121.82},{"$f":"[1]原表!F45","v":18521.67},{"v":0,"d":"0.00"},{"v":1.77388,"d":"1.77"},{"v":19.30168,"d":"19.30"},{"v":0,"d":"0.00"},{"v":0,"d":"0.00"},52.16,"2013年10月1日前",{"$f":"[1]调整!N45","v":78.36},null,null,"达标"]
[44,"兴隆县福成水泥有限公司","兴隆县",{"$f":"[1]原表!D46","v":{"v":34.63605,"d":"34.64"}},{"$f":"[1]原表!E46","v":{"v":71.3055,"d":"71.31"}},{"$f":"[1]原表!F46","v":{"v":5252.2139,"d":"5252.21"}},0.26,5.96,{"v":5.7,"d":"5.70"},25.36,{"v":0,"d":"0.00"},59.17,"2013年10月1日前",{"$f":"[1]调整!N46","v":85.65},{"$f":"[1]原表!M46","v":63.45},null,"达标"]
[45,"平泉冀东水泥有限责任公司","平泉县",{"$f":"[1]原表!D47","v":84.79},{"$f":"[1]原表!E47","v":{"v":90.8,"d":"90.80"}},{"$f":"[1]原表!F47","v":{"v":9156.593,"d":"9156.59"}},2.54,{"v":2.541968,"d":"2.54"},{"v":3.500086,"d":"3.50"},{"v":8.575018,"d":"8.58"},{"v":1.860746,"d":"1.86"},{"v":71.477874,"d":"71.48"},"2013年10月1日前",{"$f":"[1]调整!N47","v":76.31},{"$f":"[1]原表!M47","v":62.34},null,"达标"]
[46,"承德天宝水泥有限公司","宽城县",{"$f":"[1]原表!D48","v":{"v":77.2336,"d":"77.23"}},{"$f":"[1]原表!E48","v":{"v":108.9007,"d":"108.90"}},{"$f":"[1]原表!F48","v":{"v":9832.297,"d":"9832.30"}},{"v":0,"d":"0.00"},{"v":7.597036,"d":"7.60"},{"v":4.736218,"d":"4.74"},{"v":67.9,"d":"67.90"},{"v":0,"d":"0.00"},42.53,"2013年10月1日前",{"$f":"[1]调整!N48","v":{"v":75.9,"d":"75.90"}},{"$f":"[1]原表!M48","v":60.31},null,"达标"]
[47,"承德兴厦水泥制造有限公司","双滦区",{"$f":"[1]原表!D49","v":{"v":113.5931,"d":"113.59"}},{"$f":"[1]原表!E49","v":{"v":69.8511,"d":"69.85"}},{"$f":"[1]原表!F49","v":{"v":10528.6739,"d":"10528.67"}},{"v":0,"d":"0.00"},{"v":0,"d":"0.00"},{"v":0,"d":"0.00"},{"v":0,"d":"0.00"},{"v":0,"d":"0.00"},{"v":1.838,"d":"1.84"},"2013年10月1日前",null,{"$f":"[1]原表!M49","v":{"v":63.5,"d":"63.50"}},{"$f":"[1]原表!N49","v":84.74},"达标"]
[48,"承德永和水泥有限责任公司","承德县",{"$f":"[1]原表!D50","v":{"v":0,"d":"0.00"}},{"$f":"[1]原表!E50","v":{"v":3.7393,"d":"3.74"}},{"$f":"[1]原表!F50","v":91.53},{"v":0,"d":"0.00"},0.11,0.03,{"v":0,"d":"0.00"},{"v":0,"d":"0.00"},{"v":10.6711,"d":"10.67"},"2013年10月1日前",null,{"$f":"[1]原表!M50","v":{"v":0,"d":"0.00"}},{"$f":"[1]原表!N50","v":{"v":24.7,"d":"24.70"}},"达标"]
[49,"丰宁县天宝水泥制造有限公司","丰宁县",{"$f":"[1]原表!D51","v":{"v":0,"d":"0.00"}},{"$f":"[1]原表!E51","v":{"v":28.2381,"d":"28.24"}},{"$f":"[1]原表!F51","v":{"v":1123.139,"d":"1123.14"}},{"v":0,"d":"0.00"},{"v":0,"d":"0.00"},{"v":0,"d":"0.00"},{"v":0,"d":"0.00"},{"v":0,"d":"0.00"},22.49,"2013年10月1日前",null,{"$f":"[1]原表!M51","v":{"v":0,"d":"0.00"}},{"$f":"[1]原表!N51","v":39.29},"达标"]
[50,"兴隆县热河水泥制造有限公司","兴隆县",{"$f":"[1]原表!D52","v":{"v":0,"d":"0.00"}},{"$f":"[1]原表!E52","v":{"v":13.6013,"d":"13.60"}},{"$f":"[1]原表!F52","v":569.72},{"v":0,"d":"0.00"},{"v":0,"d":"0.00"},{"v":0,"d":"0.00"},{"v":0,"d":"0.00"},22.49,22.49,"2013年10月1日前",null,{"$f":"[1]原表!M52","v":{"v":0,"d":"0.00"}},{"$f":"[1]原表!N52","v":39.87},"达标"]
[51,"唐山宇锋水泥有限公司滦平分公司","滦平县",{"$f":"[1]原表!D53","v":{"v":0,"d":"0.00"}},{"$f":"[1]原表!E53","v":50.64},{"$f":"[1]原表!F53","v":{"v":1594.944,"d":"1594.94"}},{"v":0,"d":"0.00"},{"v":0,"d":"0.00"},{"v":0,"d":"0.00"},{"v":0,"d":"0.00"},{"v":6.705322,"d":"6.71"},{"v":6.705322,"d":"6.71"},"2013年10月1日前",null,{"$f":"[1]原表!M53","v":{"v":0,"d":"0.00"}},{"$f":"[1]原表!N53","v":{"v":33,"d":"33.00"}},"达标"]
[52,"兴隆县福成新型建材水泥有限公司","兴隆县",{"$f":"[1]原表!D54","v":{"v":0,"d":"0.00"}},{"$f":"[1]原表!E54","v":{"v":9.2035,"d":"9.20"}},{"$f":"[1]原表!F54","v":{"v":331.332,"d":"331.33"}},{"$nulls":6},"2013年10月1日后",{"$f":"[1]调整!N54","v":35.49},{"$f":"[1]原表!M54","v":{"v":0,"d":"0.00"}},{"$f":"[1]原表!N54","v":35.49},"2016年未投产"]
[53,"承德路川水泥有限责任公司","承德县",{"$f":"[1]原表!D55","v":{"v":0,"d":"0.00"}},{"$f":"[1]原表!E55","v":{"v":0,"d":"0.00"}},{"$f":"[1]原表!F55","v":{"v":0,"d":"0.00"}},{"$nulls":6},"2013年10月1日前",{"$f":"[1]调整!N55","v":{"v":0,"d":"0.00"}},{"$f":"[1]原表!M55","v":{"v":0,"d":"0.00"}},{"$f":"[1]原表!N55","v":{"v":0,"d":"0.00"}},"停产"]
[54,"承德弘基水泥有限公司","营子区",{"$f":"[1]原表!D56","v":{"v":0,"d":"0.00"}},{"$f":"[1]原表!E56","v":{"v":0,"d":"0.00"}},{"$f":"[1]原表!F56","v":{"v":0,"d":"0.00"}},{"$nulls":6},"2013年10月1日前",{"$f":"[1]调整!N56","v":{"v":0,"d":"0.00"}},{"$f":"[1]原表!M56","v":{"v":0,"d":"0.00"}},{"$f":"[1]原表!N56","v":{"v":0,"d":"0.00"}},{"$f":"[1]原表!O56","v":"2015-2016年停产"}]
[55,"围场满族蒙古族自治县金字建材有限责任公司","围场县",{"$f":"[1]原表!D57","v":{"v":0,"d":"0.00"}},{"$f":"[1]原表!E57","v":{"v":0,"d":"0.00"}},{"$f":"[1]原表!F57","v":{"v":0,"d":"0.00"}},{"$nulls":6},"2013年10月1日前",{"$f":"[1]调整!N57","v":{"v":0,"d":"0.00"}},{"$f":"[1]原表!M57","v":{"v":0,"d":"0.00"}},{"$f":"[1]原表!N57","v":{"v":0,"d":"0.00"}},{"$f":"[1]原表!O57","v":"拆除"}]
[56,"张家口燎原水泥有限公司","万全区",{"$f":"[1]原表!D58","v":{"v":0,"d":"0.00"}},{"$f":"[1]原表!E58","v":{"v":0,"d":"0.00"}},{"$f":"[1]原表!F58","v":{"v":0,"d":"0.00"}},{"$nulls":4},22.95,22.91,"2013年10月1日前",null,{"$f":"[1]原表!M58","v":{"v":0,"d":"0.00"}},{"$f":"[1]原表!N58","v":{"v":0,"d":"0.00"}},"达标"]
[57,"张家口市大境门水泥有限公司","怀安县",{"$f":"[1]原表!D59","v":{"v":0,"d":"0.00"}},{"$f":"[1]原表!E59","v":37.43},{"$f":"[1]原表!F59","v":1479.57},{"$nulls":6},"2013年10月1日前",null,{"$f":"[1]原表!M59","v":{"v":0,"d":"0.00"}},{"$f":"[1]原表!N59","v":37.92},"不达标"]
[58,"张家口恒泰水泥有限责任公司","张北县",{"$f":"[1]原表!D60","v":{"v":0,"d":"0.00"}},{"$f":"[1]原表!E60","v":{"v":0,"d":"0.00"}},{"$f":"[1]原表!F60","v":{"v":0,"d":"0.00"}},{"$nulls":4},{"v":11.9,"d":"11.90"},11.89,"2013年10月1日前",null,{"$f":"[1]原表!M60","v":{"v":0,"d":"0.00"}},{"$f":"[1]原表!N60","v":{"v":0,"d":"0.00"}},"达标"]
[59,"河北省赤城县水泥制造有限公司","赤城县",{"$f":"[1]原表!D61","v":{"v":0,"d":"0.00"}},{"$f":"[1]原表!E61","v":23.65},{"$f":"[1]原表!F61","v":903.11},{"$nulls":4},{"v":13.5,"d":"13.50"},13.21,"2013年10月1日前",null,{"$f":"[1]原表!M61","v":{"v":0,"d":"0.00"}},{"$f":"[1]原表!N61","v":{"v":35.4,"d":"35.40"}},"达标"]
[60,"怀来县宏建水泥粉磨厂","怀来县",{"$f":"[1]原表!D62","v":{"v":0,"d":"0.00"}},{"$f":"[1]原表!E62","v":19.16},{"$f":"[1]原表!F62","v":{"v":752.4707,"d":"752.47"}},{"$nulls":4},1.59,1.59,"2013年10月1日前",null,{"$f":"[1]原表!M62","v":{"v":0,"d":"0.00"}},{"$f":"[1]原表!N62","v":36.14},"达标"]
[61,"涿鹿金隅水泥有限公司","涿鹿县",{"$f":"[1]原表!D63","v":{"v":0,"d":"0.00"}},{"$f":"[1]原表!E63","v":2.85},{"$f":"[1]原表!F63","v":{"v":113.1037,"d":"113.10"}},null,11.42,13.49,46.76,{"v":0,"d":"0.00"},124.25,"2013年10月1日前",{"$f":"[1]调整!N63","v":38.65},{"$f":"[1]原表!M63","v":{"v":0,"d":"0.00"}},null,"达标"]
[62,"宣化金隅水泥有限公司","宣化区",{"$f":"[1]原表!D64","v":168.94},{"$f":"[1]原表!E64","v":165.11},{"$f":"[1]原表!F64","v":{"v":14335.0372,"d":"14335.04"}},null,3.37,7.38,5.69,21.46,60.19,"2013年10月1日前",{"$f":"[1]调整!N64","v":83.62},{"$f":"[1]原表!M64","v":63.18},null,"达标"]
[63,"张家口金隅水泥有限公司","宣化区",{"$f":"[1]原表!D65","v":{"v":40.4,"d":"40.40"}},{"$f":"[1]原表!E65","v":96.18},{"$f":"[1]原表!F65","v":5800.13},{"$nulls":4},25.15,30.43,"2013年10月1日前",null,{"$f":"[1]原表!M65","v":58.81},{"$f":"[1]原表!N65","v":64.06},"达标"]
[64,"张家口冀东水泥有限责任公司","宣化区",{"$f":"[1]原表!D66","v":{"v":0,"d":"0.00"}},{"$f":"[1]原表!E66","v":63.58},{"$f":"[1]原表!F66","v":5936.02},{"$nulls":4},25.77,25.77,"2013年10月1日前",null,{"$f":"[1]原表!M66","v":{"v":0,"d":"0.00"}},{"$f":"[1]原表!N66","v":38.26},"达标"]
[65,"河北省基弘水泥有限公司","蔚县",{"$f":"[1]原表!D67","v":{"v":0,"d":"0.00"}},{"$f":"[1]原表!E67","v":{"v":38.4,"d":"38.40"}},{"$f":"[1]原表!F67","v":{"v":2383.3,"d":"2383.30"}},{"$nulls":6},"2013年10月1日前",{"$f":"[1]调整!N67","v":30.95},{"$f":"[1]原表!M67","v":{"v":0,"d":"0.00"}},{"$f":"[1]原表!N67","v":30.95},{"$f":"[1]原表!O67","v":0}]
[66,"秦皇岛浅野水泥有限公司","海港区",{"$f":"[1]原表!D68","v":{"v":0,"d":"0.00"}},{"$f":"[1]原表!E68","v":{"v":0,"d":"0.00"}},{"$f":"[1]原表!F68","v":{"v":0,"d":"0.00"}},8.03,8.03,6.39,null,null,83.68,"2013年10月1日前",{"$f":"[1]调整!N68","v":{"v":0,"d":"0.00"}},null,null,"达标"]
[67,"秦皇岛市信合水泥有限公司","海港区",{"$f":"[1]原表!D69","v":85.32},{"$f":"[1]原表!E69","v":105.47},{"$f":"[1]原表!F69","v":7872.13},{"v":0,"d":"0.00"},{"v":0,"d":"0.00"},{"v":0.5,"d":"0.50"},20.12,null,57.02,"2013年10月1日前",{"$f":"[1]调整!N69","v":88.01},{"$f":"[1]原表!M69","v":59.53},null,"达标"]
[68,"秦皇岛市天源水泥厂","青龙",{"$f":"[1]原表!D70","v":76.64},{"$f":"[1]原表!E70","v":90.59},{"$f":"[1]原表!F70","v":9577.68},{"$nulls":4},{"v":10.6,"d":"10.60"},null,"2013年10月1日前",null,{"$f":"[1]原表!M70","v":63.47},{"$f":"[1]原表!N70","v":88.57},"达标"]
[69,"秦皇岛市蓝图水泥有限公司","海港区",{"$f":"[1]原表!D71","v":{"v":0,"d":"0.00"}},{"$f":"[1]原表!E71","v":{"v":17.6,"d":"17.60"}},{"$f":"[1]原表!F71","v":383.54},{"$nulls":6},"2013年10月1日前",{"$f":"[1]调整!N71","v":20.79},{"$f":"[1]原表!M71","v":{"v":0,"d":"0.00"}},{"$f":"[1]原表!N71","v":20.79},"停产"]
[70,"昌黎县碣石源水泥有限公司","昌黎",{"$f":"[1]原表!D72","v":{"v":0,"d":"0.00"}},{"$f":"[1]原表!E72","v":{"v":0,"d":"0.00"}},{"$f":"[1]原表!F72","v":{"v":0,"d":"0.00"}},{"v":1.1,"d":"1.10"},{"v":1.1,"d":"1.10"},0.17,null,{"v":12.1,"d":"12.10"},11.17,"2013年10月1日前",null,{"$f":"[1]原表!M72","v":{"v":0,"d":"0.00"}},{"$f":"[1]原表!N72","v":{"v":0,"d":"0.00"}},"达标"]
[71,"昌黎县天源水泥厂","昌黎",{"$f":"[1]原表!D73","v":{"v":0,"d":"0.00"}},{"$f":"[1]原表!E73","v":18.28},{"$f":"[1]原表!F73","v":{"v":658,"d":"658.00"}},0.99,0.99,0.86,null,13.92,13.79,"2013年10月1日前",null,{"$f":"[1]原表!M73","v":{"v":0,"d":"0.00"}},{"$f":"[1]原表!N73","v":35.29},"达标"]
[72,"昌黎冀东水泥有限公司","昌黎",{"$f":"[1]原表!D74","v":{"v":0,"d":"0.00"}},{"$f":"[1]原表!E74","v":17.54},{"$f":"[1]原表!F74","v":{"v":628.9,"d":"628.90"}},1.72,1.72,1.94,{"v":8.9,"d":"8.90"},1.37,58.62,"2013年10月1日后",{"$f":"[1]调整!N74","v":34.03},{"$f":"[1]原表!M74","v":{"v":0,"d":"0.00"}},null,"达标"]
[73,"河北武山水泥有限公司","卢龙",{"$f":"[1]原表!D75","v":65.91},{"$f":"[1]原表!E75","v":85.18},{"$f":"[1]原表!F75","v":{"v":6953.577,"d":"6953.58"}},8.77,8.77,8.99,26.95,{"v":0,"d":"0.00"},30.43,"2013年10月1日前",{"$f":"[1]调整!N75","v":74.39},{"$f":"[1]原表!M75","v":{"v":58.6,"d":"58.60"}},null,"达标"]
[74,"秦皇岛宝岛水泥有限公司","卢龙",{"$f":"[1]原表!D76","v":57.16},{"$f":"[1]原表!E76","v":49.61},{"$f":"[1]原表!F76","v":5209.93},{"$nulls":4},5.27,5.27,"2013年10月1日后",null,{"$f":"[1]原表!M76","v":62.88},{"$f":"[1]原表!N76","v":87.91},"达标"]
[75,"秦皇岛市抚宁县石门寨第一水泥厂","海港区",{"$f":"[1]原表!D77","v":{"v":0,"d":"0.00"}},{"$f":"[1]原表!E77","v":8.67},{"$f":"[1]原表!F77","v":308.03},{"$nulls":6},"2013年10月1日前",{"$f":"[1]调整!N77","v":33.97},{"$f":"[1]原表!M77","v":{"v":0,"d":"0.00"}},{"$f":"[1]原表!N77","v":33.97},{"$f":"[1]原表!O77","v":0}]
[76,"秦皇岛市抚宁县石门寨第二水泥厂","海港区",{"$f":"[1]原表!D78","v":{"v":0,"d":"0.00"}},{"$f":"[1]原表!E78","v":{"v":0,"d":"0.00"}},{"$f":"[1]原表!F78","v":{"v":0,"d":"0.00"}},{"$nulls":6},"2013年10月1日前",{"$f":"[1]调整!N78","v":{"v":0,"d":"0.00"}},{"$f":"[1]原表!M78","v":{"v":0,"d":"0.00"}},{"$f":"[1]原表!N78","v":{"v":0,"d":"0.00"}},{"$f":"[1]原表!O78","v":"拆除"}]
[77,"河北省抚宁县上庄坨水泥厂","海港区",{"$f":"[1]原表!D79","v":{"v":0,"d":"0.00"}},{"$f":"[1]原表!E79","v":{"v":0,"d":"0.00"}},{"$f":"[1]原表!F79","v":{"v":0,"d":"0.00"}},{"$nulls":6},"2013年10月1日前",{"$f":"[1]调整!N79","v":{"v":0,"d":"0.00"}},{"$f":"[1]原表!M79","v":{"v":0,"d":"0.00"}},{"$f":"[1]原表!N79","v":{"v":0,"d":"0.00"}},{"$f":"[1]原表!O79","v":"拆除"}]
[78,"秦皇岛市华坪水泥厂","海港区",{"$f":"[1]原表!D80","v":{"v":0,"d":"0.00"}},{"$f":"[1]原表!E80","v":{"v":0,"d":"0.00"}},{"$f":"[1]原表!F80","v":{"v":0,"d":"0.00"}},{"$nulls":6},"2013年10月1日前",{"$f":"[1]调整!N80","v":{"v":0,"d":"0.00"}},{"$f":"[1]原表!M80","v":{"v":0,"d":"0.00"}},{"$f":"[1]原表!N80","v":{"v":0,"d":"0.00"}},{"$f":"[1]原表!O80","v":"拆除"}]
[79,"唐山市施尔得建材有限公司","开平",{"$f":"[1]原表!D81","v":{"v":0,"d":"0.00"}},{"$f":"[1]原表!E81","v":{"v":0,"d":"0.00"}},{"$f":"[1]原表!F81","v":{"v":0,"d":"0.00"}},{"$nulls":4},8.53,8.53,"2013年10月1日前",null,{"$f":"[1]原表!M81","v":{"v":0,"d":"0.00"}},{"$f":"[1]原表!N81","v":{"v":0,"d":"0.00"}},"达标"]
[80,"唐山市灯塔水泥有限公司","开平",{"$f":"[1]原表!D82","v":{"v":0,"d":"0.00"}},{"$f":"[1]原表!E82","v":12.37},{"$f":"[1]原表!F82","v":{"v":453.508,"d":"453.51"}},{"$nulls":4},11.93,11.93,"2013年10月1日后",null,{"$f":"[1]原表!M82","v":{"v":0,"d":"0.00"}},{"$f":"[1]原表!N82","v":35.55},"达标"]
[81,"唐山市第一水泥厂","开平",{"$f":"[1]原表!D83","v":{"v":0,"d":"0.00"}},{"$f":"[1]原表!E83","v":18.35},{"$f":"[1]原表!F83","v":617.19},{"$nulls":6},"2013年10月1日前",null,{"$f":"[1]原表!M83","v":{"v":0,"d":"0.00"}},{"$f":"[1]原表!N83","v":32.86},"不达标"]
[82,"唐山开发水泥有限公司","开平",{"$f":"[1]原表!D84","v":{"v":0,"d":"0.00"}},{"$f":"[1]原表!E84","v":{"v":0,"d":"0.00"}},{"$f":"[1]原表!F84","v":{"v":0,"d":"0.00"}},{"$nulls":6},"2013年10月1日前",{"$nulls":3},"拆除"]
[83,"唐山市银河水泥厂","开平",{"$f":"[1]原表!D85","v":{"v":0,"d":"0.00"}},{"$f":"[1]原表!E85","v":{"v":0,"d":"0.00"}},{"$f":"[1]原表!F85","v":{"v":0,"d":"0.00"}},{"$nulls":4},8.68,8.68,"2013年10月1日前",null,null,{"$f":"[1]原表!N85","v":"/"},"达标"]
[84,"唐山三水岗岩水泥有限公司","汉沽",{"$f":"[1]原表!D86","v":{"v":0,"d":"0.00"}},{"$f":"[1]原表!E86","v":22.73},{"$f":"[1]原表!F86","v":{"v":845.8095,"d":"845.81"}},{"$nulls":6},"2013年10月1日前",{"$nulls":3},"停产"]
[85,"唐山市嘉澍工贸有限公司","汉沽",{"$f":"[1]原表!D87","v":{"v":0,"d":"0.00"}},{"$f":"[1]原表!E87","v":{"v":0,"d":"0.00"}},{"$f":"[1]原表!F87","v":{"v":0,"d":"0.00"}},{"$nulls":4},2.18,2.18,"2013年10月1日前",null,null,{"$f":"[1]原表!N87","v":"/"},"达标"]
[86,"唐山市特种水泥有限公司","丰南",{"$f":"[1]原表!D88","v":{"v":0,"d":"0.00"}},{"$f":"[1]原表!E88","v":3.67},{"$f":"[1]原表!F88","v":{"v":557.043,"d":"557.04"}},{"$nulls":4},0.14,0.14,"2013年10月1日前",null,null,{"$f":"[1]原表!N88","v":39.26},"达标"]
[87,"唐山市幸福河水泥有限公司","丰南",{"$f":"[1]原表!D89","v":{"v":0,"d":"0.00"}},{"$f":"[1]原表!E89","v":{"v":0.3,"d":"0.30"}},{"$f":"[1]原表!F89","v":1202.15},{"$nulls":4},{"v":9,"d":"9.00"},{"v":9.2,"d":"9.20"},"2013年10月1日前",null,null,{"$f":"[1]原表!N89","v":38.52},"达标"]
[88,"唐山市长江水泥厂","丰南",{"$f":"[1]原表!D90","v":{"v":0,"d":"0.00"}},{"$f":"[1]原表!E90","v":{"v":21.2,"d":"21.20"}},{"$f":"[1]原表!F90","v":734.32},{"$nulls":4},19.16,19.16,"2013年10月1日前",null,null,{"$f":"[1]原表!N90","v":34.54},"达标"]
[89,"河北曙光强兴水泥有限公司","滦县",{"$f":"[1]原表!D91","v":{"v":0,"d":"0.00"}},{"$f":"[1]原表!E91","v":{"v":30.9,"d":"30.90"}},{"$f":"[1]原表!F91","v":1218.14},null,{"v":2.305474,"d":"2.31"},{"v":0.034629,"d":"0.03"},37.63,null,null,"2013年10月1日前",null,{"$f":"[1]原表!M91","v":"/"},null,"达标"]
[90,"滦县磐石水泥有限公司","滦县",{"$f":"[1]原表!D92","v":{"v":40.0429,"d":"40.04"}},{"$f":"[1]原表!E92","v":{"v":0,"d":"0.00"}},{"$f":"[1]原表!F92","v":1849.78},null,12.67,{"v":0,"d":"0.00"},127.32,null,null,"2013年10月1日后",null,{"$f":"[1]原表!M92","v":63.44},null,"不达标"]
[91,"唐山市增益水泥有限公司","滦县",{"$f":"[1]原表!D93","v":{"v":136.4,"d":"136.40"}},{"$f":"[1]原表!E93","v":{"v":0,"d":"0.00"}},{"$f":"[1]原表!F93","v":{"v":4734.5462,"d":"4734.55"}},{"$nulls":4},5.55,5.57,"2013年10月1日前",null,{"$f":"[1]原表!M93","v":61.04},{"$f":"[1]原表!N93","v":"/"},"达标"]
[92,"唐山北极熊建材有限公司 ","滦县",{"$f":"[1]原表!D94","v":{"v":0,"d":"0.00"}},{"$f":"[1]原表!E94","v":12.19},{"$f":"[1]原表!F94","v":{"v":449.3201,"d":"449.32"}},0.44,0.45,{"v":0.8,"d":"0.80"},null,null,{"v":5,"d":"5.00"},"2013年10月1日前",null,null,{"$f":"[1]原表!N94","v":35.65},"特种水泥"]
[93,"唐山冀杨水泥有限公司","滦县",{"$f":"[1]原表!D95","v":4.64},{"$f":"[1]原表!E95","v":7.68},{"$f":"[1]原表!F95","v":{"v":1872.4595,"d":"1872.46"}},{"$nulls":4},8.74,8.83,"2013年10月1日前",null,{"$f":"[1]原表!M95","v":{"v":0,"d":"0.00"}},{"$f":"[1]原表!N95","v":{"v":0,"d":"0.00"}},"达标"]
[94,"唐山顺发水泥有限公司","玉田",{"$f":"[1]原表!D96","v":{"v":0,"d":"0.00"}},{"$f":"[1]原表!E96","v":24.36},{"$f":"[1]原表!F96","v":{"v":900.738,"d":"900.74"}},{"$nulls":4},77.98,77.92,"2013年10月1日前",null,{"$f":"[1]原表!M96","v":{"v":0,"d":"0.00"}},{"$f":"[1]原表!N96","v":35.96},"达标"]
[95,"玉田县星冠特种水泥有限责任公司","玉田",{"$f":"[1]原表!D97","v":{"v":0,"d":"0.00"}},{"$f":"[1]原表!E97","v":102.19},{"$f":"[1]原表!F97","v":{"v":3748.992,"d":"3748.99"}},{"$nulls":6},"2013年10月1日前",null,{"$f":"[1]原表!M97","v":{"v":0,"d":"0.00"}},{"$f":"[1]原表!N97","v":35.46},{"$f":"[1]原表!O97","v":0}]
[96,"玉田县春城水泥有限公司","玉田",{"$f":"[1]原表!D98","v":{"v":0,"d":"0.00"}},{"$f":"[1]原表!E98","v":{"v":0,"d":"0.00"}},{"$f":"[1]原表!F98","v":{"v":385.976,"d":"385.98"}},{"$nulls":4},20.35,17.37,"2013年10月1日前",null,{"$f":"[1]原表!M98","v":{"v":0,"d":"0.00"}},{"$f":"[1]原表!N98","v":{"v":0,"d":"0.00"}},"达标"]
[97,"唐山玉珠水泥有限公司","玉田",{"$f":"[1]原表!D99","v":{"v":0,"d":"0.00"}},{"$f":"[1]原表!E99","v":27.82},{"$f":"[1]原表!F99","v":{"v":1025.527,"d":"1025.53"}},{"$nulls":6},"2013年10月1日前",null,{"$f":"[1]原表!M99","v":{"v":0,"d":"0.00"}},{"$f":"[1]原表!N99","v":35.25},"停产"]
[98,"玉田县盛兴水泥有限公司","玉田",{"$f":"[1]原表!D100","v":{"v":0,"d":"0.00"}},{"$f":"[1]原表!E100","v":{"v":0,"d":"0.00"}},{"$f":"[1]原表!F100","v":{"v":0,"d":"0.00"}},{"$nulls":4},11.01,10.78,"2013年10月1日前",null,{"$f":"[1]原表!M100","v":{"v":0,"d":"0.00"}},{"$f":"[1]原表!N100","v":{"v":0,"d":"0.00"}},"达标"]
[99,"唐山国丰水泥有限公司","玉田",{"$f":"[1]原表!D101","v":{"v":0,"d":"0.00"}},{"$f":"[1]原表!E101","v":18.41},{"$f":"[1]原表!F101","v":{"v":537.8827,"d":"537.88"}},{"$nulls":6},"2013年10月1日前",{"$f":"[1]调整!N101","v":27.48},{"$f":"[1]原表!M101","v":{"v":0,"d":"0.00"}},{"$f":"[1]原表!N101","v":27.48},"不达标"]
[100,"唐山金剑水泥有限公司","玉田",{"$f":"[1]原表!D102","v":{"v":0,"d":"0.00"}},{"$f":"[1]原表!E102","v":{"v":0,"d":"0.00"}},{"$f":"[1]原表!F102","v":483.74},{"$nulls":4},{"v":107.7,"d":"107.70"},{"v":107.7,"d":"107.70"},"2013年10月1日前",null,{"$f":"[1]原表!M102","v":{"v":0,"d":"0.00"}},{"$f":"[1]原表!N102","v":{"v":0,"d":"0.00"}},"达标"]
[101,"唐山弘也水泥有限公司","玉田",{"$f":"[1]原表!D103","v":{"v":0,"d":"0.00"}},{"$f":"[1]原表!E103","v":143.62},{"$f":"[1]原表!F103","v":{"v":4484.396,"d":"4484.40"}},{"v":1.2,"d":"1.20"},{"v":1.2,"d":"1.20"},{"v":1.2,"d":"1.20"},null,{"v":21.738,"d":"21.74"},{"v":70.233,"d":"70.23"},"2013年10月1日前",{"$f":"[1]调整!N103","v":28.41},null,null,"达标"]
[102,"玉田民权水泥制造有限公司","玉田",{"$f":"[1]原表!D104","v":{"v":48.4595,"d":"48.46"}},{"$f":"[1]原表!E104","v":{"v":113.8533,"d":"113.85"}},{"$f":"[1]原表!F104","v":8634.78},{"$nulls":4},2.91,3.02,"2013年10月1日前",null,{"$f":"[1]原表!M104","v":{"v":61.8,"d":"61.80"}},{"$f":"[1]原表!N104","v":87.21},"达标"]
[103,"唐山金顺达水泥有限公司","玉田",{"$f":"[1]原表!D105","v":{"v":0,"d":"0.00"}},{"$f":"[1]原表!E105","v":3.68},{"$f":"[1]原表!F105","v":{"v":147.3,"d":"147.30"}},{"$nulls":4},2.25,2.25,"2013年10月1日前",null,{"$f":"[1]原表!M105","v":{"v":0,"d":"0.00"}},{"$f":"[1]原表!N105","v":37.67},"达标"]
[104,"唐山诚信水泥制造有限公司","玉田",{"$f":"[1]原表!D106","v":{"v":0,"d":"0.00"}},{"$f":"[1]原表!E106","v":6.42},{"$f":"[1]原表!F106","v":{"v":231.2592,"d":"231.26"}},{"$nulls":4},{"v":9,"d":"9.00"},{"v":9,"d":"9.00"},"2013年10月1日前",null,{"$f":"[1]原表!M106","v":{"v":0,"d":"0.00"}},{"$f":"[1]原表!N106","v":{"v":36.9,"d":"36.90"}},"达标"]
[105,"唐山金螺实业有限公司","玉田",{"$f":"[1]原表!D107","v":{"v":0,"d":"0.00"}},{"$f":"[1]原表!E107","v":31.05},{"$f":"[1]原表!F107","v":1195.92},{"$nulls":4},{"v":0.7443,"d":"0.74"},{"v":0.7443,"d":"0.74"},"2013年10月1日前",null,{"$f":"[1]原表!M107","v":{"v":0,"d":"0.00"}},{"$f":"[1]原表!N107","v":38.91},"达标"]
[106,"唐山玉螺水泥集团有限责任公司","玉田",{"$f":"[1]原表!D108","v":{"v":0,"d":"0.00"}},{"$f":"[1]原表!E108","v":0.97},{"$f":"[1]原表!F108","v":{"v":33.1845,"d":"33.18"}},{"$nulls":4},5.97,5.97,"2013年10月1日前",null,{"$f":"[1]原表!M108","v":{"v":0,"d":"0.00"}},{"$f":"[1]原表!N108","v":33.23},"达标"]
[107,"玉田县冀玉水泥有限公司","玉田",{"$f":"[1]原表!D109","v":{"v":0,"d":"0.00"}},{"$f":"[1]原表!E109","v":14.94},{"$f":"[1]原表!F109","v":434.25},{"$nulls":4},17.76,17.76,"2013年10月1日前",null,{"$f":"[1]原表!M109","v":{"v":0,"d":"0.00"}},{"$f":"[1]原表!N109","v":27.53},"达标"]
[108,"唐山金马启新水泥有限公司","玉田",{"$f":"[1]原表!D110","v":{"v":0,"d":"0.00"}},{"$f":"[1]原表!E110","v":32.29},{"$f":"[1]原表!F110","v":1115.43},{"$nulls":4},13.15,13.15,"2013年10月1日前",null,{"$f":"[1]原表!M110","v":{"v":0,"d":"0.00"}},{"$f":"[1]原表!N110","v":33.42},"达标"]
[109,"玉田县曙光水泥有限公司","玉田",{"$f":"[1]原表!D111","v":{"v":0,"d":"0.00"}},{"$f":"[1]原表!E111","v":{"v":22.2,"d":"22.20"}},{"$f":"[1]原表!F111","v":531.85},{"$nulls":6},"2013年10月1日前",null,{"$f":"[1]原表!M111","v":{"v":0,"d":"0.00"}},{"$f":"[1]原表!N111","v":22.75},"停产"]
[110,"唐山冀强水泥有限公司","玉田",{"$f":"[1]原表!D112","v":{"v":0,"d":"0.00"}},{"$f":"[1]原表!E112","v":{"v":0,"d":"0.00"}},{"$f":"[1]原表!F112","v":{"v":0,"d":"0.00"}},{"$nulls":4},2.78,2.78,"2013年10月1日前",null,{"$f":"[1]原表!M112","v":{"v":0,"d":"0.00"}},{"$f":"[1]原表!N112","v":{"v":0,"d":"0.00"}},"达标"]
[111,"唐山京东水泥有限公司","古冶",{"$f":"[1]原表!D113","v":{"v":0,"d":"0.00"}},{"$f":"[1]原表!E113","v":6.03},{"$f":"[1]原表!F113","v":198.78},{"$nulls":4},6.36,6.36,"2013年10月1日前",null,{"$f":"[1]原表!M113","v":{"v":0,"d":"0.00"}},{"$f":"[1]原表!N113","v":31.29},"达标"]
[112,"唐山市古冶区大安水泥厂","古冶",{"$f":"[1]原表!D114","v":{"v":0,"d":"0.00"}},{"$f":"[1]原表!E114","v":28.74},{"$f":"[1]原表!F114","v":1140.15},{"$nulls":4},{"v":11.6,"d":"11.60"},{"v":11.6,"d":"11.60"},"2013年10月1日前",null,{"$f":"[1]原表!M114","v":{"v":0,"d":"0.00"}},{"$f":"[1]原表!N114","v":39.43},"达标"]
[113,"唐山市古冶金林水泥厂","古冶",{"$f":"[1]原表!D115","v":{"v":0,"d":"0.00"}},{"$f":"[1]原表!E115","v":18.76},{"$f":"[1]原表!F115","v":695.58},{"$nulls":6},"2013年10月1日前",{"$f":"[1]调整!N115","v":36.62},{"$f":"[1]原表!M115","v":{"v":0,"d":"0.00"}},{"$f":"[1]原表!N115","v":36.62},{"$f":"[1]原表!O115","v":0}]
[114,"唐山六九水泥有限公司","古冶",{"$f":"[1]原表!D116","v":{"v":0,"d":"0.00"}},{"$f":"[1]原表!E116","v":{"v":0,"d":"0.00"}},{"$f":"[1]原表!F116","v":7.52},null,4.02,3.96,{"v":0,"d":"0.00"},{"v":8,"d":"8.00"},{"v":8,"d":"8.00"},"2013年10月1日前",null,null,{"$f":"[1]原表!N116","v":{"v":0,"d":"0.00"}},"特种水泥"]
[115,"唐山市燕南水泥有限公司","古冶",{"$f":"[1]原表!D117","v":8.06},{"$f":"[1]原表!E117","v":10.32},{"$f":"[1]原表!F117","v":{"v":1436.442,"d":"1436.44"}},null,9.94,{"v":2.9,"d":"2.90"},95.12,"/","/","2013年10月1日前",null,{"$f":"[1]原表!M117","v":{"v":0,"d":"0.00"}},null,"达标"]
[116,"唐山市文波水泥有限公司","古冶",{"$f":"[1]原表!D118","v":102.16},{"$f":"[1]原表!E118","v":{"v":0,"d":"0.00"}},{"$f":"[1]原表!F118","v":5162.52},{"$nulls":4},3.78,3.78,"2013年10月1日前",null,{"$f":"[1]原表!M118","v":60.27},{"$f":"[1]原表!N118","v":"/"},"达标"]
[117,"唐山曙光大生水泥有限公司","古冶",{"$f":"[1]原表!D119","v":{"v":0,"d":"0.00"}},{"$f":"[1]原表!E119","v":9.64},{"$f":"[1]原表!F119","v":{"v":364.107,"d":"364.11"}},{"$nulls":4},7.69,7.69,"2013年10月1日前",null,{"$f":"[1]原表!M119","v":{"v":0,"d":"0.00"}},{"$f":"[1]原表!N119","v":{"v":36.8,"d":"36.80"}},"达标"]
[118,"唐山市京滦水泥有限责任公司","滦南",{"$f":"[1]原表!D120","v":{"v":0,"d":"0.00"}},{"$f":"[1]原表!E120","v":16.48},{"$f":"[1]原表!F120","v":726.06},{"$nulls":4},2.46,2.46,"2013年10月1日前",null,{"$f":"[1]原表!M120","v":{"v":0,"d":"0.00"}},{"$f":"[1]原表!N120","v":{"v":38.8,"d":"38.80"}},"达标"]
[119,"滦南县第二水泥厂","滦南",{"$f":"[1]原表!D121","v":{"v":0,"d":"0.00"}},{"$f":"[1]原表!E121","v":3.83},{"$f":"[1]原表!F121","v":141.72},{"$nulls":4},12.98,12.98,"2013年10月1日前",null,{"$f":"[1]原表!M121","v":{"v":0,"d":"0.00"}},{"$f":"[1]原表!N121","v":36.28},"达标"]
[120,"唐山耀东水泥有限公司","滦南",{"$f":"[1]原表!D122","v":{"v":0,"d":"0.00"}},{"$f":"[1]原表!E122","v":21.86},{"$f":"[1]原表!F122","v":{"v":570.7862,"d":"570.79"}},null,null,0.85,{"v":59,"d":"59.00"},"/","/","2013年10月1日前",null,{"$f":"[1]原表!M122","v":{"v":0,"d":"0.00"}},null,"达标"]
[121,"唐山京东实业集团水泥有限公司","滦南",{"$f":"[1]原表!D123","v":60.35},{"$f":"[1]原表!E123","v":"/"},{"$f":"[1]原表!F123","v":{"v":4118.586,"d":"4118.59"}},{"$nulls":4},19.37,19.37,"2013年10月1日前",null,{"$f":"[1]原表!M123","v":61.03},{"$f":"[1]原表!N123","v":"/"},"达标"]
[122,"唐山谊丰建材有限公司","滦南",{"$f":"[1]原表!D124","v":{"v":0,"d":"0.00"}},{"$f":"[1]原表!E124","v":29.03},{"$f":"[1]原表!F124","v":{"v":1063.7946,"d":"1063.79"}},{"$nulls":4},10.44,10.44,"2013年10月1日前",null,{"$f":"[1]原表!M124","v":{"v":0,"d":"0.00"}},{"$f":"[1]原表!N124","v":34.93},"达标"]
[123,"唐山圣龙水泥有限公司","遵化",{"$f":"[1]原表!D125","v":{"v":0,"d":"0.00"}},{"$f":"[1]原表!E125","v":19.36},{"$f":"[1]原表!F125","v":744.78},{"$nulls":6},"2013年10月1日前",{"$f":"[1]调整!N125","v":38.47},{"$f":"[1]原表!M125","v":{"v":0,"d":"0.00"}},{"$f":"[1]原表!N125","v":38.47}," "]
[124,"遵化市三官庙水泥厂","遵化",{"$f":"[1]原表!D126","v":{"v":0,"d":"0.00"}},{"$f":"[1]原表!E126","v":{"v":0,"d":"0.00"}},{"$f":"[1]原表!F126","v":{"v":0,"d":"0.00"}},{"$nulls":6},"2013年10月1日前",{"$f":"[1]调整!N126","v":{"v":0,"d":"0.00"}},{"$f":"[1]原表!M126","v":{"v":0,"d":"0.00"}},{"$f":"[1]原表!N126","v":{"v":0,"d":"0.00"}},{"$f":"[1]原表!O126","v":"停产"}]
[125,"冀东水泥丰润有限责任公司","丰润",{"$f":"[1]原表!D127","v":{"v":0,"d":"0.00"}},{"$f":"[1]原表!E127","v":{"v":0,"d":"0.00"}},{"$f":"[1]原表!F127","v":{"v":0,"d":"0.00"}},"/","/","/",{"$nulls":3},"2013年10月1日前",null,null,{"$f":"[1]原表!N127","v":{"v":0,"d":"0.00"}},"达标"]
[126,"冀东水泥滦县有限责任公司","滦县",{"$f":"[1]原表!D128","v":"/"},{"$f":"[1]原表!E128","v":24.16},{"$f":"[1]原表!F128","v":{"v":1075.2229,"d":"1075.22"}},{"v":14.9,"d":"14.90"},9.03,{"v":14.9,"d":"14.90"},77.95,103.57,103.57,"2013年10月1日前",{"$f":"[1]调整!N128","v":{"v":39.2,"d":"39.20"}},{"$f":"[1]原表!M128","v":"/"},null,"达标"]
[127,"唐山冀东启新水泥有限责任公司","市属",{"$f":"[1]原表!D129","v":187.39},{"$f":"[1]原表!E129","v":{"v":127.8,"d":"127.80"}},{"$f":"[1]原表!F129","v":{"v":11783.5287,"d":"11783.53"}},null,{"v":15.5927,"d":"15.59"},{"v":10.1286,"d":"10.13"},38.21,{"v":100.3,"d":"100.30"},{"v":100.3,"d":"100.30"},"2013年10月1日前",{"$f":"[1]调整!N129","v":89.17},{"$f":"[1]原表!M129","v":63.44},null,"达标"]
[128,"唐山冀东三友有限公司","市属",{"$f":"[1]原表!D130","v":{"v":145.5259,"d":"145.53"}},{"$f":"[1]原表!E130","v":146.31},{"$f":"[1]原表!F130","v":{"v":11186.2735,"d":"11186.27"}},null,17.76,13.81,105.42,77.47,77.47,"2013年10月1日前",{"$f":"[1]调整!N130","v":85.32},{"$f":"[1]原表!M130","v":58.09},null,"达标"]
[129,"唐山冀东水泥股份有限公司唐山分公司","丰润",{"$f":"[1]原表!D131","v":186.83},{"$f":"[1]原表!E131","v":96.42},{"$f":"[1]原表!F131","v":{"v":8702.8256,"d":"8702.83"}},23.58,23.58,4.93,195.24,559.15,559.15,"2013年10月1日前",{"$f":"[1]调整!N131","v":82.58},{"$f":"[1]原表!M131","v":61.75},null,"达标"]
[130,"迁安市永固油井水泥有限责任公司","迁安",{"$f":"[1]原表!D132","v":773.04},{"$f":"[1]原表!E132","v":767.78},{"$f":"[1]原表!F132","v":{"v":47460.672,"d":"47460.67"}},{"$nulls":4},5.87,5.87,"2013年10月1日前",null,{"$f":"[1]原表!M132","v":57.44},{"$f":"[1]原表!N132","v":72.23},"达标"]
[131,"迁安市沙滦水泥有限责任公司","迁安",{"$f":"[1]原表!D133","v":{"v":0,"d":"0.00"}},{"$f":"[1]原表!E133","v":7.82},{"$f":"[1]原表!F133","v":{"v":310.2239,"d":"310.22"}},{"$nulls":4},9.87,9.87,"2013年10月1日前",null,{"$f":"[1]原表!M133","v":{"v":0,"d":"0.00"}},{"$f":"[1]原表!N133","v":38.74},"达标"]
[132,"迁安市宏丰水泥厂","迁安",{"$f":"[1]原表!D134","v":{"v":0,"d":"0.00"}},{"$f":"[1]原表!E134","v":33.11},{"$f":"[1]原表!F134","v":1040.21},{"$nulls":6},"2013年10月1日前",null,null,{"$f":"[1]原表!N134","v":31.89},"特种水泥"]
[133,"迁安市黎明水泥有限责任公司","迁安",{"$f":"[1]原表!D135","v":{"v":0,"d":"0.00"}},{"$f":"[1]原表!E135","v":{"v":0.6665,"d":"0.67"}},{"$f":"[1]原表!F135","v":109.72},{"$nulls":6},"2013年10月1日前",{"$nulls":3},"停产"]
[134,"迁安市太平水泥有限责任公司","迁安",{"$f":"[1]原表!D136","v":{"v":0,"d":"0.00"}},{"$f":"[1]原表!E136","v":{"v":0,"d":"0.00"}},{"$f":"[1]原表!F136","v":{"v":0,"d":"0.00"}},{"$nulls":6},"2013年10月1日前",{"$f":"[1]调整!N136","v":"/"},{"$f":"[1]原表!M136","v":"/"},{"$f":"[1]原表!N136","v":"/"},"停产"]
[135,"唐山宇锋水泥有限责任公司","丰润",{"$f":"[1]原表!D137","v":{"v":0,"d":"0.00"}},{"$f":"[1]原表!E137","v":{"v":0,"d":"0.00"}},{"$f":"[1]原表!F137","v":{"v":0,"d":"0.00"}},{"$nulls":4},{"v":22.1,"d":"22.10"},{"v":22.1,"d":"22.10"},"2013年10月1日前",null,{"$f":"[1]原表!M137","v":{"v":0,"d":"0.00"}},{"$f":"[1]原表!N137","v":{"v":0,"d":"0.00"}},"达标"]
[136,"唐山市鑫兴水泥有限公司","丰润",{"$f":"[1]原表!D138","v":{"v":0,"d":"0.00"}},{"$f":"[1]原表!E138","v":40.02},{"$f":"[1]原表!F138","v":1592.62},{"$nulls":4},7.54,7.54,"2013年10月1日前",null,{"$f":"[1]原表!M138","v":{"v":0,"d":"0.00"}},{"$f":"[1]原表!N138","v":38.13},"达标"]
[137,"河北省唐山金达水泥厂","丰润",{"$f":"[1]原表!D139","v":{"v":0,"d":"0.00"}},{"$f":"[1]原表!E139","v":37.91},{"$f":"[1]原表!F139","v":{"v":1118.3624,"d":"1118.36"}},{"$nulls":4},4.26,4.28,"2013年10月1日前",null,{"$f":"[1]原表!M139","v":{"v":0,"d":"0.00"}},{"$f":"[1]原表!N139","v":29.36},"达标"]
[138,"唐山市丰润区华宇水泥有限公司","丰润",{"$f":"[1]原表!D140","v":{"v":0,"d":"0.00"}},{"$f":"[1]原表!E140","v":14.17},{"$f":"[1]原表!F140","v":{"v":411.4092,"d":"411.41"}},{"$nulls":4},18.86,18.86,"2013年10月1日前",null,{"$f":"[1]原表!M140","v":{"v":0,"d":"0.00"}},{"$f":"[1]原表!N140","v":28.53},"达标"]
[139,"唐山市金山水泥有限公司","丰润",{"$f":"[1]原表!D141","v":{"v":0,"d":"0.00"}},{"$f":"[1]原表!E141","v":75.19},{"$f":"[1]原表!F141","v":{"v":2562.9,"d":"2562.90"}},{"$nulls":4},{"v":7.2,"d":"7.20"},7.13,"2013年10月1日前",null,{"$f":"[1]原表!M141","v":{"v":0,"d":"0.00"}},{"$f":"[1]原表!N141","v":33.15},"达标"]
[140,"唐山福顺水泥有限公司","丰润",{"$f":"[1]原表!D142","v":{"v":0,"d":"0.00"}},{"$f":"[1]原表!E142","v":18.36},{"$f":"[1]原表!F142","v":{"v":605.2468,"d":"605.25"}},{"$nulls":4},{"v":86.6,"d":"86.60"},89.55,"2013年10月1日前",null,{"$f":"[1]原表!M142","v":{"v":0,"d":"0.00"}},{"$f":"[1]原表!N142","v":32.72},"达标"]
[141,"唐山市丰润区京丰水泥厂","丰润",{"$f":"[1]原表!D143","v":{"v":0,"d":"0.00"}},{"$f":"[1]原表!E143","v":137.77},{"$f":"[1]原表!F143","v":{"v":4885.9756,"d":"4885.98"}},{"$nulls":4},6.78,6.78,"2013年10月1日前",null,{"$f":"[1]原表!M143","v":{"v":0,"d":"0.00"}},{"$f":"[1]原表!N143","v":33.27},"达标"]
[142,"唐山冀东灰剑水泥有限公司","丰润",{"$f":"[1]原表!D144","v":{"v":0,"d":"0.00"}},{"$f":"[1]原表!E144","v":22.61},{"$f":"[1]原表!F144","v":{"v":839.9786,"d":"839.98"}},{"$nulls":4},"/","/","2013年10月1日前",{"$nulls":3},"停产"]
[143,"唐山冀丰水泥有限公司","丰润",{"$f":"[1]原表!D145","v":{"v":0,"d":"0.00"}},{"$f":"[1]原表!E145","v":"/"},{"$f":"[1]原表!F145","v":{"v":0,"d":"0.00"}},{"$nulls":4},{"v":22.3,"d":"22.30"},{"v":22.3,"d":"22.30"},"2013年10月1日前",null,{"$f":"[1]原表!M145","v":"/"},{"$f":"[1]原表!N145","v":"/"},"达标"]
[144,"唐山泓泰水泥有限公司","丰润区",{"$f":"[1]原表!D146","v":{"v":0,"d":"0.00"}},{"$f":"[1]原表!E146","v":50.04},{"$f":"[1]原表!F146","v":1602.25},{"$nulls":4},{"v":78.8,"d":"78.80"},204.33,"2013年10月1日前",{"$f":"[1]调整!N146","v":30.72},null,null,"达标"]
[145,"唐山市天狮水泥厂","丰润",{"$f":"[1]原表!D147","v":{"v":123.1001,"d":"123.10"}},{"$f":"[1]原表!E147","v":{"v":297.4838,"d":"297.48"}},{"$f":"[1]原表!F147","v":{"v":13120.2467,"d":"13120.25"}},{"$nulls":4},20.38,20.38,"2013年10月1日前",null,null,{"$f":"[1]原表!N147","v":71.26},"达标"]
[146,"唐山燕东水泥股份有限公司","丰润",{"$f":"[1]原表!D148","v":{"v":0,"d":"0.00"}},{"$f":"[1]原表!E148","v":25.47},{"$f":"[1]原表!F148","v":{"v":937.761,"d":"937.76"}},{"v":1,"d":"1.00"},{"v":12,"d":"12.00"},{"v":1,"d":"1.00"},null,84.17,84.17,"2013年10月1日前",{"$f":"[1]调整!N148","v":35.25},null,null,"达标"]
[147,"唐山市天路水泥有限公司","丰润",{"$f":"[1]原表!D149","v":72.89},{"$f":"[1]原表!E149","v":118.23},{"$f":"[1]原表!F149","v":{"v":5581.8059,"d":"5581.81"}},{"$nulls":4},{"v":16.2,"d":"16.20"},{"v":16.2,"d":"16.20"},"2013年10月1日前",null,{"$f":"[1]原表!M149","v":57.09},{"$f":"[1]原表!N149","v":67.64},"达标"]
[148,"唐山永旺水泥有限公司","丰润",{"$f":"[1]原表!D150","v":{"v":0,"d":"0.00"}},{"$f":"[1]原表!E150","v":57.17},{"$f":"[1]原表!F150","v":{"v":1854.327,"d":"1854.33"}},{"$nulls":4},3.37,3.37,"2013年10月1日前",null,{"$f":"[1]原表!M150","v":{"v":0,"d":"0.00"}},{"$f":"[1]原表!N150","v":32.67},"达标"]
[149,"唐山飞龙水泥有限责任公司","丰润",{"$f":"[1]原表!D151","v":{"v":0,"d":"0.00"}},{"$f":"[1]原表!E151","v":4.95},{"$f":"[1]原表!F151","v":{"v":178.2896,"d":"178.29"}},{"$nulls":6},"2013年10月1日前",null,{"$f":"[1]原表!M151","v":{"v":0,"d":"0.00"}},null,"停产"]
[150,"唐山市燕山水泥有限公司","丰润",{"$f":"[1]原表!D152","v":{"v":0,"d":"0.00"}},{"$f":"[1]原表!E152","v":{"v":0,"d":"0.00"}},{"$f":"[1]原表!F152","v":{"v":0,"d":"0.00"}},{"$nulls":4},6.24,6.24,"2013年10月1日前",null,{"$f":"[1]原表!M152","v":{"v":0,"d":"0.00"}},{"$f":"[1]原表!N152","v":"/"},"达标"]
[151,"唐山市泉河水泥有限公司","丰润",{"$f":"[1]原表!D153","v":{"v":0,"d":"0.00"}},{"$f":"[1]原表!E153","v":17.42},{"$f":"[1]原表!F153","v":{"v":611.5598,"d":"611.56"}},{"$nulls":4},9.95,9.95,"2013年10月1日前",null,{"$f":"[1]原表!M153","v":{"v":0,"d":"0.00"}},{"$f":"[1]原表!N153","v":34.44},"达标"]
[152,"唐山鸿顺建材有限公司","丰润",{"$f":"[1]原表!D154","v":{"v":0,"d":"0.00"}},{"$f":"[1]原表!E154","v":16.14},{"$f":"[1]原表!F154","v":{"v":501.9527,"d":"501.95"}},{"$nulls":4},{"v":4.1,"d":"4.10"},{"v":4.1,"d":"4.10"},"2013年10月1日前",null,{"$f":"[1]原表!M154","v":{"v":0,"d":"0.00"}},{"$f":"[1]原表!N154","v":30.45},"达标"]
[153,"唐山市丰润区第一水泥厂","丰润",{"$f":"[1]原表!D155","v":{"v":0,"d":"0.00"}},{"$f":"[1]原表!E155","v":11.51},{"$f":"[1]原表!F155","v":451.89},{"$nulls":4},{"v":3.8,"d":"3.80"},{"v":3.8,"d":"3.80"},"2013年10月1日前",null,{"$f":"[1]原表!M155","v":{"v":0,"d":"0.00"}},{"$f":"[1]原表!N155","v":38.54},"达标"]
[154,"唐山飞龙水泥厂","丰润",{"$f":"[1]原表!D156","v":{"v":0,"d":"0.00"}},{"$f":"[1]原表!E156","v":{"v":5.5492,"d":"5.55"}},{"$f":"[1]原表!F156","v":{"v":197.1662,"d":"197.17"}},{"$nulls":4},9.67,2.26,"2013年10月1日前",null,{"$f":"[1]原表!M156","v":{"v":0,"d":"0.00"}},{"$f":"[1]原表!N156","v":33.22},"达标"]
[155,"唐山宏润水泥厂","丰润",{"$f":"[1]原表!D157","v":{"v":0,"d":"0.00"}},{"$f":"[1]原表!E157","v":14.43},{"$f":"[1]原表!F157","v":{"v":530.2903,"d":"530.29"}},{"$nulls":4},13.44,13.44,"2013年10月1日前",null,{"$f":"[1]原表!M157","v":{"v":0,"d":"0.00"}},{"$f":"[1]原表!N157","v":36.18},"达标"]
[156,"唐山市丰润区天龙水泥厂","丰润",{"$f":"[1]原表!D158","v":{"v":0,"d":"0.00"}},{"$f":"[1]原表!E158","v":21.79},{"$f":"[1]原表!F158","v":{"v":764.5894,"d":"764.59"}},{"$nulls":4},14.49,14.49,"2013年10月1日前",null,{"$f":"[1]原表!M158","v":{"v":0,"d":"0.00"}},{"$f":"[1]原表!N158","v":33.83},"达标"]
[157,"唐山兴唐建材有限公司","丰润",{"$f":"[1]原表!D159","v":{"v":0,"d":"0.00"}},{"$f":"[1]原表!E159","v":20.16},{"$f":"[1]原表!F159","v":704.22},{"$nulls":4},12.92,12.92,"2013年10月1日前",null,{"$f":"[1]原表!M159","v":{"v":0,"d":"0.00"}},{"$f":"[1]原表!N159","v":33.42},"达标"]
[158,"唐山市丰润区顺鑫水泥有限公司","丰润",{"$f":"[1]原表!D160","v":{"v":0,"d":"0.00"}},{"$f":"[1]原表!E160","v":20.23},{"$f":"[1]原表!F160","v":{"v":670.236,"d":"670.24"}},{"$nulls":4},15.46,14.25,"2013年10月1日前",null,{"$f":"[1]原表!M160","v":{"v":0,"d":"0.00"}},{"$f":"[1]原表!N160","v":32.15},"达标"]
[159,"唐山市丰润区冀龙水泥有限公司","丰润",{"$f":"[1]原表!D161","v":{"v":0,"d":"0.00"}},{"$f":"[1]原表!E161","v":65.89},{"$f":"[1]原表!F161","v":{"v":2325.636,"d":"2325.64"}},{"$nulls":4},2.71,2.71,"2013年10月1日前",null,{"$f":"[1]原表!M161","v":{"v":0,"d":"0.00"}},{"$f":"[1]原表!N161","v":{"v":34.9,"d":"34.90"}},"达标"]
[160,"唐山市奥顺水泥有限公司","丰润",{"$f":"[1]原表!D162","v":{"v":0,"d":"0.00"}},{"$f":"[1]原表!E162","v":{"v":3.3038,"d":"3.30"}},{"$f":"[1]原表!F162","v":126.23},{"$nulls":4},5.94,5.94,"2013年10月1日前",null,{"$f":"[1]原表!M162","v":{"v":0,"d":"0.00"}},{"$f":"[1]原表!N162","v":36.45},"达标"]
[161,"唐山燕东集团华城水泥有限公司","丰润",{"$f":"[1]原表!D163","v":{"v":0,"d":"0.00"}},{"$f":"[1]原表!E163","v":8.54},{"$f":"[1]原表!F163","v":{"v":337.7584,"d":"337.76"}},{"$nulls":6},"2013年10月1日前",{"$f":"[1]调整!N163","v":37.93},{"$f":"[1]原表!M163","v":{"v":0,"d":"0.00"}},{"$f":"[1]原表!N163","v":37.93},"拆除"]
[162,"唐山红日水泥厂","丰润",{"$f":"[1]原表!D164","v":{"v":0,"d":"0.00"}},{"$f":"[1]原表!E164","v":{"v":0,"d":"0.00"}},{"$f":"[1]原表!F164","v":{"v":0,"d":"0.00"}},{"$nulls":4},9.36,9.36,"2013年10月1日前",null,{"$f":"[1]原表!M164","v":{"v":0,"d":"0.00"}},{"$f":"[1]原表!N164","v":{"v":0,"d":"0.00"}},"达标"]
[163,"唐山润德水泥有限公司","丰润",{"$f":"[1]原表!D165","v":{"v":0,"d":"0.00"}},{"$f":"[1]原表!E165","v":18.73},{"$f":"[1]原表!F165","v":661.29},{"$nulls":4},27.24,27.24,"2013年10月1日前",null,{"$f":"[1]原表!M165","v":{"v":0,"d":"0.00"}},{"$f":"[1]原表!N165","v":32.97},"达标"]
[164,"唐山市丰润区鸿诚水泥有限公司","丰润",{"$f":"[1]原表!D166","v":{"v":0,"d":"0.00"}},{"$f":"[1]原表!E166","v":36.78},{"$f":"[1]原表!F166","v":1330.13},{"$nulls":4},31.89,31.89,"2013年10月1日前",null,{"$f":"[1]原表!M166","v":{"v":0,"d":"0.00"}},{"$f":"[1]原表!N166","v":34.99},"达标"]
[165,"唐山奥成水泥有限公司","丰润",{"$f":"[1]原表!D167","v":{"v":0,"d":"0.00"}},{"$f":"[1]原表!E167","v":47.51},{"$f":"[1]原表!F167","v":1840.11},{"$nulls":4},12.64,12.64,"2013年10月1日前",null,{"$f":"[1]原表!M167","v":{"v":0,"d":"0.00"}},{"$f":"[1]原表!N167","v":37.57},"达标"]
[166,"唐山奥成水泥有限公司（宏泰分公司）","丰润",{"$f":"[1]原表!D168","v":{"v":0,"d":"0.00"}},{"$f":"[1]原表!E168","v":32.28},{"$f":"[1]原表!F168","v":{"v":1150.7976,"d":"1150.80"}},{"$nulls":4},12.96,12.96,"2013年10月1日前",null,{"$f":"[1]原表!M168","v":{"v":0,"d":"0.00"}},{"$f":"[1]原表!N168","v":35.79},"达标"]
[167,"唐山奥成水泥有限公司金盾分公司","丰润",{"$f":"[1]原表!D169","v":{"v":0,"d":"0.00"}},{"$f":"[1]原表!E169","v":19.39},{"$f":"[1]原表!F169","v":594.39},{"$nulls":4},9.87,9.87,"2013年10月1日前",null,{"$f":"[1]原表!M169","v":{"v":0,"d":"0.00"}},{"$f":"[1]原表!N169","v":29.28},"达标"]
[168,"唐山奥成水泥有限公司全顺分公司","丰润",{"$f":"[1]原表!D170","v":{"v":0,"d":"0.00"}},{"$f":"[1]原表!E170","v":18.24},{"$f":"[1]原表!F170","v":{"v":614.4966,"d":"614.50"}},{"$nulls":4},{"v":11,"d":"11.00"},{"v":11,"d":"11.00"},"2013年10月1日前",null,{"$f":"[1]原表!M170","v":{"v":0,"d":"0.00"}},{"$f":"[1]原表!N170","v":32.97},"达标"]
[169,"唐山奥成水泥有限公司盛鑫分公司","丰润",{"$f":"[1]原表!D171","v":{"v":0,"d":"0.00"}},{"$f":"[1]原表!E171","v":17.26},{"$f":"[1]原表!F171","v":{"v":630.1108,"d":"630.11"}},{"$nulls":4},3.26,3.26,"2013年10月1日前",null,{"$f":"[1]原表!M171","v":{"v":0,"d":"0.00"}},{"$f":"[1]原表!N171","v":35.88},"达标"]
[170,"唐山奥成水泥有限公司兴佛分公司","丰润",{"$f":"[1]原表!D172","v":{"v":0,"d":"0.00"}},{"$f":"[1]原表!E172","v":14.51},{"$f":"[1]原表!F172","v":{"v":336.0113,"d":"336.01"}},{"$nulls":6},"2013年10月1日前",{"$f":"[1]调整!N172","v":22.63},{"$f":"[1]原表!M172","v":{"v":0,"d":"0.00"}},{"$f":"[1]原表!N172","v":22.63},"停产"]
[171,"唐山奥成水泥有限公司宇成分公司","丰润",{"$f":"[1]原表!D173","v":{"v":0,"d":"0.00"}},{"$f":"[1]原表!E173","v":{"v":0,"d":"0.00"}},{"$f":"[1]原表!F173","v":{"v":0,"d":"0.00"}},{"$nulls":6},"2013年10月1日前",{"$f":"[1]调整!N173","v":{"v":0,"d":"0.00"}},{"$f":"[1]原表!M173","v":{"v":0,"d":"0.00"}},{"$f":"[1]原表!N173","v":{"v":0,"d":"0.00"}},"停产"]
[172,"河北燕新建材集团有限公司","三河市",{"$f":"[1]原表!D174","v":{"v":0,"d":"0.00"}},{"$f":"[1]原表!E174","v":{"v":0,"d":"0.00"}},{"$f":"[1]原表!F174","v":{"v":0,"d":"0.00"}},0.12,0.12,0.06,null,63.97,118.86,"2013年10月1日前",{"v":78.1,"d":"78.10"},{"$f":"[1]原表!M174","v":{"v":0,"d":"0.00"}},null,"达标"]
[173,"廊坊曲寨水泥有限公司","三河市",{"$f":"[1]原表!D175","v":109.36},{"$f":"[1]原表!E175","v":181.94},{"$f":"[1]原表!F175","v":14363.62},{"$nulls":4},59.16,54.16,"2013年10月1日前",null,{"$f":"[1]原表!M175","v":{"v":0,"d":"0.00"}},{"$f":"[1]原表!N175","v":{"v":78.1,"d":"78.10"}},"达标"]
[174,"文安县汇融钢渣处理厂（原河北天盛水泥厂）","文安县",{"$f":"[1]原表!D176","v":{"v":0,"d":"0.00"}},{"$f":"[1]原表!E176","v":85.51},{"$f":"[1]原表!F176","v":2807.14},{"$nulls":4},10.74,{"v":9.9,"d":"9.90"},"2013年10月1日前",null,{"$f":"[1]原表!M176","v":{"v":0,"d":"0.00"}},{"$f":"[1]原表!N176","v":30.94},"达标"]
[175,"霸州市新华水泥制造有限公司","霸州",{"$f":"[1]原表!D177","v":{"v":0,"d":"0.00"}},{"$f":"[1]原表!E177","v":12.21},{"$f":"[1]原表!F177","v":444.26},{"$nulls":6},"2013年10月1日前",null,{"$f":"[1]原表!M177","v":{"v":0,"d":"0.00"}},{"$f":"[1]原表!N177","v":34.57},{"$f":"[1]原表!O177","v":0}]
[176,"保定太行和益水泥有限公司","易县",{"$f":"[1]原表!D178","v":{"v":0,"d":"0.00"}},{"$f":"[1]原表!E178","v":{"v":0,"d":"0.00"}},{"$f":"[1]原表!F178","v":{"v":0,"d":"0.00"}},{"v":3.653,"d":"3.65"},{"v":3.653,"d":"3.65"},{"v":3.7988,"d":"3.80"},{"v":0,"d":"0.00"},{"v":12.9694,"d":"12.97"},{"v":108.8696,"d":"108.87"},"2013年10月1日前",{"$f":"[1]调整!N178","v":{"v":0,"d":"0.00"}},null,null,"达标"]
[177,"河北京兰水泥有限公司","易县",{"$f":"[1]原表!D179","v":{"v":95.7544,"d":"95.75"}},{"$f":"[1]原表!E179","v":{"v":159.9374,"d":"159.94"}},{"$f":"[1]原表!F179","v":{"v":9597.942,"d":"9597.94"}},{"v":0,"d":"0.00"},{"v":0,"d":"0.00"},{"v":20.7043,"d":"20.70"},{"v":9.3464,"d":"9.35"},{"v":6.9039,"d":"6.90"},{"v":200.647,"d":"200.65"},"2013年10月1日后",{"$f":"[1]调整!N179","v":74.33},{"$f":"[1]原表!M179","v":58.93},null,"达标"]
[178,"易县华宇大地水泥制造有限公司","易县",{"$f":"[1]原表!D180","v":{"v":182.3852,"d":"182.39"}},{"$f":"[1]原表!E180","v":{"v":297.7524,"d":"297.75"}},{"$f":"[1]原表!F180","v":{"v":21495.1919,"d":"21495.19"}},{"$nulls":4},{"v":4.1769,"d":"4.18"},{"v":4.1769,"d":"4.18"},"2013年10月1日前",null,{"$f":"[1]原表!M180","v":58.99},{"$f":"[1]原表!N180","v":72.44},"达标"]
[179,"河北省易县白水泥厂","易县",{"$f":"[1]原表!D182","v":{"v":2.3961,"d":"2.40"}},{"$f":"[1]原表!E182","v":{"v":2.7919,"d":"2.79"}},{"$f":"[1]原表!F182","v":{"v":284.4307,"d":"284.43"}},{"$nulls":6},"2013年10月1日前",{"$f":"[1]调整!N182","v":102.66},{"$f":"[1]原表!M182","v":76.25},{"$f":"[1]原表!N182","v":102.66},{"$f":"[1]原表!O182","v":"白水泥"}]
[180,"唐县冀东水泥有限责任公司","唐县",{"$f":"[1]原表!D183","v":{"v":0,"d":"0.00"}},{"$f":"[1]原表!E183","v":{"v":0,"d":"0.00"}},{"$f":"[1]原表!F183","v":{"v":0,"d":"0.00"}},6.56,6.56,9.65,{"v":34.5631,"d":"34.56"},{"v":0,"d":"0.00"},{"v":128.8814,"d":"128.88"},"2013年10月1日前",{"$f":"[1]调整!N183","v":{"v":0,"d":"0.00"}},{"$f":"[1]原表!M183","v":{"v":0,"d":"0.00"}},null,"达标"]
[181,"阜平县北岳水泥有限公司","阜平",{"$f":"[1]原表!D184","v":{"v":160.3538,"d":"160.35"}},{"$f":"[1]原表!E184","v":{"v":200.5546,"d":"200.55"}},{"$f":"[1]原表!F184","v":{"v":17856.6887,"d":"17856.69"}},{"$nulls":6},"2013年10月1日前",{"$f":"[1]调整!N184","v":74.33},{"$f":"[1]原表!M184","v":61.65},{"$f":"[1]原表!N184","v":74.33},{"$f":"[1]原表!O184","v":0}]
[182,"顺平县金强水泥有限公司","顺平",{"$f":"[1]原表!D185","v":{"v":0,"d":"0.00"}},{"$f":"[1]原表!E185","v":{"v":0,"d":"0.00"}},{"$f":"[1]原表!F185","v":{"v":0,"d":"0.00"}},{"$nulls":6},"2013年10月1日前",{"$f":"[1]调整!N185","v":{"v":0,"d":"0.00"}},{"$f":"[1]原表!M185","v":{"v":0,"d":"0.00"}},{"$f":"[1]原表!N185","v":{"v":0,"d":"0.00"}},{"$f":"[1]原表!O185","v":"停产"}]
[183,"顺平县曲寨水泥有限公司","顺平",{"$f":"[1]原表!D186","v":{"v":0,"d":"0.00"}},{"$f":"[1]原表!E186","v":{"v":0,"d":"0.00"}},{"$f":"[1]原表!F186","v":{"v":0,"d":"0.00"}},{"$nulls":4},{"v":23.9829,"d":"23.98"},{"v":23.9829,"d":"23.98"},"2013年10月1日前",null,{"$f":"[1]原表!M186","v":{"v":0,"d":"0.00"}},{"$f":"[1]原表!N186","v":{"v":0,"d":"0.00"}},"达标"]
[184,"曲阳金隅水泥有限公司","曲阳",{"$f":"[1]原表!D187","v":{"v":0,"d":"0.00"}},{"$f":"[1]原表!E187","v":{"v":38.8377,"d":"38.84"}},{"$f":"[1]原表!F187","v":{"v":1432.1656,"d":"1432.17"}},2.79,2.79,15.55,24.87,{"v":0,"d":"0.00"},149.58,"2013年10月1日前",{"$f":"[1]调整!N187","v":35.31},{"$f":"[1]原表!M187","v":{"v":0,"d":"0.00"}},null,"达标"]
[185,"曲阳县太行山水泥有限公司","曲阳县",{"$f":"[1]原表!D188","v":157.96},{"$f":"[1]原表!E188","v":205.07},{"$f":"[1]原表!F188","v":{"v":12474.3787,"d":"12474.38"}},{"$nulls":4},{"v":18.0463,"d":"18.05"},{"v":18.0463,"d":"18.05"},"2013年10月1日前",null,{"$f":"[1]原表!M188","v":63.91},{"$f":"[1]原表!N188","v":82.86},"达标"]
[186,"保定市满城区金路水泥厂","满城区",{"$f":"[1]原表!D189","v":{"v":0,"d":"0.00"}},{"$f":"[1]原表!E189","v":33.21},{"$f":"[1]原表!F189","v":{"v":1236.2143,"d":"1236.21"}},{"$nulls":4},{"v":2.529876,"d":"2.53"},null,"2013年10月1日前",null,{"$f":"[1]原表!M189","v":{"v":0,"d":"0.00"}},{"$f":"[1]原表!N189","v":{"v":37.3,"d":"37.30"}},"达标"]
[187,"涞水冀东水泥有限责任公司","涞水县",{"$f":"[1]原表!D190","v":{"v":0,"d":"0.00"}},{"$f":"[1]原表!E190","v":{"v":13.6,"d":"13.60"}},{"$f":"[1]原表!F190","v":494.66},{"v":0,"d":"0.00"},{"v":6.2,"d":"6.20"},4.68,10.53,{"v":0,"d":"0.00"},148.78,"2013年10月1日前",{"$f":"[1]调整!N190","v":35.47},{"$f":"[1]原表!M190","v":{"v":0,"d":"0.00"}},null,"达标"]
[188,"涞水县永乐水泥制造有限公司","涞水县",{"$f":"[1]原表!D191","v":160.83},{"$f":"[1]原表!E191","v":237.48},{"$f":"[1]原表!F191","v":{"v":13906.992,"d":"13906.99"}},{"$nulls":4},{"v":2.5,"d":"2.50"},{"v":2.5,"d":"2.50"},"2013年10月1日前",null,{"$f":"[1]原表!M191","v":62.39},{"$f":"[1]原表!N191","v":75.74},"达标"]
[189,"涿州市鑫磊水泥有限公司","涿州市",{"$f":"[1]原表!D192","v":{"v":0,"d":"0.00"}},{"$f":"[1]原表!E192","v":2.76},{"$f":"[1]原表!F192","v":{"v":117.5066,"d":"117.51"}},{"$nulls":6},"2013年10月1日前",{"$f":"[1]调整!N192","v":38.41},{"$f":"[1]原表!M192","v":{"v":0,"d":"0.00"}},{"$f":"[1]原表!N192","v":38.41},{"$f":"[1]原表!O192","v":0}]
[190,"涞源县水泥厂","涞水县",{"$f":"[1]原表!D193","v":{"v":0,"d":"0.00"}},{"$f":"[1]原表!E193","v":{"v":0,"d":"0.00"}},{"$f":"[1]原表!F193","v":{"v":0,"d":"0.00"}},{"$nulls":4},{"v":6.1,"d":"6.10"},{"v":6.1,"d":"6.10"},"2013年10月1日前",null,{"$f":"[1]原表!M193","v":{"v":0,"d":"0.00"}},{"$f":"[1]原表!N193","v":{"v":0,"d":"0.00"}},"达标"]
[191,"沧州临港金隅水泥有限公司","渤海新区",{"$f":"[1]原表!D194","v":{"v":0,"d":"0.00"}},{"$f":"[1]原表!E194","v":{"v":15.8,"d":"15.80"}},{"$f":"[1]原表!F194","v":{"v":893.6878,"d":"893.69"}},-1.34,2.08,3.42,null,133.71,{"v":0,"d":"0.00"},"2013年10月1日前",null,{"$f":"[1]原表!M194","v":{"v":0,"d":"0.00"}},{"$f":"[1]原表!N194","v":38.81},"达标"]
[192,"东光县群光建筑材料有限公司（现名：东光中联水泥有限公司）","东光县",{"$f":"[1]原表!D195","v":{"v":0,"d":"0.00"}},{"$f":"[1]原表!E195","v":174.22},{"$f":"[1]原表!F195","v":{"v":6113.4,"d":"6113.40"}},{"v":0,"d":"0.00"},{"v":0.073,"d":"0.07"},{"v":0.8362,"d":"0.84"},{"v":0,"d":"0.00"},33.55,34.31,"2013年10月1日后",null,{"$f":"[1]原表!M195","v":{"v":0,"d":"0.00"}},{"$f":"[1]原表!N195","v":{"v":33.2,"d":"33.20"}},"达标"]
[193,"沧州市渤海水泥厂（现名：沧州神狮水泥有限公司）","任丘市",{"$f":"[1]原表!D196","v":{"v":0,"d":"0.00"}},{"$f":"[1]原表!E196","v":{"v":57.7555,"d":"57.76"}},{"$f":"[1]原表!F196","v":{"v":1811.589,"d":"1811.59"}},{"v":0,"d":"0.00"},0.48,0.27,{"v":0,"d":"0.00"},14.19,{"v":0,"d":"0.00"},"2013年10月1日后",null,{"$f":"[1]原表!M196","v":{"v":0,"d":"0.00"}},{"$f":"[1]原表!N196","v":{"v":30.471,"d":"30.47"}},"达标"]
[194,"任丘市凤达水泥有限公司","沧县",{"$f":"[1]原表!D197","v":{"v":0,"d":"0.00"}},{"$f":"[1]原表!E197","v":21.64},{"$f":"[1]原表!F197","v":752.77},{"v":0,"d":"0.00"},0.42,0.41,{"v":0,"d":"0.00"},3.32,{"v":0,"d":"0.00"},"2013年10月1日前",null,{"$f":"[1]原表!M197","v":{"v":0,"d":"0.00"}},{"$f":"[1]原表!N197","v":33.18},"达标"]
[195,"河北金牛化工股份有限公司水泥分公司","渤海新区",{"$f":"[1]原表!D198","v":{"v":0,"d":"0.00"}},{"$f":"[1]原表!E198","v":8.59},{"$f":"[1]原表!F198","v":{"v":299.696,"d":"299.70"}},{"$nulls":6},"2013年10月1日前",null,{"$f":"[1]原表!M198","v":{"v":0,"d":"0.00"}},{"$f":"[1]原表!N198","v":33.91},{"$f":"[1]原表!O198","v":0}]
[196,"衡水中联水泥有限公司","桃城区",{"$f":"[1]原表!D199","v":{"v":0,"d":"0.00"}},{"$f":"[1]原表!E199","v":{"v":0,"d":"0.00"}},{"$f":"[1]原表!F199","v":{"v":0,"d":"0.00"}},{"$nulls":4},{"v":27,"d":"27.00"},{"v":26,"d":"26.00"},"2013年10月1日前",null,{"$f":"[1]原表!M199","v":{"v":0,"d":"0.00"}},{"$f":"[1]原表!N199","v":{"v":0,"d":"0.00"}},"达标"]
[197,"深州冀东水泥有限责任公司","深州市",{"$f":"[1]原表!D200","v":{"v":0,"d":"0.00"}},{"$f":"[1]原表!E200","v":{"v":47,"d":"47.00"}},{"$f":"[1]原表!F200","v":{"v":1621,"d":"1621.00"}},{"$nulls":4},{"v":13.2709,"d":"13.27"},{"v":13.2709,"d":"13.27"},"2013年10月1日前",null,{"$f":"[1]原表!M200","v":{"v":0,"d":"0.00"}},{"$f":"[1]原表!N200","v":33.88},"达标"]
[198,"安平县冀坤水泥建材有限公司","安平县",{"$f":"[1]原表!D201","v":{"v":0,"d":"0.00"}},{"$f":"[1]原表!E201","v":{"v":22.5983,"d":"22.60"}},{"$f":"[1]原表!F201","v":894.99},{"$nulls":4},{"v":4.2,"d":"4.20"},{"v":4.2,"d":"4.20"},"2013年10月1日前",null,{"$f":"[1]原表!M201","v":{"v":0,"d":"0.00"}},{"$f":"[1]原表!N201","v":37.51},"达标"]
[199,"故城山水水泥有限公司","故城县",{"$f":"[1]原表!D202","v":{"v":0,"d":"0.00"}},{"$f":"[1]原表!E202","v":7.47},{"$f":"[1]原表!F202","v":{"v":255.835,"d":"255.84"}},{"$nulls":4},{"v":70.1,"d":"70.10"},68.71,"2013年10月1日前",null,{"$f":"[1]原表!M202","v":{"v":0,"d":"0.00"}},{"$f":"[1]原表!N202","v":34.44},"达标"]
[200,"河北省景县广联水泥厂","景县",{"$f":"[1]原表!D203","v":{"v":0,"d":"0.00"}},{"$f":"[1]原表!E203","v":101.58},{"$f":"[1]原表!F203","v":2840.94},{"$nulls":4},{"v":3.5571,"d":"3.56"},{"v":3.5571,"d":"3.56"},"2013年10月1日前",null,{"$f":"[1]原表!M203","v":{"v":0,"d":"0.00"}},{"$f":"[1]原表!N203","v":26.85},"达标"]
[201,"河北衡水桃城建材集团有限公司建筑材料厂","桃城区",{"$f":"[1]原表!D204","v":{"v":0,"d":"0.00"}},{"$f":"[1]原表!E204","v":{"v":5.558,"d":"5.56"}},{"$f":"[1]原表!F204","v":{"v":193.8,"d":"193.80"}},{"$nulls":6},"2013年10月1日前",null,{"$f":"[1]原表!M204","v":{"v":0,"d":"0.00"}},{"$f":"[1]原表!N204","v":36.03},{"$f":"[1]原表!O204","v":0}]
[202,"衡水河花工贸有限公司","景县",{"$f":"[1]原表!D205","v":{"v":0,"d":"0.00"}},{"$f":"[1]原表!E205","v":{"v":0,"d":"0.00"}},{"$f":"[1]原表!F205","v":{"v":0,"d":"0.00"}},{"$nulls":6},"2013年10月1日前",null,{"$f":"[1]原表!M205","v":{"v":0,"d":"0.00"}},{"$f":"[1]原表!N205","v":{"v":0,"d":"0.00"}},{"$f":"[1]原表!O205","v":"停产"}]
[203,"邢台建德水泥有限公司","邢台县",{"$f":"[1]原表!D206","v":{"v":0,"d":"0.00"}},{"$f":"[1]原表!E206","v":{"v":0,"d":"0.00"}},{"$f":"[1]原表!F206","v":{"v":0,"d":"0.00"}},-1.96,2.05,4.01,{"v":56.8,"d":"56.80"},{"v":0,"d":"0.00"},{"v":0,"d":"0.00"},"2013年10月1日前",null,{"$f":"[1]原表!M206","v":{"v":0,"d":"0.00"}},{"$f":"[1]原表!N206","v":{"v":0,"d":"0.00"}},"达标"]
[204,"河北仙翁水泥股份有限公司","邢台县",{"$f":"[1]原表!D207","v":54.84},{"$f":"[1]原表!E207","v":{"v":0,"d":"0.00"}},{"$f":"[1]原表!F207","v":2108.15},{"$nulls":4},{"v":45.956,"d":"45.96"},{"v":45.956,"d":"45.96"},"2013年10月1日前",null,{"$f":"[1]原表!M207","v":{"v":57.1688091671976,"d":"57.17"}},{"$f":"[1]原表!N207","v":{"v":0,"d":"0.00"}},"达标"]
[205,"临城固实水泥有限公司","邢台县",{"$f":"[1]原表!D208","v":{"v":0,"d":"0.00"}},{"$f":"[1]原表!E208","v":80.83},{"$f":"[1]原表!F208","v":{"v":2783.29126,"d":"2783.29"}},{"$nulls":4},{"v":46.5,"d":"46.50"},{"v":62.2,"d":"62.20"},"2013年10月1日前",null,{"$f":"[1]原表!M208","v":{"v":0,"d":"0.00"}},{"$f":"[1]原表!N208","v":{"v":33.1700370955603,"d":"33.17"}},"达标"]
[206,"临城奎山冀东水泥有限公司","临城县",{"$f":"[1]原表!D209","v":{"v":0,"d":"0.00"}},{"$f":"[1]原表!E209","v":{"v":62,"d":"62.00"}},{"$f":"[1]原表!F209","v":{"v":1984,"d":"1984.00"}},{"v":0.502171,"d":"0.50"},5.63,{"v":5.128723,"d":"5.13"},126.28,null,null,"2013年10月1日前",null,{"$f":"[1]原表!M209","v":{"v":0,"d":"0.00"}},{"$f":"[1]原表!N209","v":{"v":30.2815599090811,"d":"30.28"}},"达标"]
[207,"临城县天利水泥有限公司","临城县",{"$f":"[1]原表!D210","v":{"v":126.786993,"d":"126.79"}},{"$f":"[1]原表!E210","v":{"v":0,"d":"0.00"}},{"$f":"[1]原表!F210","v":{"v":3833.2582,"d":"3833.26"}},{"$nulls":4},{"v":10.3976,"d":"10.40"},{"v":10.3976,"d":"10.40"},"2013年10月1日后",null,{"$f":"[1]原表!M210","v":{"v":57.7637529575293,"d":"57.76"}},{"$f":"[1]原表!N210","v":{"v":0,"d":"0.00"}},"达标"]
[208,"临城县天龙水泥有限责任公司","临城县",{"$f":"[1]原表!D211","v":{"v":0,"d":"0.00"}},{"$f":"[1]原表!E211","v":{"v":30.5812,"d":"30.58"}},{"$f":"[1]原表!F211","v":{"v":980,"d":"980.00"}},{"$nulls":5},{"v":7.0813,"d":"7.08"},"2013年10月1日前",null,{"$f":"[1]原表!M211","v":{"v":0,"d":"0.00"}},{"$f":"[1]原表!N211","v":32.68},"达标"]
[209,"邢台双福建材有限公司","临城县",{"$f":"[1]原表!D212","v":{"v":0,"d":"0.00"}},{"$f":"[1]原表!E212","v":{"v":15.0666,"d":"15.07"}},{"$f":"[1]原表!F212","v":{"v":452.624,"d":"452.62"}},{"$nulls":4},{"v":10.030064,"d":"10.03"},{"v":10.030064,"d":"10.03"},"2013年10月1日前",null,{"$f":"[1]原表!M212","v":{"v":0,"d":"0.00"}},{"$f":"[1]原表!N212","v":29.95},"达标"]
[210,"临城中联福石水泥有限公司","临城县",{"$f":"[1]原表!D213","v":{"v":0,"d":"0.00"}},{"$f":"[1]原表!E213","v":{"v":25.07516,"d":"25.08"}},{"$f":"[1]原表!F213","v":827.48},2.59,9.17,6.58,31.59,null,25.98,"2013年10月1日前",{"$nulls":3},"不达标"]
[211,"临城中联水泥有限公司","临城县",{"$f":"[1]原表!D214","v":55.84},{"$f":"[1]原表!E214","v":{"v":49.7,"d":"49.70"}},{"$f":"[1]原表!F214","v":{"v":6650.2471838325,"d":"6650.25"}},{"v":-0.242586,"d":"-0.24"},{"v":5.4506,"d":"5.45"},{"v":5.693186,"d":"5.69"},{"v":48.222556,"d":"48.22"},null,null,"2013年10月1日前",{"$f":"[1]调整!N214","v":{"v":71.2249230002195,"d":"71.22"}},{"$f":"[1]原表!M214","v":24.67},{"$f":"[1]原表!N214","v":{"v":71.2249230002195,"d":"71.22"}},"达标"]
[212,"河北中达集团有限责任公司","临城县",{"$f":"[1]原表!D215","v":{"v":47.97997,"d":"47.98"}},{"$f":"[1]原表!E215","v":{"v":0,"d":"0.00"}},{"$f":"[1]原表!F215","v":19553.18},{"v":0,"d":"0.00"},{"v":0,"d":"0.00"},{"v":0,"d":"0.00"},{"v":28.540155,"d":"28.54"},{"v":3.05046,"d":"3.05"},{"v":7.045705,"d":"7.05"},"2013年10月1日前",{"$f":"[1]调整!N215","v":{"v":0,"d":"0.00"}},{"$f":"[1]原表!M215","v":{"v":61.4445570685687,"d":"61.44"}},null,"达标"]
[213,"邢台中联水泥有限公司","临城县",{"$f":"[1]原表!D216","v":{"v":32.5354,"d":"32.54"}},{"$f":"[1]原表!E216","v":{"v":17.49246,"d":"17.49"}},{"$f":"[1]原表!F216","v":{"v":2815.1,"d":"2815.10"}},{"v":1.442301382004,"d":"1.44"},{"v":5.31485696,"d":"5.31"},{"v":3.872555577996,"d":"3.87"},null,{"v":49.161041,"d":"49.16"},{"v":97.54267602,"d":"97.54"},"2013年10月1日前",{"$f":"[1]调整!N216","v":{"v":68.1379903140638,"d":"68.14"}},null,null,"达标"]
[214,"奎山冀东水泥有限公司","临城县",{"$f":"[1]原表!D217","v":{"v":49.823934,"d":"49.82"}},{"$f":"[1]原表!E217","v":{"v":157.079238,"d":"157.08"}},{"$f":"[1]原表!F217","v":{"v":9145,"d":"9145.00"}},{"v":-1.3,"d":"-1.30"},1.86,3.16,{"v":0,"d":"0.00"},{"v":35,"d":"35.00"},99.98,"2013年10月1日前",{"$f":"[1]调整!N217","v":{"v":82.5909046836275,"d":"82.59"}},null,null,"达标"]
[215,"邢台天宇水泥有限公司","内丘县",{"$f":"[1]原表!D218","v":63.68},{"$f":"[1]原表!E218","v":{"v":148.747801,"d":"148.75"}},{"$f":"[1]原表!F218","v":{"v":7589.13218,"d":"7589.13"}},{"$nulls":4},{"v":17.2737,"d":"17.27"},null,"2013年10月1日前",null,{"$f":"[1]原表!M218","v":{"v":63.4390790274666,"d":"63.44"}},{"$f":"[1]原表!N218","v":{"v":76.5079709086331,"d":"76.51"}},"达标"]
[216,"河北柴王水泥有限公司","内丘县",{"$f":"[1]原表!D219","v":{"v":0,"d":"0.00"}},{"$f":"[1]原表!E219","v":{"v":29.7278,"d":"29.73"}},{"$f":"[1]原表!F219","v":{"v":1402.7198,"d":"1402.72"}},{"$nulls":4},{"v":9.2994,"d":"9.30"},null,"2013年10月1日前",null,{"$f":"[1]原表!M219","v":{"v":0,"d":"0.00"}},{"$f":"[1]原表!N219","v":35.53},"达标"]
[217,"宁晋县奎山冀东水泥有限公司","隆尧县",{"$f":"[1]原表!D220","v":{"v":0,"d":"0.00"}},{"$f":"[1]原表!E220","v":{"v":18.7702,"d":"18.77"}},{"$f":"[1]原表!F220","v":{"v":703.4297,"d":"703.43"}},{"$nulls":4},{"v":9.781968,"d":"9.78"},{"v":9.781968,"d":"9.78"},"2013年10月1日前",null,{"$f":"[1]原表!M220","v":{"v":0,"d":"0.00"}},{"$f":"[1]原表!N220","v":38.53},"达标"]
[218,"清河县奎山冀东水泥有限公司","隆尧县",{"$f":"[1]原表!D221","v":{"v":0,"d":"0.00"}},{"$f":"[1]原表!E221","v":{"v":21.530968,"d":"21.53"}},{"$f":"[1]原表!F221","v":{"v":849.9561,"d":"849.96"}},{"$nulls":4},{"v":13.989339,"d":"13.99"},{"v":13.989339,"d":"13.99"},"2013年10月1日前",null,{"$f":"[1]原表!M221","v":{"v":0,"d":"0.00"}},{"$f":"[1]原表!N221","v":{"v":38.9272656115601,"d":"38.93"}},"达标"]
[219,"沙河市双基水泥有限公司","隆尧县",{"$f":"[1]原表!D222","v":{"v":0,"d":"0.00"}},{"$f":"[1]原表!E222","v":{"v":31.141525,"d":"31.14"}},{"$f":"[1]原表!F222","v":{"v":1184.8471,"d":"1184.85"}},0.59,0.59,{"v":0,"d":"0.00"},{"v":45.5,"d":"45.50"},{"v":0,"d":"0.00"},{"v":31.6,"d":"31.60"},"2013年10月1日前",{"$f":"[1]调整!N222","v":{"v":37.7770416057017,"d":"37.78"}},{"$f":"[1]原表!M222","v":{"v":0,"d":"0.00"}},null,"达标"]
[220,"邢台金隅咏宁水泥有限公司","隆尧县",{"$f":"[1]原表!D223","v":77.69},{"$f":"[1]原表!E223","v":44.64},{"$f":"[1]原表!F223","v":4407.22},-1.12,0.82,1.94,21.73,4.43,120.66,"2013年10月1日前",{"$f":"[1]调整!N223","v":70.88},{"$f":"[1]原表!M223","v":61.28},null,"达标"]
[221,"河北创业水泥有限公司","宁晋县",{"$f":"[1]原表!D224","v":136.84},{"$f":"[1]原表!E224","v":169.55},{"$f":"[1]原表!F224","v":15402.75},{"$nulls":4},{"v":10,"d":"10.00"},{"v":10,"d":"10.00"},"2013年10月1日前",null,{"$f":"[1]原表!M224","v":{"v":63.3,"d":"63.30"}},{"$f":"[1]原表!N224","v":80.55},"达标"]
[222,"临城奎山冀东水泥有限公司牛山分公司","临西县",{"$f":"[1]原表!D225","v":{"v":0,"d":"0.00"}},{"$f":"[1]原表!E225","v":{"v":14.0776,"d":"14.08"}},{"$f":"[1]原表!F225","v":{"v":581.8,"d":"581.80"}},{"v":-4.780441,"d":"-4.78"},{"v":7.432627,"d":"7.43"},{"v":12.213068,"d":"12.21"},{"v":119.507807,"d":"119.51"},null,null,"2013年10月1日后",{"$f":"[1]调整!N225","v":37.42},{"$f":"[1]原表!M225","v":{"v":0,"d":"0.00"}},{"$f":"[1]原表!N225","v":37.42},"达标"]
[223,"邢台万泰水泥有限责任公司","清河县",{"$f":"[1]原表!D226","v":{"v":114.718066,"d":"114.72"}},{"$f":"[1]原表!E226","v":{"v":0,"d":"0.00"}},{"$f":"[1]原表!F226","v":{"v":3665.9613,"d":"3665.96"}},{"$nulls":6},"2013年10月1日前",{"$f":"[1]调整!N226","v":{"v":0,"d":"0.00"}},{"$f":"[1]原表!M226","v":{"v":58.3525019934611,"d":"58.35"}},{"$f":"[1]原表!N226","v":{"v":0,"d":"0.00"}},{"$f":"[1]原表!O226","v":0}]
[224,"临城县水泥二厂","沙河市",{"$f":"[1]原表!D227","v":{"v":0,"d":"0.00"}},{"$f":"[1]原表!E227","v":{"v":0,"d":"0.00"}},{"$f":"[1]原表!F227","v":{"v":0,"d":"0.00"}},{"$nulls":6},"2013年10月1日前",{"$f":"[1]调整!N227","v":{"v":0,"d":"0.00"}},{"$f":"[1]原表!M227","v":{"v":0,"d":"0.00"}},{"$f":"[1]原表!N227","v":{"v":0,"d":"0.00"}},{"$f":"[1]原表!O227","v":"注销"}]
[225,"奎山冀东临城恒实水泥有限公司","沙河市",{"$f":"[1]原表!D228","v":{"v":0,"d":"0.00"}},{"$f":"[1]原表!E228","v":{"v":0,"d":"0.00"}},{"$f":"[1]原表!F228","v":{"v":0,"d":"0.00"}},{"$nulls":6},"2013年10月1日前",{"$f":"[1]调整!N228","v":{"v":0,"d":"0.00"}},{"$f":"[1]原表!M228","v":{"v":0,"d":"0.00"}},{"$f":"[1]原表!N228","v":{"v":0,"d":"0.00"}},"停产"]
[226,"河北金隆水泥集团有限公司","沙河市",{"$f":"[1]原表!D229","v":{"v":0,"d":"0.00"}},{"$f":"[1]原表!E229","v":{"v":0,"d":"0.00"}},{"$f":"[1]原表!F229","v":{"v":0,"d":"0.00"}},{"$nulls":6},"2013年10月1日前",{"$f":"[1]调整!N229","v":{"v":0,"d":"0.00"}},{"$f":"[1]原表!M229","v":{"v":0,"d":"0.00"}},{"$f":"[1]原表!N229","v":{"v":0,"d":"0.00"}}]
[227,"冀中能源股份有限公司水泥厂临西分厂","临城县",{"$f":"[1]原表!D230","v":{"v":0,"d":"0.00"}},{"$f":"[1]原表!E230","v":{"v":0,"d":"0.00"}},{"$f":"[1]原表!F230","v":{"v":0,"d":"0.00"}},{"$nulls":6},"2013年10月1日前",{"$f":"[1]调整!N230","v":{"v":0,"d":"0.00"}},{"$f":"[1]原表!M230","v":{"v":0,"d":"0.00"}},{"$f":"[1]原表!N230","v":{"v":0,"d":"0.00"}},{"$f":"[1]原表!O230","v":"停产"}]
[228,"河北省武安市元宝山工业集团水泥有限公司","武安市",{"$f":"[1]原表!D231","v":{"v":0,"d":"0.00"}},{"$f":"[1]原表!E231","v":{"v":0,"d":"0.00"}},{"$f":"[1]原表!F231","v":{"v":0,"d":"0.00"}},{"v":1.9096,"d":"1.91"},{"v":1.9096,"d":"1.91"},{"v":1.3657,"d":"1.37"},null,{"v":7.1253,"d":"7.13"},{"v":6.5814,"d":"6.58"},"2013年10月1日前",null,{"$f":"[1]原表!M231","v":{"v":0,"d":"0.00"}},{"$f":"[1]原表!N231","v":{"v":0,"d":"0.00"}},"达标"]
[229,"武安市兴山水泥制造有限公司","武安市",{"$f":"[1]原表!D232","v":{"v":0,"d":"0.00"}},{"$f":"[1]原表!E232","v":{"v":14.1317,"d":"14.13"}},{"$f":"[1]原表!F232","v":{"v":505.3414,"d":"505.34"}},{"v":0.0089,"d":"0.01"},{"v":0.0089,"d":"0.01"},{"v":0.1505,"d":"0.15"},null,{"v":1.1,"d":"1.10"},{"v":1.2416,"d":"1.24"},"2013年10月1日前",null,{"$f":"[1]原表!M232","v":{"v":0,"d":"0.00"}},{"$f":"[1]原表!N232","v":35.99},"达标"]
[230,"河北石台山水泥有限公司","武安市",{"$f":"[1]原表!D233","v":{"v":0,"d":"0.00"}},{"$f":"[1]原表!E233","v":{"v":2.1341,"d":"2.13"}},{"$f":"[1]原表!F233","v":{"v":79.4933,"d":"79.49"}},{"v":1.1853,"d":"1.19"},{"v":1.1853,"d":"1.19"},{"v":2.8109,"d":"2.81"},null,{"v":6.625,"d":"6.63"},{"v":8.2506,"d":"8.25"},"2013年10月1日前",null,{"$f":"[1]原表!M233","v":{"v":0,"d":"0.00"}},{"$f":"[1]原表!N233","v":37.59},"达标"]
[231,"武安市保事达水泥制造有限公司","武安市",{"$f":"[1]原表!D234","v":{"v":0,"d":"0.00"}},{"$f":"[1]原表!E234","v":{"v":13.5256,"d":"13.53"}},{"$f":"[1]原表!F234","v":{"v":528.106,"d":"528.11"}},{"v":0,"d":"0.00"},{"v":0,"d":"0.00"},{"v":0.4507,"d":"0.45"},null,{"v":2.9891,"d":"2.99"},{"v":3.4398,"d":"3.44"},"2013年10月1日前",null,{"$f":"[1]原表!M234","v":{"v":0,"d":"0.00"}},{"$f":"[1]原表!N234","v":37.61},"达标"]
[232,"武安市瑞云水泥有限公司","武安市",{"$f":"[1]原表!D235","v":{"v":0,"d":"0.00"}},{"$f":"[1]原表!E235","v":{"v":6.8797,"d":"6.88"}},{"$f":"[1]原表!F235","v":{"v":262.392,"d":"262.39"}},{"v":3.9324,"d":"3.93"},{"v":3.9324,"d":"3.93"},{"v":0.8369,"d":"0.84"},null,{"v":21.2602,"d":"21.26"},{"v":18.1647,"d":"18.16"},"2013年10月1日前",null,{"$f":"[1]原表!M235","v":{"v":0,"d":"0.00"}},{"$f":"[1]原表!N235","v":37.33},"达标"]
[233,"邯郸市鼓兴水泥厂","武安市",{"$f":"[1]原表!D236","v":{"v":0,"d":"0.00"}},{"$f":"[1]原表!E236","v":{"v":31.1245,"d":"31.12"}},{"$f":"[1]原表!F236","v":{"v":1198.2965,"d":"1198.30"}},{"$nulls":6},"2013年10月1日前",{"$f":"[1]调整!N236","v":36.28},{"$f":"[1]原表!M236","v":{"v":0,"d":"0.00"}},{"$f":"[1]原表!N236","v":36.28},"不达标"]
[234,"中煤第一建设有限公司建筑材料厂","武安市",{"$f":"[1]原表!D237","v":{"v":0,"d":"0.00"}},{"$f":"[1]原表!E237","v":{"v":0,"d":"0.00"}},{"$f":"[1]原表!F237","v":{"v":0,"d":"0.00"}},{"$nulls":6},"2013年10月1日前",{"$f":"[1]调整!N237","v":{"v":0,"d":"0.00"}},{"$f":"[1]原表!M237","v":{"v":0,"d":"0.00"}},{"$f":"[1]原表!N237","v":{"v":0,"d":"0.00"}},{"$f":"[1]原表!O237","v":"无法核算"}]
[235,"河北省涉县第三水泥厂","涉县",{"$f":"[1]原表!D238","v":{"v":0,"d":"0.00"}},{"$f":"[1]原表!E238","v":{"v":0,"d":"0.00"}},{"$f":"[1]原表!F238","v":{"v":0,"d":"0.00"}},{"$nulls":6},"2013年10月1日前",{"$f":"[1]调整!N238","v":{"v":0,"d":"0.00"}},{"$f":"[1]原表!M238","v":{"v":0,"d":"0.00"}},{"$f":"[1]原表!N238","v":{"v":0,"d":"0.00"}},{"$f":"[1]原表!O238","v":"停产"}]
[236,"武安市紫金山水泥厂","武安市",{"$f":"[1]原表!D239","v":{"v":0,"d":"0.00"}},{"$f":"[1]原表!E239","v":{"v":0,"d":"0.00"}},{"$f":"[1]原表!F239","v":{"v":0,"d":"0.00"}},{"v":0.4863,"d":"0.49"},{"v":0.4863,"d":"0.49"},{"v":0.0897,"d":"0.09"},null,6.25,{"v":5.8533,"d":"5.85"},"2013年10月1日前",null,{"$f":"[1]原表!M239","v":{"v":0,"d":"0.00"}},{"$f":"[1]原表!N239","v":{"v":0,"d":"0.00"}},"达标"]
[237,"武安市邯武水泥厂","武安市",{"$f":"[1]原表!D240","v":{"v":0,"d":"0.00"}},{"$f":"[1]原表!E240","v":{"v":9.7556,"d":"9.76"}},{"$f":"[1]原表!F240","v":{"v":350.6,"d":"350.60"}},{"v":0.0164,"d":"0.02"},{"v":0.0164,"d":"0.02"},{"v":0.1439,"d":"0.14"},null,{"v":4.1441,"d":"4.14"},{"v":4.2715,"d":"4.27"},"2013年10月1日前",null,{"$f":"[1]原表!M240","v":{"v":0,"d":"0.00"}},{"$f":"[1]原表!N240","v":{"v":35.047,"d":"35.05"}},"达标"]
[238,"武安市康力水泥制造有限公司","武安市",{"$f":"[1]原表!D241","v":{"v":0,"d":"0.00"}},{"$f":"[1]原表!E241","v":{"v":8.453,"d":"8.45"}},{"$f":"[1]原表!F241","v":323.16},{"v":0.8113,"d":"0.81"},{"v":0.8113,"d":"0.81"},{"v":0.4364,"d":"0.44"},null,{"v":13.4974,"d":"13.50"},{"v":13.1224,"d":"13.12"},"2013年10月1日前",null,{"$f":"[1]原表!M241","v":{"v":0,"d":"0.00"}},{"$f":"[1]原表!N241","v":{"v":39.5658,"d":"39.57"}},"达标"]
[239,"武安市鼓山水泥有限公司","武安市",{"$f":"[1]原表!D242","v":{"v":0,"d":"0.00"}},{"$f":"[1]原表!E242","v":{"v":21.1061,"d":"21.11"}},{"$f":"[1]原表!F242","v":{"v":734.0285,"d":"734.03"}},{"v":0.1881,"d":"0.19"},{"v":0.1881,"d":"0.19"},{"v":0.4805,"d":"0.48"},null,{"v":9.0791,"d":"9.08"},{"v":9.3895,"d":"9.39"},"2013年10月1日前",null,{"$f":"[1]原表!M242","v":{"v":0,"d":"0.00"}},{"$f":"[1]原表!N242","v":35.42},"达标"]
[240,"武安市金瑞峰水泥制造有限公司","武安市",{"$f":"[1]原表!D243","v":{"v":0,"d":"0.00"}},{"$f":"[1]原表!E243","v":{"v":20.8786,"d":"20.88"}},{"$f":"[1]原表!F243","v":{"v":768,"d":"768.00"}},{"v":0.004,"d":"0.00"},{"v":0.004,"d":"0.00"},{"v":0.006,"d":"0.01"},null,3.01,{"v":3.062,"d":"3.06"},"2013年10月1日前",null,{"$f":"[1]原表!M243","v":{"v":0,"d":"0.00"}},{"$f":"[1]原表!N243","v":{"v":37.4,"d":"37.40"}},"达标"]
[241,"武安市第三水泥厂","武安市",{"$f":"[1]原表!D244","v":{"v":0,"d":"0.00"}},{"$f":"[1]原表!E244","v":{"v":5.3719,"d":"5.37"}},{"$f":"[1]原表!F244","v":{"v":200.4145,"d":"200.41"}},{"v":0.6333,"d":"0.63"},{"v":0.6333,"d":"0.63"},{"v":0.2438,"d":"0.24"},null,{"v":6.7945,"d":"6.79"},{"v":6.4051,"d":"6.41"},"2013年10月1日前",null,{"$f":"[1]原表!M244","v":{"v":0,"d":"0.00"}},{"$f":"[1]原表!N244","v":{"v":37.5987,"d":"37.60"}},"达标"]
[242,"武安市红旗水泥厂","武安市",{"$f":"[1]原表!D245","v":{"v":0,"d":"0.00"}},{"$f":"[1]原表!E245","v":{"v":19.6176,"d":"19.62"}},{"$f":"[1]原表!F245","v":{"v":706.2322,"d":"706.23"}},{"v":0.2715,"d":"0.27"},{"v":0.2715,"d":"0.27"},{"v":0.369,"d":"0.37"},null,{"v":6.671,"d":"6.67"},{"v":6.7684,"d":"6.77"},"2013年10月1日前",null,{"$f":"[1]原表!M245","v":{"v":0,"d":"0.00"}},{"$f":"[1]原表!N245","v":35.83},"达标"]
[243,"永年县水泥有限责任公司","永年区",{"$f":"[1]原表!D246","v":{"v":0,"d":"0.00"}},{"$f":"[1]原表!E246","v":{"v":9.8618,"d":"9.86"}},{"$f":"[1]原表!F246","v":{"v":374.514,"d":"374.51"}},{"$nulls":6},"2013年10月1日前",{"$f":"[1]调整!N246","v":{"v":36.3582,"d":"36.36"}},{"$f":"[1]原表!M246","v":{"v":0,"d":"0.00"}},{"$f":"[1]原表!N246","v":{"v":36.3582,"d":"36.36"}},{"$f":"[1]原表!O246","v":0}]
[244,"邯郸金隅太行水泥有限责任公司","峰峰矿区",{"$f":"[1]原表!D247","v":{"v":0,"d":"0.00"}},{"$f":"[1]原表!E247","v":{"v":0,"d":"0.00"}},{"$f":"[1]原表!F247","v":{"v":0,"d":"0.00"}},{"v":0.542408495905271,"d":"0.54"},{"v":0.542408495905271,"d":"0.54"},{"v":9.816916,"d":"9.82"},{"v":131.521401,"d":"131.52"},null,{"v":183.912906504095,"d":"183.91"},"2013年10月1日前",{"$f":"[1]调整!N247","v":{"v":0,"d":"0.00"}},{"$f":"[1]原表!M247","v":{"v":0,"d":"0.00"}},null,"达标"]
[245,"邯郸涉县金隅水泥有限公司","涉县",{"$f":"[1]原表!D248","v":305.76},{"$f":"[1]原表!E248","v":238.47},{"$f":"[1]原表!F248","v":{"v":26819.2150619598,"d":"26819.22"}},{"v":0.6,"d":"0.60"},{"v":0.6,"d":"0.60"},3.13,{"v":60.423069,"d":"60.42"},{"v":0.059242,"d":"0.06"},{"v":51.071183,"d":"51.07"},"2013年10月1日前",{"$f":"[1]调整!N248","v":73.87},{"$f":"[1]原表!M248","v":59.06},null,"达标"]
[246,"武安市新峰水泥有限责任公司","武安市",{"$f":"[1]原表!D249","v":108.96},{"$f":"[1]原表!E249","v":69.44},{"$f":"[1]原表!F249","v":7892.81},6.86,6.86,1.16,269.28,null,225.94,"2013年10月1日前",{"$f":"[1]调整!N249","v":75.51},{"$f":"[1]原表!M249","v":60.67},null,"达标"]
[247,"邯郸市大桥水泥有限公司","武安市",{"$f":"[1]原表!D250","v":500.91},{"$f":"[1]原表!E250","v":{"v":344.4,"d":"344.40"}},{"$f":"[1]原表!F250","v":{"v":40673.6818,"d":"40673.68"}},7.44,7.44,2.97,67.98,null,2.13,"2013年10月1日前",{"$f":"[1]调整!N250","v":64.97},{"$f":"[1]原表!M250","v":58.33},null,"达标"]
[248,"邯郸市峰峰水泥有限公司","峰峰矿区",{"$f":"[1]原表!D251","v":74.58},{"$f":"[1]原表!E251","v":5.64},{"$f":"[1]原表!F251","v":4831.83},{"v":0.0159,"d":"0.02"},{"v":0.0159,"d":"0.02"},{"v":0.2669,"d":"0.27"},null,{"$f":"L250+G250-I250","v":{"v":9.7451,"d":"9.75"}},{"v":9.9961,"d":"10.00"},"2013年10月1日前",null,{"$f":"[1]原表!M251","v":59.49},{"$f":"[1]原表!N251","v":61.57},"达标"]
[249,"邯郸市滏源水泥有限公司","峰峰矿区",{"$f":"[1]原表!D252","v":{"v":0,"d":"0.00"}},{"$f":"[1]原表!E252","v":{"v":18.7643,"d":"18.76"}},{"$f":"[1]原表!F252","v":694.12},{"v":0.0923,"d":"0.09"},{"v":0.0923,"d":"0.09"},{"v":0.2265,"d":"0.23"},null,{"v":2.1070999999999995,"d":"2.11"},{"v":2.2413,"d":"2.24"},"2013年10月1日前",null,{"$f":"[1]原表!M252","v":{"v":0,"d":"0.00"}},{"$f":"[1]原表!N252","v":37.32},"达标"]
[250,"邯郸市鼓峰水泥有限责任公司","峰峰矿区",{"$f":"[1]原表!D253","v":{"v":0,"d":"0.00"}},{"$f":"[1]原表!E253","v":{"v":8.0812,"d":"8.08"}},{"$f":"[1]原表!F253","v":293.27},{"v":0.048505,"d":"0.05"},{"v":0.048505,"d":"0.05"},{"v":0,"d":"0.00"},null,7.42,{"v":7.371495,"d":"7.37"},"2013年10月1日后",null,{"$f":"[1]原表!M253","v":{"v":0,"d":"0.00"}},{"$f":"[1]原表!N253","v":36.43},"达标"]
[251,"邯郸千升水泥有限公司","峰峰矿区",{"$f":"[1]原表!D254","v":{"v":0,"d":"0.00"}},{"$f":"[1]原表!E254","v":{"v":16.3811,"d":"16.38"}},{"$f":"[1]原表!F254","v":{"v":597.524,"d":"597.52"}},{"v":0.0246,"d":"0.02"},{"v":0.0246,"d":"0.02"},{"v":0.4326,"d":"0.43"},null,{"v":11.243884,"d":"11.24"},{"v":11.651884,"d":"11.65"},"2013年10月1日前",null,{"$f":"[1]原表!M254","v":{"v":0,"d":"0.00"}},{"$f":"[1]原表!N254","v":35.19},"达标"]
[252,"峰峰矿区通顺水泥有限公司","峰峰矿区",{"$f":"[1]原表!D255","v":{"v":0,"d":"0.00"}},{"$f":"[1]原表!E255","v":16.93},{"$f":"[1]原表!F255","v":505.98},{"v":1.474993,"d":"1.47"},{"v":1.474993,"d":"1.47"},{"v":1.923537,"d":"1.92"},null,{"v":5.229956,"d":"5.23"},{"v":5.6785,"d":"5.68"},"2013年10月1日前",null,{"$f":"[1]原表!M255","v":{"v":0,"d":"0.00"}},{"$f":"[1]原表!N255","v":{"v":27.9,"d":"27.90"}},"达标"]
[253,"邯郸市新市水建材有限公司","峰峰矿区",{"$f":"[1]原表!D256","v":{"v":0,"d":"0.00"}},{"$f":"[1]原表!E256","v":9.66},{"$f":"[1]原表!F256","v":{"v":361.2644,"d":"361.26"}},{"v":3.3E-3,"d":"0.00"},{"v":3.3E-3,"d":"0.00"},{"v":0.4423,"d":"0.44"},null,{"v":2.515,"d":"2.52"},{"v":2.954,"d":"2.95"},"2013年10月1日后",null,{"$f":"[1]原表!M256","v":{"v":0,"d":"0.00"}},{"$f":"[1]原表!N256","v":37.57},"不达标"]
[254,"成安金隅太行水泥有限公司","成安县",{"$f":"[1]原表!D257","v":{"v":0,"d":"0.00"}},{"$f":"[1]原表!E257","v":9.44},{"$f":"[1]原表!F257","v":462.95},{"v":0.135684,"d":"0.14"},{"v":0.135684,"d":"0.14"},{"v":0.695948,"d":"0.70"},null,{"v":52.178760999999994,"d":"52.18"},{"v":52.739025,"d":"52.74"},"2013年10月1日前",null,{"$f":"[1]原表!M257","v":{"v":0,"d":"0.00"}},{"$f":"[1]原表!N257","v":38.34},"达标"]
[255,"邯郸市七星山水泥厂","永年区",{"$f":"[1]原表!D258","v":{"v":0,"d":"0.00"}},{"$f":"[1]原表!E258","v":80.08},{"$f":"[1]原表!F258","v":2038.82},{"v":0.183118,"d":"0.18"},{"v":0.183118,"d":"0.18"},{"v":0.275015,"d":"0.28"},null,{"v":3.879887,"d":"3.88"},{"v":3.971784,"d":"3.97"},"2013年10月1日前",null,{"$f":"[1]原表!M258","v":{"v":0,"d":"0.00"}},{"$f":"[1]原表!N258","v":{"v":23.6,"d":"23.60"}},"达标"]
[256,"河北峰标建材有限公司","峰峰矿区",{"$f":"[1]原表!D259","v":{"v":0,"d":"0.00"}},{"$f":"[1]原表!E259","v":{"v":8.8262,"d":"8.83"}},{"$f":"[1]原表!F259","v":343.16},{"$nulls":6},"2013年10月1日前",{"$f":"[1]调整!N259","v":38.86},{"$f":"[1]原表!M259","v":{"v":0,"d":"0.00"}},{"$f":"[1]原表!N259","v":38.86},{"$f":"[1]原表!O259","v":0}]
[257,"冀中能源邯郸矿业集团邯凤水泥有限公司","峰峰矿区",{"$f":"[1]原表!D260","v":{"v":0,"d":"0.00"}},{"$f":"[1]原表!E260","v":{"v":0,"d":"0.00"}},{"$f":"[1]原表!F260","v":{"v":0,"d":"0.00"}},{"$nulls":6},"2013年10月1日前",{"$f":"[1]调整!N260","v":{"v":0,"d":"0.00"}},{"$f":"[1]原表!M260","v":{"v":0,"d":"0.00"}},{"$f":"[1]原表!N260","v":{"v":0,"d":"0.00"}},{"$f":"[1]原表!O260","v":"停产"}]
[258,"河北定州宝光实业有限公司","定州市",{"$f":"[1]原表!D261","v":{"v":0,"d":"0.00"}},{"$f":"[1]原表!E261","v":{"v":0,"d":"0.00"}},{"$f":"[1]原表!F261","v":{"v":0,"d":"0.00"}},{"$nulls":4},5.38,5.38,"2013年10月1日前",null,{"$f":"[1]原表!M261","v":{"v":0,"d":"0.00"}},{"$f":"[1]原表!N261","v":{"v":0,"d":"0.00"}},"达标"]
[259,"河北辛集天塔山水泥有限责任公司","辛集市",{"$f":"[1]原表!D262","v":{"v":0,"d":"0.00"}},{"$f":"[1]原表!E262","v":{"v":11.6,"d":"11.60"}},{"$f":"[1]原表!F262","v":{"v":450.0348,"d":"450.03"}},{"$nulls":4},13.79,13.79,"2013年10月1日前",null,{"$f":"[1]原表!M262","v":{"v":0,"d":"0.00"}},{"$f":"[1]原表!N262","v":{"v":39.9,"d":"39.90"}},"达标"]
[260,"辛集市钢信新型建材有限公司","辛集市",{"$f":"[1]原表!D263","v":{"v":0,"d":"0.00"}},{"$f":"[1]原表!E263","v":26.53},{"$f":"[1]原表!F263","v":973.05},{"$f":"[1]原表!G263","v":{"v":0,"d":"0.00"}},{"$f":"[1]原表!H263","v":{"v":0,"d":"0.00"}},{"$f":"[1]原表!I263","v":{"v":0,"d":"0.00"}},{"$f":"[1]原表!J263","v":{"v":0,"d":"0.00"}},{"$f":"[1]原表!K263","v":13.79},{"$f":"[1]原表!L263","v":13.79},"2013年10月1日后",null,{"$f":"[1]原表!M263","v":{"v":0,"d":"0.00"}},{"$f":"[1]原表!N263","v":35.88},"达标"]
["注：水泥企业是否达标界定标准为：2013年10月1日前投产，可比水泥综合电耗≤90kW.h/t，可比熟料综合电耗≤64kW.h/t，粉磨站可比水泥综合电耗≤40kW.h/t；2013年10月1日后投产，可比水泥综合电耗≤88kW.h/t，可比熟料综合电耗≤60kW.h/t，粉磨站可比水泥综合电耗≤36kW.h/t。\n唐山圣龙水泥有限公司  2015年12月原公司法人孙会民因违法问题被滦南县公安局带走，滦南县公安局证明，2016年4月之前财务账册、生产统计资料及相关报表被滦南县公安局调取，无法查阅。2016年5月现公司法人杨晓良接收该公司，2016年5月-12月生产\n 河北金隆水泥集团有限公司停产（没有产能指标，无市场准入许可无法生产）"]

{"sheet":"华北地区 天津12","index":8,"n_rows":16,"n_cols":4,"rows_kept":16,"merged":[[0,0,0,3],[15,0,15,3]]}
["天津市水泥企业单位产品能耗情况"]
["序号","企业名称","可比水泥综合电耗\n（kW.h/t）","用电加价\n（元/千瓦时）"]
[1,"天津振兴水泥有限公司",85.36]
[2,"天津冀东水泥有限公司",38.37]
[3,"天津山水水泥有限公司",29.03]
[4,"天津大站水泥有限公司3#线",30.03]
[5,"天津大站水泥有限公司4#线",34.35]
[6,"天津市天辉水泥有限公司",39.49]
[7,"天津天旺崇正水泥有限责任公司",32.26]
[8,"天津银山水泥有限公司",29.65]
[9,"天津鑫达山建筑材料制造有限公司",31.51]
[10,"天津市福华建筑材料制品有限公司",36.89]
[11,"天津天瑞水泥有限公司",30.05]
[12,"天津市盛泉水泥有限公司",37.18]
[13,"天津市金晟华水泥有限公司",29.73]
["备注：天津振兴水泥有限公司 无外购熟料"]

{"sheet":"东北地区 吉林58","index":9,"n_rows":63,"n_cols":6,"rows_kept":63,"merged":[[0,0,1,5],[0,6,1,6],[2,0,4,0],[2,1,4,1],[2,2,4,2],[2,3,3,3],[2,4,3,4],[2,5,4,5],[55,3,55,4],[56,3,56,4],[57,3,57,4],[58,3,58,4],[59,3,59,4],[60,3,60,4],[61,3,61,4],[62,2,62,4]]}
["吉林省水泥企业2016年度可比水泥(熟料)综合电耗情况表"]
[]
["序号","企业名称","生产线性质","可比熟料综合电耗（千瓦时/吨）","可比水泥综合电耗（千瓦时/吨）","是否达标"]
[]
[{"$nulls":3},"数值","数值"]
[1,"白城北方水泥有限公司","水泥粉磨站",null,38.17,"是"]
[2,"洮南北方水泥有限公司","水泥粉磨站",null,36.42,"是"]
[3,"吉林省新天成水泥制造有限公司","水泥粉磨站",null,39.04,"是"]
[4,"吉林省辉南园山水泥有限公司","水泥粉磨站",null,35.82,"是"]
[5,"通化市三为企业有限公司","水泥粉磨站",null,32.21,"是"]
[6,"亚泰集团通化水泥股份有限公司","水泥生产线",null,88.31,"是"]
[7,"公主岭市尖山水泥有限责任公司","水泥粉磨站",null,39.17,"是"]
[8,"公主岭市万禄水泥制造有限公司","水泥粉磨站",null,35.69,"是"]
[9,"吉林亚泰水泥有限公司","水泥生产线",null,87.3,"是"]
[10,"吉林亚泰鼎鹿水泥有限公司","水泥粉磨站",null,39.16,"是"]
[11,"农安北方水泥有限公司","水泥粉磨站",null,32.67,"是"]
[12,"长春市四通水泥有限公司","水泥粉磨站",null,31.36,"是"]
[13,"吉林省长春新兴水泥厂","水泥粉磨站",null,36.08,"是"]
[14,"德惠市鑫雨水泥有限责任公司","水泥粉磨站",null,36.77,"是"]
[15,"榆树市宏元水泥有限公司","水泥粉磨站",null,30.81,"是"]
[16,"四平金隅水泥有限公司","水泥生产线",null,88.52,"是"]
[17,"四平北方水泥有限公司","水泥生产线",null,88.9,"是"]
[18,"四平市翔宇水泥有限公司","水泥粉磨站",null,34.65,"是"]
[19,"四平佳润水泥有限公司","水泥粉磨站",null,33.3,"是"]
[20,"亚泰集团伊通水泥有限公司","水泥生产线",null,87.6,"是"]
[21,"吉林省伊通凯麒水泥有限公司","水泥粉磨站",null,34.48,"是"]
[22,"吉林省天意水泥集团有限责任公司","水泥粉磨站",null,32.84,"是"]
[23,"吉林省天茂特种水泥有限公司","水泥生产线",null,74.56,"是"]
[24,"松原北方水泥有限公司","水泥粉磨站",null,33.29,"是"]
[25,"扶余市鼎鹿水泥有限公司","水泥粉磨站",null,37.49,"是"]
[26,"冀东水泥扶余有限责任公司","水泥粉磨站",null,37.13,"是"]
[27,"辽源渭津金刚水泥有限公司","水泥熟料生产线",62.53,null,"是"]
[28,"辽源市金刚水泥厂","水泥粉磨站",null,36.97,"是"]
[29,"辽源市金刚水泥厂东丰分厂","水泥粉磨站",null,35.36,"是"]
[30,"汪清北方水泥有限公司敦化分公司","水泥粉磨站",null,39.1,"是"]
[31,"汪清北方水泥有限公司和龙分公司","水泥粉磨站",null,36.46,"是"]
[32,"汪清北方水泥有限公司","水泥生产线",null,89.62,"是"]
[33,"亚泰集团图们水泥有限公司","水泥粉磨站",null,39.55,"是"]
[34,"珲春市顺峰水泥制造有限公司","水泥粉磨站",null,34.72,"是"]
[35,"桦甸市松原水泥有限公司","水泥粉磨站",null,38.54,"是"]
[36,"蛟河金刚水泥有限公司","水泥粉磨站",null,30.5,"是"]
[37,"舒兰市亚泰水泥有限责任公司","水泥粉磨站",null,39.4,"是"]
[38,"永吉县大明水泥有限公司","水泥粉磨站",null,37.79,"是"]
[39,"吉林市吉纤水泥有限公司","水泥粉磨站",null,36.41,"是"]
[40,"吉林亚泰龙潭水泥有限公司","水泥粉磨站",null,36.35,"是"]
[41,"冀东水泥永吉有限责任公司","水泥生产线",null,69.08,"是"]
[42,"冀东水泥磐石有限责任公司","水泥生产线",null,83.99,"是"]
[43,"吉林亚泰明城水泥有限公司","水泥熟料生产线",63.74,null,"是"]
[44,"吉林市松江建材集团有限公司","水泥粉磨站",null,39.543,"是"]
[45,"金刚（集团）白山水泥有限公司","水泥生产线",null,89.32,"是"]
[46,"靖宇亚泰泉润建材有限公司","水泥粉磨站",null,35.76,"是"]
[47,"抚松银丰水泥有限公司","水泥粉磨站",null,38.7,"是"]
[48,"临江宏大水泥有限公司","水泥生产线",null,89.57,"是"]
[49,"镇赉县天利水泥厂","水泥粉磨站",null,37.78,"是"]
[50,"吉林天禹有限责任公司","水泥粉磨站",null,39.48,"是"]
[51,"四平天信水泥集团有限责任公司","水泥粉磨站","停产"]
[52,"乾安北方水泥有限公司","水泥粉磨站","停产"]
[53,"吉林亚泰鼎鹿水泥农安分公司","水泥粉磨站","停产"]
[54,"白山北华水泥有限公司","水泥粉磨站","停产"]
[55,"抚松森祥水泥有限公司","水泥粉磨站","停产"]
[56,"白山江源东晟水泥有限公司","水泥生产线","停产"]
[57,"冀东水泥吉林有限责任公司","水泥粉磨站","停产"]
[58,"白山苇塘水泥有限公司","被金刚（集团）白山水泥有限公司租赁，变为水泥粉磨站"]

{"sheet":"华东地区 江苏省5","index":10,"n_rows":7,"n_cols":8,"rows_kept":7,"merged":[[0,0,0,7],[4,4,4,6],[5,4,5,6],[6,4,6,6]]}
["单位产品能耗超国家标准限额的企业名单  "]
["序 号","企业名称","地 区","工序名称","2016年单耗","国家限额","超限比例","执行标准"]
[1,"徐州中鑫水泥粉磨有限公司","徐州","水泥综合电耗","36.4kWh/t","36.0kWh/t",{"v":0.011,"d":"1.10%"},"执行阶梯电价，每千瓦时加0.15元"]
[2,"启东泰安建材有限公司","南通","水泥综合电耗","41.35kWh/t","40.0kWh/t",{"v":0.0337,"d":"3.37%"},"执行阶梯电价，每千瓦时加0.15元"]
[3,"连云港市庆平水泥有限公司","连云港","水泥综合电耗","企业2016年在生产，但未提供能耗数据",null,null,"执行阶梯电价，每千瓦时加0.25元"]
[4,"宿迁项王水泥有限公司","宿迁","水泥综合电耗","企业2016年在生产，但未提供能耗数据",null,null,"执行阶梯电价，每千瓦时加0.25元"]
[5,"宿迁市楚王水泥有限公司","宿迁","水泥综合电耗","企业2016年在生产，但未提供能耗数据",null,null,"执行阶梯电价，每千瓦时加0.25元"]

{"sheet":"华东地区 江西142","index":11,"n_rows":145,"n_cols":9,"rows_kept":145,"merged":[[1,0,17,0],[18,0,39,0],[40,0,45,0],[46,0,51,0],[52,0,71,0],[72,0,93,0],[94,0,104,0],[105,0,107,0],[108,0,110,0],[111,0,119,0],[120,0,142,0],[143,0,143,2],[144,2,144,8]]}
["设区市","序号","企业名称","可比熟料综合煤耗（kgce/t）","可比熟料综合电耗（kWh/t）","可比熟料综合能耗（kgce/t）","可比水泥综合电耗（kWh/t）","可比水泥综合能耗（kgce/t）"," 备  注"]
["吉安",1,"江西永丰南方水泥有限公司",{"v":106.06,"d":"106.1"},{"v":54.39,"d":"54.4"},{"v":112.74,"d":"112.7"},70.9,{"v":86.38,"d":"86.4"}]
[null,2,"江西安福南方水泥有限公司",{"v":99.85,"d":"99.9"},{"v":55,"d":"55.0"},{"v":106.61,"d":"106.6"},75.3,85.2]
[null,3,"江西泰和南方水泥有限公司",{"v":110.24,"d":"110.2"},{"v":55.49,"d":"55.5"},{"v":117.05,"d":"117.1"},{"v":70.94,"d":"70.9"},{"v":86.64,"d":"86.6"}]
[null,4,"江西吉安南方水泥有限公司",{"$nulls":3},{"v":32.07,"d":"32.1"},{"v":3.94,"d":"3.9"}]
[null,5,"江西吉水南方水泥有限公司",{"$nulls":3},{"v":33.11,"d":"33.1"},{"v":4.07,"d":"4.1"}]
[null,6,"江西新干南方水泥有限公司",{"$nulls":3},{"v":31.39,"d":"31.4"},{"v":3.86,"d":"3.9"}]
[null,7,"吉安市宏光实业有限公司",{"$nulls":3},{"v":23.43,"d":"23.4"},{"v":2.88,"d":"2.9"}]
[null,8,"江西科华建材有限公司",{"$nulls":3},33.3,{"v":4.09,"d":"4.1"}]
[null,9,"江西省笥山建材有限公司",{"$nulls":3},{"v":38.12,"d":"38.1"},{"v":4.68,"d":"4.7"}]
[null,10,"江西金鑫建材有限公司",{"$nulls":3},{"v":36.83,"d":"36.8"},{"v":4.53,"d":"4.5"}]
[null,11,"新干县江华水泥有限公司",{"$nulls":3},{"v":34.78,"d":"34.8"},{"v":4.27,"d":"4.3"}]
[null,12,"江西省遂川县江华建材有限公司",{"$nulls":3},{"v":35.94,"d":"35.9"},{"v":4.42,"d":"4.4"}]
[null,13,"江西庐陵水泥有限公司",{"$nulls":3},{"v":39.12,"d":"39.1"},{"v":4.81,"d":"4.8"}]
[null,14,"江西井冈山泉涌水泥有限公司",{"$nulls":3},{"v":34.56,"d":"34.6"},{"v":4.25,"d":"4.3"}]
[null,15,"安福县泰昌水泥有限公司",{"$nulls":3},{"v":36.18,"d":"36.2"},{"v":4.45,"d":"4.5"}]
[null,16,"万安县万明水泥有限公司",{"$nulls":3},{"v":34.48,"d":"34.5"},{"v":4.24,"d":"4.2"}]
[null,17,"永丰县鹰鹏水泥有限公司",{"$nulls":5},"已停产"]
["赣州",18,"赣州海螺水泥有限责任公司",{"v":97.21,"d":"97.2"},{"v":57.06,"d":"57.1"},{"v":104.22,"d":"104.2"},{"v":80.03,"d":"80.0"},{"v":86.17,"d":"86.2"}]
[null,19,"会昌红狮水泥有限公司",{"v":104.69,"d":"104.7"},{"v":53.96,"d":"54.0"},{"v":111.33,"d":"111.3"},{"v":64.23,"d":"64.2"},{"v":81.66,"d":"81.7"}]
[null,20,"江西兴国南方水泥有限公司",{"v":101.31,"d":"101.3"},{"v":57.42,"d":"57.4"},{"v":108.37,"d":"108.4"},{"v":75.33,"d":"75.3"},{"v":79.91,"d":"79.9"}]
[null,21,"江西于都南方万年青水泥有限公司",{"v":95.03,"d":"95.0"},{"v":53.74,"d":"53.7"},{"v":101.64,"d":"101.6"},{"v":69.21,"d":"69.2"},{"v":72.78,"d":"72.8"}]
[null,22,"江西赣州南方万年青水泥有限公司",{"v":102.76,"d":"102.8"},{"v":57.77,"d":"57.8"},{"v":109.86,"d":"109.9"},{"v":70.18,"d":"70.2"},{"v":76.38,"d":"76.4"}]
[null,23,"江西瑞金万年青有限责任公司",{"v":101.56,"d":"101.6"},{"v":56.54,"d":"56.5"},{"v":108.51,"d":"108.5"},{"v":74.24,"d":"74.2"},{"v":80.76,"d":"80.8"}]
[null,24,"江西万基水泥有限公司",{"v":108.93,"d":"108.9"},{"v":63.53,"d":"63.5"},{"v":116.73,"d":"116.7"},{"v":79.79,"d":"79.8"},80.9,"无余热发电装置，含外购熟料用电"]
[null,25,"江西石城南方万年青水泥有限公司",{"$nulls":3},{"v":30.36,"d":"30.4"},{"v":3.73,"d":"3.7"}]
[null,26,"江西寻乌南方万年青水泥有限公司",{"$nulls":3},{"v":31.06,"d":"31.1"},{"v":3.82,"d":"3.8"}]
[null,27,"江西兴国南方万年青水泥有限公司",{"$nulls":3},{"v":31.65,"d":"31.7"},{"v":3.89,"d":"3.9"}]
[null,28,"赣州章贡南方万年青水泥有限公司",{"$nulls":3},{"v":31.01,"d":"31.0"},{"v":3.81,"d":"3.8"}]
[null,29,"江西赣县南方水泥有限公司",{"$nulls":3},{"v":33.77,"d":"33.8"},{"v":4.15,"d":"4.2"}]
[null,30,"江西宁都南方水泥有限公司",{"$nulls":3},31.7,3.9]
[null,31,"赣州海螺水泥有限责任公司潭东分公司",{"$nulls":3},{"v":34.07,"d":"34.1"},{"v":4.19,"d":"4.2"}]
[null,32,"赣州海螺水泥有限责任公司龙南分公司",{"$nulls":3},{"v":33.16,"d":"33.2"},{"v":4.08,"d":"4.1"}]
[null,33,"大余县万基水泥有限公司",{"$nulls":3},{"v":30.36,"d":"30.4"},{"v":3.73,"d":"3.7"}]
[null,34,"赣州会昌山水泥有限责任公司",{"$nulls":3},{"v":37.46,"d":"37.5"},4.6]
[null,35,"瑞金市堡山水泥有限公司",{"$nulls":3},{"v":36.68,"d":"36.7"},{"v":4.51,"d":"4.5"}]
[null,36,"信丰县丰固水泥有限公司",{"$nulls":3},{"v":35.16,"d":"35.2"},{"v":4.32,"d":"4.3"}]
[null,37,"信丰县连丰水泥有限公司",{"$nulls":3},33.2,{"v":4.08,"d":"4.1"},"10-12月生产数据"]
[null,38,"龙南县仙龙水泥粉磨站",{"$nulls":3},{"v":38.57,"d":"38.6"},{"v":4.74,"d":"4.7"}]
[null,39,"全南县建城水泥有限公司",{"$nulls":3},{"v":38.22,"d":"38.2"},4.7]
["景德镇",40,"江西锦溪水泥有限公司",105.6,62.5,113.3,77.4,{"v":80,"d":"80.0"}]
[null,41,"乐平市金鼎水泥有限公司",{"$nulls":3},39.2,4.8]
[null,42,"乐平市金鹏水泥有限公司",{"$nulls":3},36.6,4.5]
[null,43,"江西龙腾水泥有限公司",{"$nulls":3},38.8,4.8]
[null,44,"江西乐矿水泥有限公司",{"$nulls":3},38.1,4.7]
[null,45,"乐平市洎阳水泥有限公司",{"$nulls":5},"已停产"]
["抚州",46,"江西南城南方水泥有限公司",104.7,55.9,111.6,72.4,82.9]
[null,47,"抚州红狮水泥有限公司",{"$nulls":3},{"v":33.5231299472228,"d":"33.5"},4.1]
[null,48,"江西抚州南方水泥有限公司",{"$nulls":3},32.5,{"v":4,"d":"4.0"}]
[null,49,"江西明生水泥有限公司",{"$nulls":3},34.2,4.2]
[null,50,"江西省东乡县江磷水泥有限责任公司",{"$nulls":3},{"v":33.5231299472228,"d":"33.5"},4.1]
[null,51,"江西省戈氏水泥建材有限公司",{"$nulls":5},"已停产"]
["宜春",52,"江西上高南方水泥有限公司",{"v":107.402221521726,"d":"107.4"},{"v":55.1591383929277,"d":"55.2"},{"v":114.181279630217,"d":"114.2"},{"v":77.2735282958079,"d":"77.3"},{"v":89.5422062632304,"d":"89.5"}]
[null,53,"高安红狮水泥有限公司",{"v":96.2465960949669,"d":"96.2"},{"v":56.1023518780088,"d":"56.1"},{"v":103.141575140774,"d":"103.1"},63.5,65.6]
[null,54,"江西丰城南方水泥有限公司",{"v":100.274221761269,"d":"100.3"},{"v":53.0156490112428,"d":"53.0"},{"v":106.789845024751,"d":"106.8"},69.1,80.4]
[null,55,"江西上高南方华夏粉磨站",{"$nulls":3},36.9,4.5]
[null,56,"江西赣丰水泥有限责任公司",{"$nulls":3},38.4,4.7]
[null,57,"樟树市顺达水泥有限公司",{"$nulls":3},34.4,4.2]
[null,58,"宜春市盛源水泥有限公司",{"$nulls":3},38.8,4.8]
[null,59,"万载县融城建材有限公司",{"$nulls":3},34.7,4.3]
[null,60,"上高县新界埠水泥厂",{"$nulls":3},28.8,3.5]
[null,61,"江西华厦水泥有限公司",{"$nulls":3},30.3,3.7]
[null,62,"上高县华昌水泥粉磨有限公司",{"$nulls":3},31.7,3.9]
[null,63,"江西上高上甘山水泥有限公司",{"$nulls":3},33.9,4.2]
[null,64,"江西丰鑫实业有限公司",{"$nulls":3},39.4,4.8]
[null,65,"江西省瑞州特种建材集团有限公司",{"$nulls":3},43.5,5.4]
[null,66,"江西英岭水泥有限责任公司",{"$nulls":3},32.3,{"v":4,"d":"4.0"}]
[null,67,"高安市相垦水泥有限公司",{"$nulls":3},38.7,4.8]
[null,68,"高安市大观楼水泥有限责任公司",{"$nulls":3},39.9,4.9]
[null,69,"江西省赣丰建材有限责任公司",{"$nulls":3},39.9,4.9]
[null,70,"樟树市新型建筑材料有限公司",{"$nulls":5},"白水泥生产企业"]
[null,71,"宜丰县虹宇水泥有限公司",{"$nulls":5},"拆迁在建"]
["上饶",72,"江西万年青水泥股份有限公司万年厂",{"v":109.240094964357,"d":"109.2"},{"v":61.8441866949982,"d":"61.8"},{"v":116.840745509173,"d":"116.8"},77.4,90.8]
[null,73,"江西玉山南方水泥有限公司",{"v":105.36,"d":"105.4"},{"v":55.96,"d":"56.0"},{"v":112.24,"d":"112.2"},{"v":72.91,"d":"72.9"},{"v":85.46,"d":"85.5"}]
[null,74,"江西三清水泥有限公司",105.5,60.1,112.9,{"v":80,"d":"80.0"},{"v":78,"d":"78.0"}]
[null,75,"江西岩鹰水泥有限公司",{"$nulls":3},35.6,4.4]
[null,76,"江西鸡山水泥有限公司",{"$nulls":3},{"v":39,"d":"39.0"},4.8]
[null,77,"弋阳海螺水泥有限责任公司",{"v":100.527820111004,"d":"100.5"},{"v":55.7093018780613,"d":"55.7"},{"v":107.374493311818,"d":"107.4"},76.8,85.5]
[null,78,"江西岩宁水泥有限公司",{"$nulls":3},38.6,4.7,"2、3、4、5、6、7月停产"]
[null,79,"江西天峰建材有限公司",{"$nulls":3},35.9,4.4]
[null,80,"德兴市天峰雄狮水泥有限公司",{"$nulls":3},32.2,{"v":4,"d":"4.0"}]
[null,81,"江西广丰南方水泥有限公司",{"$nulls":3},36.7,4.5]
[null,82,"广丰县峰固建材有限公司",{"$nulls":3},34.5,4.2]
[null,83,"横峰县跃华建材有限公司",{"$nulls":3},37.1,4.6]
[null,84,"江西黄金埠万年青水泥有限责任公司",{"$nulls":3},34.7,4.3]
[null,85,"江西玉雁水泥有限公司",{"$nulls":3},39.6,4.9,"1-4月数据"]
[null,86,"江西玉鹰水泥有限公司",{"$nulls":3},35.5,4.4]
[null,87,"江西省九峰建材有限公司",{"$nulls":3},38.7,4.8,"1、3、4、5月数据"]
[null,88,"上饶市金德水泥有限公司",{"$nulls":3},37.7,4.6]
[null,89,"江西玉山万年青水泥有限公司",103.9,{"v":54,"d":"54.0"},110.5,75.7,83.9]
[null,90,"上饶市高华水泥实业有限公司",{"$nulls":5},"已停产"]
[null,91,"鄱阳县湖城水泥有限公司",{"$nulls":5},"已停产"]
[null,92,"万年县万年发实业有限公司",{"$nulls":5},"已停产"]
[null,93,"余干县长青实业有限公司",{"$nulls":5},"已停产"]
["九江",94,"湖口万年青水泥有限公司",{"$nulls":3},32.9,{"v":4,"d":"4.0"}]
[null,95,"九江南方水泥有限公司",104.4,59.1,111.7,79.5,90.7]
[null,96,"庐山海螺水泥有限公司",{"$nulls":3},30.5,3.7]
[null,97,"九江盘石水泥有限公司",{"$nulls":3},31.5,3.9]
[null,98,"永修华昌水泥有限公司",{"$nulls":3},35.8,4.4,"2月份停产"]
[null,99,"瑞昌盛达水泥有限公司",{"$nulls":3},39.7,4.9]
[null,100,"江西三环水泥有限公司",112.9,63.7,120.7,87.5,95.3,"2016年度余热发电装置未运行"]
[null,101,"九江鑫山水泥有限公司",104.2,{"v":62,"d":"62.0"},111.8,76.9,78.5,"2条窑各停产1个月"]
[null,102,"修水南方水泥有限公司",{"$nulls":3},32.2,{"v":3.96,"d":"4.0"}]
[null,103,"亚东水泥有限公司",{"v":100.910001859769,"d":"100.9"},{"v":56.0012917624015,"d":"56.0"},{"v":107.843550486835,"d":"107.8"},{"v":82.7933526684146,"d":"82.8"},{"v":93.3373841258196,"d":"93.3"}]
[null,104,"江西省远泌水泥有限公司",{"$nulls":5},"已停产"]
["鹰潭",105,"贵溪南方水泥有限公司",{"$nulls":3},32.1,3.9]
[null,106,"贵溪万鑫水泥有限公司",{"$nulls":3},32.8,{"v":4,"d":"4.0"}]
[null,107,"贵溪新世纪水泥有限公司",{"$nulls":3},{"v":39,"d":"39.0"},4.8,"2月份停产"]
["新余",108,"分宜海螺水泥有限责任公司",102.2,59.4,109.5,77.2,86.1]
[null,109,"江西新余南方建材有限公司",{"$nulls":3},35.8,6.2]
[null,110,"新余市欧里水泥有限公司",{"$nulls":3},38.5,7.7]
["南昌",111,"南昌新世纪水泥有限公司",{"$nulls":3},39.4,4.8]
[null,112,"江西亚东水泥有限公司（亚力制品）",{"$nulls":3},2.9,0.4,"水泥配制站，矿粉等原料均外购"]
[null,113,"江西赣江海螺水泥有限责任公司",{"$nulls":3},30.5,3.8]
[null,114,"南昌亚东水泥有限公司",{"$nulls":3},18.6,9.4,"水泥配制站，带矿粉制备和烘干系统"]
[null,115,"南昌青源水泥有限公司",{"$nulls":3},35.2,4.3]
[null,116,"南昌海螺水泥有限责任公司",{"$nulls":3},32.5,{"v":4,"d":"4.0"}]
[null,117,"南昌南方水泥有限公司",{"$nulls":3},{"v":31,"d":"31.0"},3.8]
[null,118,"江西省温圳建材有限公司",{"$nulls":3},35.2,4.3]
[null,119,"进贤海螺水泥有限责任公司",{"$nulls":3},31.6,3.9]
["萍乡",120,"中材萍乡水泥有限公司",101.7,{"v":60,"d":"60.0"},109.1,79.5,81.7]
[null,121,"江西日江上栗水泥有限公司",{"$nulls":3},32.1,3.9]
[null,122,"萍乡市远大水泥粉磨站",{"$nulls":3},37.1,4.6]
[null,123,"萍乡市海螺石水泥有限责任公司",{"$nulls":3},34.8,4.3]
[null,124,"江西萍乡南方水泥有限公司",{"$nulls":3},36.5,4.5]
[null,125,"萍乡市均塘水泥有限公司",{"$nulls":3},39.7,4.9]
[null,126,"萍乡市裕泉水泥有限公司",{"$nulls":3},36.8,4.5]
[null,127,"江西芦溪南方水泥有限公司",111.1,54.6,117.8,{"v":71,"d":"71.0"},82.5]
[null,128,"江西日江水泥制造有限公司芦溪分公司",{"$nulls":3},38.5,4.7]
[null,129,"萍乡市昌萍水泥有限责任公司",{"$nulls":3},29.5,3.6]
[null,130,"江西和令集团萍乡泰昌实业有限公司",{"$nulls":3},39.9,4.9]
[null,131,"萍乡市柳鸣水泥厂",{"$nulls":3},37.9,4.7]
[null,132,"萍乡市葡萄水泥有限公司",{"$nulls":3},37.6,4.6]
[null,133,"萍乡市鑫峰水泥粉磨站",{"$nulls":3},36.2,4.4]
[null,134,"萍乡市昌盛水泥有限公司",101.3,57.2,108.3,72.9,{"v":76,"d":"76.0"}]
[null,135,"莲花县琴亭水泥有限公司",{"$nulls":3},35.1,4.3]
[null,136,"莲花振泰水泥有限责任公司",{"$nulls":3},38.5,4.7]
[null,137,"萍乡市萍安水泥有限公司",{"$nulls":3},58.3,7.2,"8-12月试生产数据（2-7月停产技改）"]
[null,138,"萍乡市杨梅岭建材有限公司",{"$nulls":3},39.8,6.5]
[null,139,"江西日江水泥制造有限公司宣风分公司",{"$nulls":3},31.5,3.9]
[null,140,"江西印山台水泥有限公司",104.9,57.9,{"v":112,"d":"112.0"},87.5,79.8]
[null,141,"江西久久水泥有限公司",{"$nulls":3},37.4,4.6]
[null,142,"江西省萍乡市志明特种建材有限公司",{"$nulls":5},"已停产"]
["合计",null,null,102.3,57.1,109.4,"75.7/32.9","83.9/4.1"]
[null,"备注","1.本次列入专项监察的通用硅酸盐水泥生产企业共142家，除永丰县鹰鹏水泥有限公司等10家企业停产、樟树市新型建筑材料有限公司为白水泥生产企业以外，实际监察通用硅酸盐水泥生产企业131家。其中：带新型干法旋窑生产线的通用硅酸盐水泥生产企业有29家，通用硅酸盐水泥粉磨企业100家，通用硅酸盐水泥配制企业2家。                                  2.对照《水泥单位产品能源消耗限额》标准（GB16780-2012），江西省瑞州特种建材集团有限公司、萍乡市萍安水泥有限公司的可比水泥综合电耗分别为43.5 kWh/t、58.3 kWh/t，达不到国家标准规定可比水泥综合电耗≤40 kWh/t的要求；江西三环水泥有限公司可比熟料综合煤耗、可比熟料综合能耗分别为112.9kgce/t、120.7kgce/t，达不到国家标准规定可比熟料综合煤耗≤112kgce/t、可比熟料综合能耗≤120kgce/t的要求；南昌亚东水泥有限公司可比水泥综合能耗为9.4kgce/t，达不到国家标准规定可比水泥综合能耗≤8kgce/t的要求。\n"]

{"sheet":"西北地区 甘肃54","index":12,"n_rows":93,"n_cols":5,"rows_kept":93,"merged":[[0,0,0,4],[2,0,2,4],[10,0,10,4],[37,0,37,4],[92,0,92,4]]}
["2017年水泥企业执行阶梯电价政策专项监察情况表"]
["序号","企业名称","最终产品","可比电耗指标\n（千瓦时/吨）","监察结果"]
["一、执行阶梯电价加价企业(7户)"]
[1,"酒泉龙腾建材有限公司","水泥",55.45,"可比水泥综合电耗超标"]
[2,"瓜州县弘也水泥有限责任公司","水泥",45.06,"可比水泥综合电耗超标"]
[3,"天水祁连山水泥有限公司","水泥",40.84,"可比水泥综合电耗超标"]
[4,"敦煌华夏水泥有限责任公司","水泥",40.64,"可比水泥综合电耗超标"]
[5,"甘肃鲁泰水泥有限责任公司","水泥","/","数据无法相互印证"]
[6,"武威市西凉水泥有限公司","水泥","/","数据无法相互印证"]
[7,"临潭县建华水泥有限责任公司","水泥","/","数据无法相互印证"]
["二、2016年停产企业（26户）"]
[1,"兰州红古祁连山水泥股份有限公司","水泥","/"]
[2,"兰州市贡马水泥有限责任公司","水泥","/"]
[3,"永登县众联水泥有限公司","水泥","/"]
[4,"兰州中川祁连山水泥有限责任公司","水泥","/"]
[5,"永登兰铁水泥有限公司","水泥","/"]
[6,"甘肃飞达建材有限责任公司","水泥","/"]
[7,"永登河桥水泥有限责任公司","水泥","/"]
[8,"榆中鑫陇建材有限公司","水泥","/"]
[9,"永登县万鼎建材有限公司","水泥","/"]
[10,"永登盛源化工建材有限公司","水泥","/"]
[11,"甘肃寿鹿山水泥有限责任公司","水泥","/"]
[12,"景泰景顺特种水泥有限公司","水泥","/"]
[13,"靖远新力水泥有限公司","水泥","/"]
[14,"白银市银山水泥有限责任公司","水泥","/"]
[15,"张掖市三强化工建材有限责任公司","水泥","/"]
[16,"山丹县石燕水泥有限责任公司","水泥","/"]
[17,"玉门老君庙特种水泥有限责任公司","水泥","/"]
[18,"酒泉市明珠矿业有限公司","水泥","/"]
[19,"华亭煤业集团陇东水泥\n有限责任公司","水泥","/"]
[20,"嘉峪关亨顺经贸有限责任公司","水泥","/"]
[21,"甘肃省九连山水泥有限责任公司","水泥","/"]
[22,"庆阳新顺达建材有限公司","水泥","/"]
[23,"正宁县锦运建材有限公司","水泥","/"]
[24,"临夏海螺水泥有限责任公司永靖县分公司","水泥","/"]
[25,"永靖县金河顺发水泥建材有限责任公司","水泥","/"]
[26,"舟曲县建华水泥粉磨有限公司","水泥","/"]
["三、2016年正常生产企业（54户）"]
[1,"甘肃京兰水泥有限公司","水泥",84.06]
[2,"甘肃永固特种水泥有限公司","水泥",75.5]
[3,"兰州甘草环保建材股份有限公司","水泥",88.47]
[4,"兰州红狮水泥有限公司","水泥",63.65]
[5,"永登祁连山水泥有限公司","水泥",83.4]
[6,"兰州冀玉水泥有限公司","水泥",30.32]
[7,"皋兰双泰水泥有限公司","水泥",34]
[8,"兰州祁连山水泥商砼有限公司","水泥",31.24]
[9,"兰州永固祁连山水泥有限公司","水泥",38.88]
[10,"窑街煤电祁连山水泥有限公司","水泥",28.16]
[11,"甘谷祁连山水泥有限公司","水泥",84.51]
[12,"天水中材水泥有限责任公司","水泥",81.96]
[13,"天水市天祥水泥（集团）\n有限责任公司","水泥",87.59]
[14,"天水天威水泥有限责任公司","水泥",33.65]
[15,"白银寿鹿山水泥有限责任公司","水泥",86.88]
[16,"甘肃泓源水泥（集团）有限公司","水泥",38.02]
[17,"白银市王岘水泥有限公司","水泥",85.22]
[18,"甘肃国泰水泥有限公司","水泥",39.79]
[19,"中材甘肃水泥有限责任公司","水泥",81.75]
[20,"古浪祁连山水泥有限公司","水泥",62.88]
[21,"金昌水泥（集团）有限责任公司新型干法水泥二厂","水泥",82.84]
[22,"金昌水泥（集团）有限责任公司新型干法水泥厂","水泥",83.38]
[23,"甘肃省山丹福利水泥厂","水泥",35.52]
[24,"甘肃张掖巨龙建材有限责任公司","水泥",87.7]
[25,"张掖市山丹铁骑水泥有限责任公司","熟料",58.31]
[26,"张掖市山丹水泥(集团)\n有限责任公司张掖分厂","水泥",35.26]
[27,"张掖市山丹水泥(集团)有限责任公司","水泥",39.55]
[28,"酒泉万象建材有限责任公司","熟料",58.14]
[29,"酒泉市华庆建材有限责任公司","水泥",35.53]
[30,"敦煌荣兴建材有限责任公司","水泥",87.73]
[31,"金塔县漠风水泥有限公司","水泥",35.72]
[32,"甘肃西部水泥有限责任公司","熟料",63.47]
[33,"甘肃省农垦饮马水泥厂","水泥",39.06]
[34,"甘肃恒亚水泥有限公司","水泥",72.45]
[35,"甘肃省玉门市第二水泥厂","水泥",32.68]
[36,"平凉海螺水泥有限责任公司","水泥",80.58]
[37,"平凉祁连山水泥有限公司 ","水泥",82.83]
[38,"酒钢（集团）宏达建材有限责任公司","水泥",66.03]
[39,"嘉峪关市祁连山建材有限责任公司","水泥",31.92]
[40,"嘉峪关宏运水泥有限公司","水泥",36.47]
[41,"甘肃酒泉祁峰建化有限公司","水泥",37.05]
[42,"嘉峪关雄关天石水泥有限责任公司","水泥",34.87]
[43,"嘉峪关市聚鑫达实业有限公司","水泥",34.14]
[44,"宁县明峰建材有限公司 ","水泥",35.12]
[45,"临夏海螺水泥有限责任公司","水泥",70.6]
[46,"临夏海螺水泥有限责任公司临夏县分公司","水泥",39.89]
[47,"夏河祁连山安多水泥有限公司","水泥",84.42]
[48,"定西祁连山水泥商砼有限公司","水泥",29.39]
[49,"甘肃高崖金城水泥有限公司","水泥",88.41]
[50,"漳县祁连山水泥有限公司","水泥",76.08]
[51,"甘肃三易水泥有限责任公司","水泥",77.27]
[52,"文县祁连山水泥有限公司","水泥",83.31]
[53,"成县祁连山水泥有限公司","水泥",82.47]
[54,"陇南祁连山水泥有限公司","水泥",82.81]
["    注：表格中“/”表示该企业无可比水泥（熟料）电耗指标数据,“空白”：1.停产企业为无监察数据和结论；2.正常生产企业为可比水泥（熟料）电耗指标符合《水泥单位产品能源消耗限额》（GB16780-2012）限定值或准入值要求。"]

{"sheet":"西北地区 宁夏23","index":13,"n_rows":24,"n_cols":4,"rows_kept":24}
["序号","企业名称","生产类型","可比水泥综合电耗\n（kW·h/t）"]
[1,"宁夏青铜峡水泥股份有限公司","水泥",86.09]
[2,"中国石化长城能源化工（宁夏）有限公司","水泥",78.43]
[3,"宁夏赛马水泥有限公司","水泥",84.28]
[4,"宁夏瀛海天琛建材有限公司","水泥",88.06]
[5,"宁夏大地循环发展股份有限公司（宁夏坤水水泥有限公司）","水泥",86.92]
[6,"宁夏平罗恒达水泥有限责任公司","水泥",79.8]
[7,"固原市六盘山水泥有限责任公司","水泥",89.42]
[8,"宁夏瀛海天祥建材有限公司","水泥",83.82]
[9,"宁夏中宁赛马水泥有限公司","水泥",89.79]
[10,"宁夏天元建材有限公司","水泥",87.32]
[11,"宁夏明峰萌成建材有限公司","水泥",83.79]
[12,"宁夏金昱元化工集团有限公司","水泥",85.63]
[13,"宁夏萌成水泥有限公司","水泥",84.94]
[14,"宁夏胜金水泥有限公司","水泥",78.23]
[15,"宁夏西夏天杰水泥有限公司","水泥",89.87]
[16,"宁夏建成建材有限责任公司","粉磨站",36.56]
[17,"宁夏瀛海银川建材有限公司","粉磨站",37.93]
[18,"宁夏瀛海灵武特种水泥有限公司","粉磨站",35.29]
[19,"宁夏石嘴山赛马水泥有限责任公司","粉磨站",36.7]
[20,"宁夏胜金水泥有限公司固原分公司","粉磨站",38.26]
[21,"宁夏瀛海天池建材有限公司","粉磨站",39.3]
[22,"宁夏石嘴山金力实业集团有限公司","粉磨站",39.27]
[23,"宁夏宏威水泥集团金马有限公司","粉磨站",38.44]

{"sheet":"西南地区 云南155","index":14,"n_rows":160,"n_cols":6,"rows_kept":160,"merged":[[0,0,0,5],[1,0,2,0],[1,1,2,1],[1,2,1,3],[1,4,1,5],[3,0,3,5],[92,0,92,5]]}
["云南省水泥企业2016年产品可比综合电耗情况"]
["序号","企业名称","可比熟料综合电耗（kW·h/t）",null,"可比水泥综合电耗（kW·h/t）"]
[null,null,"数值","是否达标","数值","是否达标"]
["完整水泥生产线企业"]
[1,"云南昆钢嘉华水泥建材有限公司",59.77,"达标",76.29,"达标"]
[2,"拉法基瑞安（富民）水泥有限公司",63.14,"达标",72.45,"达标"]
[3,"富民金锐水泥建材有限责任公司",55.12,"达标",73.57,"达标"]
[4,"拉法基瑞安（东骏）水泥有限公司",52.62,"达标",63.23,"达标"]
[5,"宜良红狮水泥有限公司",52.29,"达标",67.44,"达标"]
[6,"云南宜良西南水泥有限公司",63.32,"达标",86.09,"达标"]
[7,"昆明宏熙水泥有限公司",52.5,"达标",72.8,"达标"]
[8,"云南建工云岭水泥有限公司",63.58,"达标",89.88,"达标"]
[9,"华新水泥（昆明东川）有限公司",61.68,"达标",74.8,"达标"]
[10,"云南滇东水泥有限公司",54.33,"达标",78.85,"达标"]
[11,"云南远东水泥有限责任公司",60.27,"达标",81.96,"达标"]
[12,"云南福隆建材有限责任公司",49.11,"达标",47.87,"达标"]
[13,"富源县老厂宏发水泥厂",63.47,"达标",85.32,"达标"]
[14,"云南师宗明驰水泥制造有限公司",56.79,"达标",78.47,"达标"]
[15,"曲靖昆钢嘉华水泥建材有限公司",59.9,"达标",74.19,"达标"]
[16,"马龙县天恒工业有限公司",55.52,"达标",66.23,"达标"]
[17,"云南曲靖雄业水泥有限责任公司",63.78,"达标",81.22,"达标"]
[18,"会泽金塬水泥有限公司",63.07,"达标",87.96,"达标"]
[19,"会泽滇北工贸有限公司水泥厂",62.53,"达标",88.72,"达标"]
[20,"罗平县玉马水泥有限责任公司",63.78,"达标",88.98,"达标"]
[21,"曲靖市宣威宇恒水泥有限公司 ",55.78,"达标",73.86,"达标"]
[22,"曲靖宣峰水泥发展有限公司",54.57,"达标",67.69,"达标"]
[23,"宣威市远东亚鑫水泥有限公司",51.23,"达标",67.71,"达标"]
[24,"昭通昆钢嘉华水泥建材有限公司",62.26,"达标",87.67,"达标"]
[25,"云南昊龙实业集团巧家白鹤滩建材公司",63.15,"达标",87.65,"达标"]
[26,"绥江县永固水泥有限责任公司",59.36,"达标",77.87,"达标"]
[27,"镇雄县三和建材有限公司",56.67,"达标",73.89,"达标"]
[28,"昭通得云建材有限责任公司",61.43,"达标",87.5,"达标"]
[29,"华新水泥（昭通）有限公司",61.93,"达标",82.82,"达标"]
[30,"云南昊龙实业集团有限公司水泥厂",55.23,"达标",88.81,"达标"]
[31,"云南普洱西南水泥有限公司",57.4,"达标",73.15,"达标"]
[32,"云南尖峰水泥有限公司",55.26,"达标",66.35,"达标"]
[33,"云南普洱天恒水泥有限责任公司",57.29,"达标",75.58,"达标"]
[34,"普洱昆钢嘉华水泥有限公司",58.14,"达标",67.97,"达标"]
[35,"澜沧三环建材有限公司 ",52.38,"达标",75.07,"达标"]
[36,"云南易门大椿树水泥有限责任公司",60.06,"达标",74.72,"达标"]
[37,"云南省活发集团刘总旗水泥有限公司",57.85,"达标",84.62,"达标"]
[38,"玉溪桥龙水泥有限公司",54.06,"达标",71.6,"达标"]
[39,"云南澄江华荣水泥有限责任公司",59.35,"达标",83.33,"达标"]
[40,"云南省通海秀山水泥有限责任公司",52.86,"达标",82.7,"达标"]
[41,"华宁玉珠水泥有限公司",58.48,"达标",74.82,"达标"]
[42,"云南易门县中瑞（集团）建材有限公司",56.56,"达标",72.15,"达标"]
[43,"峨山县宏峰建材有限责任公司",62.92,"达标",70.86,"达标"]
[44,"新平鲁奎山水泥有限责任公司",58.35,"达标",82.4,"达标"]
[45,"元江县永发水泥有限公司",60.95,"达标",80.47,"达标"]
[46,"云南兴建水泥有限公司",55.92,"达标",71.25,"达标"]
[47,"云南壮乡水泥股份有限公司",61.93,"达标",84.72,"达标"]
[48,"云南壮山实业股份有限公司",63.43,"达标",85.26,"达标"]
[49,"文山海螺水泥有限责任公司",51.34,"达标",73.3,"达标"]
[50,"镇康水泥建材有限公司",61.92,"达标",78.33,"达标"]
[51,"华新水泥（临沧）有限公司  ",54.82,"达标",72.88,"达标"]
[52,"云南金江沧源水泥工业有限公司",59.22,"达标",78.84,"达标"]
[53,"凤庆县习谦水泥有限责任公司",59.52,"达标",79.44,"达标"]
[54,"蒙自瀛州水泥有限责任公司",63.22,"达标",78.16,"达标"]
[55,"红河州紫燕水泥有限责任公司",63.41,"达标",89.07,"达标"]
[56,"弥勒市河湾水泥制造有限责任公司",63.08,"达标",84.87,"达标"]
[57,"红河天宝水泥有限公司",57.78,"达标",62.54,"达标"]
[58,"华新水泥（红河）有限公司",61.55,"达标",78.66,"达标"]
[59,"保山海螺水泥有限责任公司",53.46,"达标",69.53,"达标"]
[60,"保山昆钢嘉华水泥建材有限公司",56.56,"达标",71.94,"达标"]
[61,"腾冲市腾越水泥有限公司",62.69,"达标",85.06,"达标"]
[62,"龙陵海螺水泥有限责任公司",57.41,"达标",76.32,"达标"]
[63,"盈江昆钢榕全水泥有限公司",59.12,"达标",86.09,"达标"]
[64,"盈江县允罕水泥有限责任公司",56.53,"达标",82.69,"达标"]
[65,"云南芒市西南水泥有限公司",58.94,"达标",74.19,"达标"]
[66,"大理昆钢金鑫建材有限公司",63.3,"达标",85.35,"达标"]
[67,"华新水泥（云龙）有限公司",61.89,"达标",72.66,"达标"]
[68,"大理红山水泥有限责任公司",61.53,"达标",85.2,"达标"]
[69,"云南红塔滇西水泥股份有限公司",60.73,"达标",78.09,"达标"]
[70,"大理水泥（集团）有限责任公司",63.39,"达标",86.06,"达标"]
[71,"华润水泥（鹤庆）有限公司",58.72,"达标",74.44,"达标"]
[72,"华润水泥（弥渡）有限公司",50.54,"达标",65.33,"达标"]
[73,"祥云县建材（集团）有限责任公司",62.91,"达标",89.39,"达标"]
[74,"华新水泥（剑川）有限公司",62.82,"达标",81.58,"达标"]
[75,"永平无量山水泥有限责任公司",53.89,"达标",70.52,"达标"]
[76,"华坪县定华能源建材有限责任公司",57.18,"达标",69.15,"达标"]
[77,"云南永保特种水泥有限责任公司",62.23,"达标",77.71,"达标"]
[78,"云南永保特种水泥有限责任公司金山分公司",54.43,"达标",72.41,"达标"]
[79,"华新水泥（丽江）有限公司",61.3,"达标",76.1,"达标"]
[80,"华新红塔水泥（景洪）有限公司",54.49,"达标",76.16,"达标"]
[81,"勐腊县勐远大展有限责任公司",56.92,"达标",84.03,"达标"]
[82,"华新水泥(迪庆)有限公司",60.36,"达标",78,"达标"]
[83,"迪庆香格里拉昆钢鸿达水泥有限公司",57.93,"达标",79.46,"达标"]
[84,"怒江昆钢水泥有限公司",57.84,"达标",68.67,"达标"]
[85,"云南宇东水泥有限公司",62.81,"达标","—","—"]
[86,"曲靖际丰水泥有限责任公司",60.08,"达标","—","—"]
[87,"云南高翔特种水泥有限公司","停产"]
[88,"云南富州水泥有限公司","停产"]
["粉磨站（67）"]
[89,"拉法基瑞安（红河）水泥有限公司昆明分公司","—","—",37.98,"达标"]
[90,"昆明市弘力水泥有限公司","—","—",33.7,"达标"]
[91,"宜良县永兴水泥有限公司","—","—",37.12,"达标"]
[92,"宜良县红光水泥有限公司","—","—",33.12,"达标"]
[93,"宜良县蓬莱水泥有限公司","—","—",33.51,"达标"]
[94,"云南石林华松水泥有限公司","—","—",34.77,"达标"]
[95,"昆明东山水泥生产有限公司","—","—",35.86,"达标"]
[96,"陆良县陆峰建筑建材有限责任公司","—","—",35.23,"达标"]
[97,"云南滇东水泥有限公司滇锦粉磨分公司","—","—",36.06,"达标"]
[98,"陆良县板桥镇马军营水泥厂","—","—",35.86,"达标"]
[99,"云南云达水泥有限公司","—","—",35.26,"达标"]
[100,"陆良县三岔河水泥厂","—","—",34.24,"达标"]
[101,"富源县老厂宏发印象水泥有限责任公司","—","—",27.55,"达标"]
[102,"曲靖市越钢大丰水泥有限公司","—","—",31.83,"达标"]
[103,"罗平县九龙水泥有限责任公司","—","—",32.27,"达标"]
[104,"罗平县三海水泥有限责任公司","—","—",37.44,"达标"]
[105,"曲靖市宣威宇恒水泥有限公司沾益分公司","—","—",33.17,"达标"]
[106,"沾益县益宁水泥有限责任公司","—","—",33.95,"达标"]
[107,"宣威市雄业水泥制造有限公司","—","—",30.57,"达标"]
[108,"水富县富达水泥有限责任公司","—","—",37.99,"达标"]
[109,"云南昊龙实业集团水富绿色建材有限公司","—","—",39.69,"达标"]
[110,"易门县东源水泥有限公司","—","—",34.8,"达标"]
[111,"玉溪市成翔水泥磨粉有限公司","—","—",34.7,"达标"]
[112,"玉溪市江川区凤凰山水泥有限责任公司","—","—",25.3,"达标"]
[113,"云南澄江冶钢集团水泥有限公司","—","—",33.15,"达标"]
[114,"澄江吉花水泥有限责任公司","—","—",35.46,"达标"]
[115,"玉溪市峨山县龙盛特种水泥厂","—","—",30.83,"达标"]
[116,"广南县广固水泥有限责任公司","—","—",39.83,"达标"]
[117,"麻栗坡县南疆水泥粉磨有限公司","—","—",34.57,"达标"]
[118,"云南兴建水泥有限公司马关分公司","—","—",35.36,"达标"]
[119,"云南兴建兴街水泥有限公司","—","—",39.98,"达标"]
[120,"沧源县浙江金信水泥有限公司","—","—",34.96,"达标"]
[121,"临沧苏靖水泥有限公司","—","—",35.86,"达标"]
[122,"屏边瀛州水泥有限公司","—","—",30.72,"达标"]
[123,"开远市羊街水泥粉磨站 ","—","—",36.37,"达标"]
[124,"华新水泥（红河）有限公司个旧分公司","—","—",35.75,"达标"]
[125,"云南博闻科技实业股份有限公司","—","—",38.91,"达标"]
[126,"德宏奥环水泥有限公司","—","—",35.86,"达标"]
[127,"盈江县剑雄水泥粉磨有限责任公司","—","—",37.84,"达标"]
[128,"云南弥渡庞威有限公司","—","—",29.42,"达标"]
[129,"南涧县无量山水泥有限责任公司","—","—",33.25,"达标"]
[130,"大理昆钢巍山建材有限公司","—","—",36.77,"达标"]
[131,"华新水泥（楚雄）有限公司","—","—",31.49,"达标"]
[132,"元谋土林建材有限责任公司","—","—",36.63,"达标"]
[133,"楚雄昆钢奕标新型建材有限公司","—","—",33.59,"达标"]
[134,"西双版纳勐养水泥有限责任公司","—","—",34.85,"达标"]
[135,"通海县海东水泥厂","—","—",52.14,"不达标"]
[136,"云南省铳卡三七药材场水泥粉磨站","—","—",34.51,"达标"]
[137,"永善县溪洛渡水泥制造有限责任公司","停产"]
[138,"墨江县森鑫达水泥建材有限公司","2016年技改拆除停产"]
[139,"景东金泰水泥有限责任公司","2016年技改拆除停产"]
[140,"云南普洱天壁水泥有限公司","停产"]
[141,"通海秀山水泥有限责任公司","企业重组停产"]
[142,"通海县三义水泥厂","停产"]
[143,"澄江县西浦水泥有限责任公司","停产"]
[144,"安宁广明水泥厂","停产"]
[145,"云南昆钢工业废渣利用开发有限公司","停产"]
[146,"邱北锦建建材有限公司","停产"]
[147,"陆良县同乐建材有限责任公司","停产"]
[148,"河口瀛洲水泥有限公司","停产"]
[149,"石屏瀛洲水泥有限公司","停产"]
[150,"弥勒市天生桥水泥有限责任公司","停产"]
[151,"红河大容水泥粉磨有限公司","停产"]
[152,"保山西庄建材实业有限责任公司","停产"]
[153,"保山市正兴建材有限责任公司","停产"]
[154,"德宏梁河奥环水泥粉磨生产有限公司","停产"]
[155,"祥云县太鼎水泥制造有限公司","停产"]

{"sheet":"西南地区 四川166","index":15,"n_rows":168,"n_cols":5,"rows_kept":168,"merged":[[0,0,1,0],[0,1,1,1],[0,2,0,3],[0,4,1,4]]}
["序号","企业名称","能耗指标情况可比水泥综合电耗",null,"备注"]
[null,null,"数值","是否达标"]
[1,"攀枝花攀煤水泥制品有限公司 ",37.32,"是"]
[2,"攀枝花钢城集团瑞达水泥有限公司 ",81.88,"是"]
[3,"攀枝花钢城集团瑞丰水泥有限公司 ",70.26,"是"]
[4,"攀枝花金沙水泥有限责任公司",37.74,"是","2016年9月技改完工正式运行"]
[5,"四川省皓宇水泥有限责任公司",84.08,"是"]
[6,"四川省二郎山喇叭河水泥有限公司",84.81,"是"]
[7,"四川雅安西南水泥有限公司",87.42,"是"]
[8,"四川泰昌建材集团有限公司",75.23,"是"]
[9,"四川天力机械集团有限责任公司泗坪水泥厂",null,null,"已停产并列入淘汰计划"]
[10,"四川省天全县天龙水泥有限公司",null,null,"列入淘汰计划并已关停"]
[11,"泸州兰良水泥有限公司",86.29,"是"]
[12,"四川省泸州金蝉水泥有限公司",{"v":36.2,"d":"36.20"},"是"]
[13,"四川省古蔺铁桥水泥有限责任公司",73.73,"是"]
[14,"四川省泸州沱江水泥有限公司",80.23,"是"]
[15,"泸州纳溪赛德水泥有限公司",36.39,"是"]
[16,"泸州赛德水泥有限公司",79.64,"是"]
[17,"成都龙泉阳光高新建材厂",null,null,"矿渣微粉"]
[18,"崇州峨锐建材有限责任公司",null,null,"停产"]
[19,"彭州市琪佳水泥有限公司",null,null,"停产"]
[20,"简阳市五洲水泥厂",37.93,"是"]
[21,"成都鑫金沙建筑材料有限责任公司",{"v":36.6,"d":"36.60"},"是"]
[22,"成都中联水泥有限公司",38.22,"是"]
[23,"成都市蒲江县峨兴建材有限公司",null,null,"停产"]
[24,"简阳市五雄建材有限公司",38.98,"是"]
[25,"崇州西南水泥有限公司",35.23,"是"]
[26,"崇州市红强建材有限责任公司",null,null,"粉煤灰"]
[27,"都江堰拉法基水泥有限公司",84.41,"是"]
[28,"大邑显明西岭水泥有限公司",null,null,"停产"]
[29,"四川亚东水泥有限公司",77.13,"是"]
[30,"成都嘉华特种工程材料有限公司",null,null,"停产"]
[31,"四川兰丰水泥有限公司",76.57,"是"]
[32,"成都市环驰建材科技有限公司",null,null,"停产"]
[33,"宜宾华福双三水泥建材有限责任公司",86.13,"是"]
[34,"长宁红狮水泥有限公司",62.62,"是"]
[35,"宜宾瑞兴实业有限公司",74.42,"是"]
[36,"四川筠连西南水泥有限公司",73.19,"是"]
[37,"四川双马宜宾水泥制造有限公司",75.95,"是"]
[38,"宜宾海丰和锐有限公司",80.22,"是"]
[39,"四川省长宁县金龙彩色水泥有限责任公司",null,null,"特种水泥"]
[40,"高县天顺建材有限责任公司",{"v":35.3,"d":"35.30"},"是"]
[41,"四川资阳西南水泥有限公司",{"v":38.3,"d":"38.30"},"是"]
[42,"南充红狮水泥有限公司",32.32,"是"]
[43,"南充云丰水泥有限公司",null,null,"少量水泥。主要产品为矿粉"]
[44,"川北水泥制造有限公司",null,null,"矿微粉。监察时停产。"]
[45,"广元市高力水泥实业有限公司",80.32,"是"]
[46,"四川川煤水泥股份有限公司",{"v":80.9,"d":"80.90"},"是"]
[47,"四川旺苍西南水泥有限公司",75.28,"是"]
[48,"四川匡山水泥有限公司",85.01,"是"]
[49,"广元海螺水泥有限责任公司",74.34,"是"]
[50,"四川国大水泥有限公司",{"v":79.1,"d":"79.10"},"是"]
[51,"江油红狮水泥有限公司",75.43,"是"]
[52,"江油拉豪双马水泥有限公司",88.31,"是","2016年10月技改完工正式运行"]
[53,"安县中联水泥有限公司",{"v":73.4,"d":"73.40"},"是"]
[54,"四川省女娲建材有限公司",86.97,"是"]
[55,"北川四星水泥有限公司",89.16,"是"]
[56,"北川中联水泥有限公司",81.05,"是"]
[57,"绵阳金大地水泥有限公司",35.01,"是"]
[58,"四川省安县浮山水泥有限公司二分厂",39.01,"是"]
[59,"北川双竣特性水泥有限公司",null,null,"停产"]
[60,"四川洪雅西南水泥有限公司",{"v":36.8,"d":"36.80"},"是"]
[61,"丹棱县峨成建材有限责任公司",39.94,"是"]
[62,"眉山五湖建材股份有限公司 ",38.81,"是"]
[63,"四川建宏建材有限公司",36.42,"是"]
[64,"仁寿县永基建材有限公司",38.79,"是"]
[65,"仁寿县人民特种水泥有限公司",85.42,"是"]
[66,"仁寿县汪洋建宝水泥有限公司",78.96,"是"]
[67,"四川峨盾建材有限公司",null,null,"粉煤灰"]
[68,"眉山市峨红建材有限责任公司",37.76,"是"]
[69,"眉山峨兴水泥有限责任公司 ",{"v":33.9,"d":"33.90"},"是"]
[70,"眉山市华庆建材科技有限公司  ",36.27,"是"]
[71,"眉山市东坡区保成建材厂  ",36.38,"是"]
[72,"四川眉山水泥有限公司 ",{"v":39.1,"d":"39.10"},"是"]
[73,"眉山市峨大水泥有限公司",null,null,"停产，企业无法联系。"]
[74,"四川龙鑫建材有限公司",null,null,"司法查封。"]
[75,"四川明坤建材有限公司",null,null,"停产，企业无法联系。"]
[76,"眉山市东坡区峨洲水泥有限责任公司",null,null,"停产"]
[77,"四川省磊鑫实业有限公司",39.07,"是"]
[78,"四川省开江达开水泥有限公司",37.47,"是"]
[79,"达州市国威实业有限公司",35.89,"是"]
[80,"四川利森建材有限公司",36.97,"是"]
[81,"达州市新建水泥有限公司",null,null,"企业已经注销"]
[82,"宣汉万象建材有限公司",39.44,"是"]
[83,"达州亿禾建材有限公司",39.59,"是"]
[84,"四川达县百坚水泥有限公司",33.79,"是"]
[85,"四川省旭阳水泥有限责任公司",39.15,"是"]
[86,"万源市大巴山水泥有限责任公司",null,null,"企业已经注销"]
[87,"华新水泥（万源）有限公司",75.08,"是"]
[88,"达州海螺水泥有限责任公司",73.61,"是"]
[89,"达州利森水泥有限公司",75.14,"是"]
[90,"华新水泥（渠县）有限公司",88.18,"是"]
[91,"中铁二十三局集团川东水泥有限公司",null,null,"停产"]
[92,"四川大竹西南水泥有限公司",79.64,"是"]
[93,"四川宣汉源昌水泥有限公司",null,null,"水泥配制站。"]
[94,"威远县共华水泥有限责任公司",null,null,"停产"]
[95,"威远县越溪水泥有限公司",null,null,"停产"]
[96,"四川威远西南水泥有限公司",75.73,"是"]
[97,"四川成实天鹰水泥有限公司",{"v":74.7,"d":"74.70"},"是"]
[98,"四川资中西南水泥有限公司",80.07,"是"]
[99,"威远县庆卫水泥有限责任公司",78.14,"是"]
[100,"四川省星船城水泥股份有限公司",70.51,"是"]
[101,"华蓥台泥水泥有限公司",80.13,"是"]
[102,"四川华蓥西南水泥有限公司",78.49,"是"]
[103,"四川宏云建材有限公司",84.03,"是"]
[104,"邻水红狮水泥有限公司",72.79,"是"]
[105,"四川利万步森水泥有限公司（原邻水西南水泥）",78.71,"是"]
[106,"四川省广安桂兴水泥有限公司",86.54,"是"]
[107,"台泥（广安）水泥有限公司",70.22,"是"]
[108,"遂宁市巨龙水泥有限公司",38.92,"是"]
[109,"遂宁市青山新材料有限公司",38.92,"是"]
[110,"射洪县宏远建材化工有限责任公司",37.67,"是"]
[111,"夹江县峨佳水泥有限责任公司",null,null,"产品为混合材"]
[112,"夹江县峨威水泥有限公司",null,null,"产品为混合材"]
[113,"夹江县峨顶水泥有限责任公司",null,null,"停产"]
[114,"四川夹江规矩特性水泥有限公司",null,null,"停产"]
[115,"四川省犍为宝马水泥有限责任公司",69.46,"是"]
[116,"四川峨胜水泥集团股份有限公司",74.95,"是"]
[117,"四川峨眉山西南水泥有限公司",77.76,"是"]
[118,"峨眉山强华特种水泥有限责任公司",null,null,"特种水泥"]
[119,"峨眉山市金都实业有限公司",null,null,"停产"]
[120,"峨眉山嘉华特种水泥有限公司",null,null,"停产"]
[121,"四川峨眉山佛光水泥有限公司",77.92,"是"]
[122,"嘉华特种水泥股份有限公司嘉华水泥总厂",88.01,"是"]
[123,"四川德胜集团水泥有限公司",74.23,"是"]
[124,"四川省乐山市宁辉建材有限公司",null,null,"产品为粉煤灰矿粉"]
[125,"乐山海天水泥有限责任公司",null,null,"停产"]
[126,"四川峨边西南水泥有限公司",78.05,"是"]
[127,"马边轻舟水泥有限公司",null,null,"停产"]
[128,"四川永祥股份有限公司（水泥厂）",70.78,"是"]
[129,"自贡金龙水泥有限公司",82.32,"是"]
[130,"荣县自力水泥有限公司",86.78,"是"]
[131,"四川省绵竹澳东水泥有限责任公司",75.43,"是"]
[132,"四川利森建材集团有限公司",72.62,"是"]
[133,"四川省德阳川雄建材有限责任公司",39.02,"是"]
[134,"德阳湔江水泥有限公司",35.31,"是"]
[135,"四川省金桂兰水泥有限责任公司",33.83,"是"]
[136,"罗江利森水泥有限公司",32.82,"是"]
[137,"什邡市桂湖水泥有限公司",39.58,"是"]
[138,"四川绵竹进鑫化建有限责任公司",37.22,"是"]
[139,"广汉三星堆水泥有限公司",null,null,"停产"]
[140,"中江杰兴水泥有限公司",null,null,"停产"]
[141,"四川德阳金八角水泥有限公司 ",null,null,"2016年大规模技改"]
[142,"四川旌阳西南水泥有限公司",null,null,"停产"]
[143,"绵竹白川特种水泥有限公司",null,null,"特种水泥"]
[144,"广汉白象白水泥有限公司",null,null,"特种水泥"]
[145,"甘孜藏族自治州泸定桥水泥有限公司 ",34.08,"是"]
[146,"炉霍县华康水泥有限责任公司 ",28.57,"是","监察时停产。"]
[147,"四川康定跑马山水泥有限公司",null,null,"尚未投产。"]
[148,"四川泸定山盛水泥有限公司 ",89.28,"是"]
[149,"喜德县利强建材有限责任公司",null,null,"停产"]
[150,"四川省冕宁县富强水泥厂",34.71,"是"]
[151,"四川省乃托特种水泥有限公司",79.65,"是"]
[152,"四川省宁南县白鹤滩水泥有限责任公司",79.01,"是"]
[153,"四川嘉华锦屏特种水泥有限责任公司",82.09,"是"]
[154,"西昌航天水泥有限公司",33.63,"是"]
[155,"会东利森水泥有限责任公司",64.36,"是"]
[156,"四川省盐源金冠水泥有限公司",88.46,"是"]
[157,"昭觉金鑫水泥有限责任公司",75.67,"是"]
[158,"雷波县伍兴水泥厂",null,null,"停产"]
[159,"南江县水泥有限公司",null,null,"停产"]
[160,"四川正强水泥有限责任公司",null,null,"停产"]
[161,"巴中海螺水泥有限公司",68.05,"是"]
[162,"四川南威水泥有限公司",84.02,"是"]
[163,"四川顶坚伟业建材有限公司 ",null,null,"停产"]
[164,"巴塘卓帆水泥有限责任公司",null,null,"停产"]
[165,"四川省兆迪水泥有限责任公司 ",76.15,"是"]
[166,"茂县树德水泥有限责任公司",null,null,"停产"]

{"sheet":"东北地区 辽宁省33","index":16,"n_rows":46,"n_cols":11,"rows_kept":46,"merged":[[0,0,0,10],[1,0,3,0],[1,1,3,1],[1,2,3,2],[1,3,1,4],[1,5,1,8],[2,3,3,3],[2,4,3,4],[2,5,2,6],[2,7,2,8],[10,0,10,10],[11,0,13,0],[11,1,13,1],[11,2,13,2],[11,3,11,4],[11,5,11,10],[12,3,12,4],[12,5,12,6],[12,7,12,8],[12,9,12,10],[32,0,32,10],[33,0,35,0],[33,1,35,1],[33,2,35,2],[33,3,34,4],[33,5,33,10],[34,5,34,6],[34,7,34,8],[34,9,34,10],[43,3,43,5],[44,3,44,5],[45,0,45,9]]}
["辽宁省"]
["序号","企业名称","注册地址","2016年产品产量\n单位:吨",null,"2016年产品可比综合电耗(单位:千瓦时/吨）"]
[{"$nulls":3},"熟料","水泥","水泥生产线",null,"水泥熟料生产线"]
[{"$nulls":5},"可比综合电耗","投产时间","可比综合电耗","投产时间"]
[1,"辽宁恒威水泥集团有限公司","文圣区罗大台镇陆甲村",1441866,1990201.59,75.48,"1#2005 2#2012",58.69]
[2,"辽宁千山水泥有限公司","文圣区小屯镇",1005700,887600,66.11,"1905-06-03",52.32,"1#2011 2#2008"]
[3,"辽阳天瑞水泥有限公司","文圣区高山街9号",1813030.41,1704803.87,61.44,"1#2009 2#2011",74.9]
[4,"辽宁富山水泥有限公司","灯塔市西大窑镇上缸窑村",1054800,476300,74.11,"1905-07-07",61.74,2009.8]
[5,"台泥（辽宁）水泥有限公司","灯塔市西大窑镇 ",819458,1074774,63.46,"0905-7-2",73.42,2010.7]
[6,"辽宁银盛水泥集团有限公司","灯塔市铧子镇张海村",1153681,1378412,63.05,"1#2008 2#2013",75.15]
["辽阳市"]
["序号","企业名称","注册地址","2016年产品产量　",null,"2016年产品可比综合电耗（单位：千瓦时/吨）"]
[{"$nulls":3},"（单位：吨）",null,"水泥生产线",null,"水泥熟料生产线",null,"水泥粉磨站"]
[{"$nulls":3},"熟料","水泥","可比综合电耗　","投产时间","可比综合电耗","投产时间","可比综合电耗","投产时间"]
[1,"辽阳冀东水泥有限公司","文圣区罗大台镇青峰村",404954.31,{"$nulls":3},62.79,"2003.6.26"]
[2,"辽阳天瑞辽塔水泥有限公司","文圣区罗大台镇前沙浒村",578320.1,455768,73.81,"2007.7.24",60.85,"2007.7.24"]
[3,"辽阳市东京陵水泥总厂","文圣区东京陵乡稠井子村",null,215126.3,{"$nulls":4},38.81,"2003.3.11"]
[4,"辽阳铁达水泥有限公司","文圣区小屯镇东双庙村",null,12758.84,{"$nulls":4},38.27,"2007.7.31"]
[5,"辽阳天瑞威企水泥有限公司","文圣区罗大台镇杨家村",null,363727.41,{"$nulls":4},36.66,"2006.6.22"]
[6,"灯塔市隆盛达水泥有限公司","灯塔市铧子镇灰窑村",null,349361,{"$nulls":4},38.25,"2004.3.16"]
[7,"灯塔鸿欣水泥有限公司","灯塔市铧子镇灰窑村",null,0,{"$nulls":4},"-","-"]
[8,"灯塔市塔东水泥有限公司","灯塔市铧子镇灰窑村",null,171928,{"$nulls":4},37.88,"2003.12.8"]
[9,"辽阳天宇水泥有限公司","灯塔市铧子镇花家",null,0,{"$nulls":4},"-","-"]
[10,"灯塔市鸿昌水泥有限公司","灯塔市铧子镇栈道村",null,174203,{"$nulls":4},38.15,"2006.8.29"]
[11,"辽阳市塔山水泥有限公司","灯塔市西大窑镇西大窑村",null,0,{"$nulls":4},"-","-"]
[12,"辽宁大鹰水泥集团辽阳诚信水泥有限公司","灯塔市大河南镇大河南村",null,577947,{"$nulls":4},38.87,"2004.5.13"]
[13,"辽阳天瑞诚兴水泥有限公司","灯塔市张台子镇",null,315389,{"$nulls":4},38.56,"2006.5.18"]
[14,"吉林亚泰集团辽阳水泥有限公司","灯塔市沈旦堡镇头台子村",null,297119,{"$nulls":4},38.94,"2009.8.18"]
[15,"辽宁鸿河集团盛兴水泥有限公司","文圣区小屯镇东前进村",null,25650,{"$nulls":4},38.06,"2002.6.18"]
[16,"辽宁辽东水泥集团有限公司","灯塔市罗大台镇新洪家村",null,0,{"$nulls":4},"-","-"]
[17,"灯塔市铧禹水泥厂","灯塔市铧子镇花家",null,0,{"$nulls":4},"-","-"]
[18,"辽阳金仓水泥有限公司","灯塔市罗大台镇罗大台村",null,0,{"$nulls":4},"-","-"]
["鞍山市"]
["序号","企业名称","注册地址","2016年产品产量（单位：吨）",null,"2016年产品可比综合电耗（单位：千瓦时/吨）"]
[{"$nulls":5},"水泥生产线",null,"水泥熟料生产线",null,"水泥粉磨站"]
[{"$nulls":3},"熟料","水泥","可比综合电耗","投产时间","可比综合电耗","投产时间","可比综合电耗","投产时间"]
[1,"鞍山建华水泥制造有限公司","岫岩县兴隆办事处兴隆村",null,64990,{"$nulls":4},39.27,2011.07]
[2,"鞍山市英台建筑材料有限公司","海城市望台镇望台村",null,226000,{"$nulls":4},36.18,1999.03]
[3,"后英集团海城建筑材料有限公司","海城市大屯镇丑家沟村",null,219819,{"$nulls":4},38.66,2010.07]
[4,"海城市第一水泥有限公司","海城市毛祁镇小河村",384894.94,357252.65,61.97,2012.6]
[5,"海城市第四水泥有限公司","海城市响堂管理区荒岭村",null,142580,{"$nulls":4},39.66,2007.7]
[6,"鞍山老虎水泥有限公司","鞍山市千山区达道湾镇邢阳气村",null,53616,{"$nulls":4},39.56,2010.1]
[7,"鞍山钢都微粉有限公司"," 鞍山千山区大屯镇",null,408006,{"$nulls":4},38.79,"2008-06-01"]
[8,"岫岩满族自治县赛雪白水泥有限公司","鞍山市岫岩县清凉山镇马阳村","2010年后停产",null,null,"1993年",{"$nulls":3},"    "]
[9,"鞍山钢铁集团公司矿渣开发公司"," 鞍钢厂区院内","只生产矿渣微粉，不生产水泥",{"$nulls":6},"2002年"]
["注：冀东水泥由省节能监察中心直接报省工信委"]